Workbook
Name ib: Documentos_Técnicos!#REF!

Sheet Hoja4

Sheet Hoja2

Sheet Hoja3

Sheet Proponentes
A1: No. | B1: NOMBRE DEL PROPONENTE | C1: REPRESENTANTE LEGAL | D1: INTEGRANTES | E1: NIT. INTEGRANTE | F1: % DE PARTICIPACIÓN | G1: # grupos | H1: GRUPOS AL QUE SE PRESENTAN | J1: REVISAR NIT REPETIDO
A2: 1 | B2: UNIÓN TEMPORAL L&W | D2: SEGURIDAD LASER LTDA. | E2: 800.068.707-3 | F2: 0.5 | G2: 1 | H2: x | J2: =COUNTIF(E:E,E2) -> 1 | M2: =IF(H2="X",L2,0) -> 0 | S2: 8
D3: WEST ARMY SECURITY LTDA | E3: 830.069.989-7 | F3: 0.5 | G3: 2 | J3: =COUNTIF(E:E,E3) -> 1 | M3: =IF(H3="X",L3,0) -> 0 | S3: 11
G4: 3 | J4: =COUNTIF(E:E,E4) -> 0 | M4: =IF(H4="X",L4,0) -> 0 | S4: 4
G5: 4 | J5: =COUNTIF(E:E,E5) -> 0 | M5: =IF(H5="X",L5,0) -> 0 | S5: 8
G6: 5 | J6: =COUNTIF(E:E,E6) -> 0 | M6: =IF(H6="X",L6,0) -> 0 | S6: 14
G7: 6 | J7: =COUNTIF(E:E,E7) -> 0 | M7: =IF(H7="X",L7,0) -> 0 | S7: 5
G8: 7 | J8: =COUNTIF(E:E,E8) -> 0 | M8: =IF(H8="X",L8,0) -> 0 | S8: 9
G9: 8 | H9: x | J9: =COUNTIF(E:E,E9) -> 0 | M9: =IF(H9="X",L9,0) -> 0 | S9: 5
G10: 9 | J10: =COUNTIF(E:E,E10) -> 0 | M10: =IF(H10="X",L10,0) -> 0 | S10: 4
G11: 10 | J11: =COUNTIF(E:E,E11) -> 0 | M11: =IF(H11="X",L11,0) -> 0 | S11: 7
G12: 11 | J12: =COUNTIF(E:E,E12) -> 0 | M12: =IF(H12="X",L12,0) -> 0 | S12: 11
G13: 12 | H13: x | J13: =COUNTIF(E:E,E13) -> 0 | M13: =IF(H13="X",L13,0) -> 0 | S13: 0
J14: =COUNTIF(E:E,E14) -> 0
A15: 2 | B15: UNION TEMPORAL S4 | D15: SEGURIDAD ATEMPI LTDA | E15: 860.074.752-8 | F15: 0.47 | G15: 1 | H15: X | J15: =COUNTIF(E:E,E15) -> 1 | M15: =IF(H15="X",L15,0) -> 0
D16: AUTENTICA SEGURIDAD LTDA | E16: 800.138.597-0 | F16: 0.015 | G16: 2 | J16: =COUNTIF(E:E,E16) -> 1 | L16: =F16*Experiencia_Proponente!H33 -> 2.307721e+09 | M16: =IF(H16="X",L16,0) -> 0
D17: ISVI LTDA | E17: 860.401.191-1 | F17: 0.47 | G17: 3 | H17: X | J17: =COUNTIF(E:E,E17) -> 1 | M17: =IF(H17="X",L17,0) -> 0
D18: COMPAÑIA DE SEGURIDAD NACIONAL COMSENAL LTDA | E18: 860.518.504-5 | F18: 0.045 | G18: 4 | J18: =COUNTIF(E:E,E18) -> 1 | M18: =IF(H18="X",L18,0) -> 0
G19: 5 | J19: =COUNTIF(E:E,E19) -> 0 | M19: =IF(H19="X",L19,0) -> 0
G20: 6 | H20: X | J20: =COUNTIF(E:E,E20) -> 0 | M20: =IF(H20="X",L20,0) -> 0
G21: 7 | H21: X | J21: =COUNTIF(E:E,E21) -> 0 | M21: =IF(H21="X",L21,0) -> 0
G22: 8 | H22: X | J22: =COUNTIF(E:E,E22) -> 0 | M22: =IF(H22="X",L22,0) -> 0
G23: 9 | H23: X | J23: =COUNTIF(E:E,E23) -> 0 | M23: =IF(H23="X",L23,0) -> 0
G24: 10 | H24: X | J24: =COUNTIF(E:E,E24) -> 0 | M24: =IF(H24="X",L24,0) -> 0
G25: 11 | J25: =COUNTIF(E:E,E25) -> 0 | M25: =IF(H25="X",L25,0) -> 0
G26: 12 | J26: =COUNTIF(E:E,E26) -> 0 | M26: =IF(H26="X",L26,0) -> 0
J27: =COUNTIF(E:E,E27) -> 0
A28: 3 | B28: SEGURIDAD NUEVA ERA LTDA | D28: SEGURIDAD NUEVA ERA LTDA | E28: 830.070.625-3 | F28: 1 | G28: 1 | J28: =COUNTIF(E:E,E28) -> 1 | M28: =IF(H28="X",L28,0) -> 0
G29: 2 | H29: X | J29: =COUNTIF(E:E,E29) -> 0 | M29: =IF(H29="X",L29,0) -> 0
G30: 3 | J30: =COUNTIF(E:E,E30) -> 0 | M30: =IF(H30="X",L30,0) -> 0
G31: 4 | J31: =COUNTIF(E:E,E31) -> 0 | M31: =IF(H31="X",L31,0) -> 0
G32: 5 | J32: =COUNTIF(E:E,E32) -> 0 | M32: =IF(H32="X",L32,0) -> 0
G33: 6 | J33: =COUNTIF(E:E,E33) -> 0 | M33: =IF(H33="X",L33,0) -> 0
G34: 7 | J34: =COUNTIF(E:E,E34) -> 0 | M34: =IF(H34="X",L34,0) -> 0
G35: 8 | H35: X | J35: =COUNTIF(E:E,E35) -> 0 | M35: =IF(H35="X",L35,0) -> 0
G36: 9 | H36: X | J36: =COUNTIF(E:E,E36) -> 0 | M36: =IF(H36="X",L36,0) -> 0
G37: 10 | J37: =COUNTIF(E:E,E37) -> 0 | M37: =IF(H37="X",L37,0) -> 0
G38: 11 | J38: =COUNTIF(E:E,E38) -> 0 | M38: =IF(H38="X",L38,0) -> 0
G39: 12 | H39: X | J39: =COUNTIF(E:E,E39) -> 0 | M39: =IF(H39="X",L39,0) -> 0
J40: =COUNTIF(E:E,E40) -> 0
...

Sheet Experiencia_Proponente
AB1: OBSERVACIONES INDIVIDUALES EXPERIENCIA | AN1: VALOR LICITIACION 2021
AN2: GRUPO | AO2: TOTAL | AQ2: AÑO | AR2: SMMLV
AN3: 1 | AO3: 20036397801 | AQ3: 2011 | AR3: 535600
AN4: 2 | AO4: 17613055238 | AQ4: 2012 | AR4: 566700
AN5: 3 | AO5: 22660325900 | AQ5: 2013 | AR5: 589500
AN6: 4 | AO6: 32291205642 | AQ6: 2014 | AR6: 616000
Y7: NO INCLUIDA | AN7: 5 | AO7: 31011375408 | AQ7: 2015 | AR7: 644350
Y8: NO APARECE CÓDIGO | AN8: 6 | AO8: 26104086008 | AQ8: 2016 | AR8: 689455
Y9: NO COINCIDE CÓDIGO | AN9: 7 | AO9: 34957158037 | AQ9: 2017 | AR9: 737717
Y10: NO COINCIDE SALARIOS | AN10: 8 | AO10: 19803878581 | AQ10: 2018 | AR10: 781242
AN11: 9 | AO11: 24629524096 | AQ11: 2019 | AR11: 828116
AN12: 10 | AO12: 25460574021 | AQ12: 2020 | AR12: 877803
AN13: 11 | AO13: 32820666236 | AQ13: 2021 | AR13: 908526
AN14: 12 | AO14: 8654253262
AN15: GRAN TOTAL | AO15: =SUM(AO3:AO14) -> 296042500230
Z16: =2201*AR13 -> 1999665726
P18: 40633 | Q18: 44286 | R18: NO CUMPLE | Z18: 1999665726 | AA18: NO CUMPLE | AD18: NO CUMPLE
A19: PROPONENTE | B19: No. de Grupos | C19: GRUPOS A LOS QUE SE PRESENTÓ | D19: GRUPOS EN LOS QUE ESTA HABILITADO | E19: VALOR TOTAL DEL GRUPO | F19: INTEGRANTES DEL PROPONENTE SI ES UT CONSORCIO U OTRO | G19: % DE PARTICIPACIÓN | H19: PRESUPUESTO OFICIAL PARA GRUPOS OFERTADOS | I19: EXPERIENCIA REQUERIDA POR PROPONENTE EXPRESADA EN SMMLV 2021 | J19: FOLIOS DE LA CERTIFICACIÓN | K19: CERTIFICACIÓN NÚMERO | L19: IDENTIFICACIÓN DEL CONTRATO (NOMBRE DEL CONTRATANTE Y No.) | M19: EMPRESA QUE APORTA LA EXPERIENCIA (Nombre) | N19: VERIFICACIÓN OBJETO SIMILAR | O19: % PARTICIPACION DEL CONTRATO ACREDITADO | P19: FECHA INICIO (31/03/2011) | Q19: FECHA FINAL (31/03/2021) | R19: VERIFICACIÓN CUMPLIMIENTO RANGO DE FECHAS | S19: PLAZO DE EJECUCIÓN EN MESES | T19: VALOR DEL CONTRATO EN PESOS COLOMBIANOS | U19: VALOR A TENER EN CUENTA PESOS COLOMBIANOS | V19: SMMLV (A LA FECHA DE INICIO DEL CONTRATO) | W19: SMMLV (A LA FECHA DE TERMINACION DEL CONTRATO) | X19: VALOR ACTUALIZADO CON SMMLV (2021) | Y19: VERIFICACION RUP (Contratante, Contratista, código UNSPSC y valor) | Z19: CUMPLE / NO CUMPLE CERTIFICACIÓN MÍNIMO A 2.201 SMMLV | AA19: VALIDACIÓN CERTIFICACIÓN INDIVIDUAL | AB19: OBSERVACIONES INDIVIDUALES EXPERIENCIA | AC19: TOTAL EXPERIENCIA APORTADA POR PROPONENTE EXPRESADA EN SMMLV 2020 | AD19: VALIDACIÓN DE EXPERIENCIA EN SMMLV 2021 | AE19: INTEGRANTE | AF19: VALOR EXPERIENCIA DE INTEGRANTE | AG19: VALIDACIÓN EXPERIENCIA INTEGRANTE | AH19: OBSERVACIONES INDIVIDUALES POR INTEGRANTE | AI19: CUMPLIMIENTO GENERAL EXPERIENCIA | AJ19: OBSERVACIONES GENERALES
A20: =A32 -> 1 | B20: 1 | C20: =IF(Proponentes!H2="X",Proponentes!B2,"") -> UNIÓN TEMPORAL L&W | D20: =C20 -> UNIÓN TEMPORAL L&W | E20: =IF(D20="","",$AO$3) -> 20036397801 | F20: =IF(Proponentes!D2>0,Proponentes!D2,"") -> SEGURIDAD LASER LTDA. | G20: =IF(Proponentes!F2>0,Proponentes!F2,"") -> 0.5 | H20: =SUM(E20:E31) -> 48494529644 | I20: =IF($F20>0,(G32*H20)/$AR$13,"") -> 53377.151 | J20: 2 | K20: 1 | L20: INVERSIONES DAMA SALUD S.A. CTO 010 DEL 2014. | M20: SEGURIDAD LASER LTDA. | N20: Cumple | O20: 1 | P20: 41883 | Q20: 42612 | R20: =IF(Q20<>"",IF(P20>0,IF(P20>=$P$18,IF(Q20<=$Q$18,"CUMPLE","NO CUMPLE"),"NO CUMPLE"),""),"") -> CUMPLE | S20: =IF(P20>0,ROUND(((YEAR(Q20)-YEAR($P20))*12)+(MONTH(Q20)-MONTH($P20))+((DAY(Q20)-DAY($P20)+1)/30),0),"") -> 24 | T20: 7531355117 | U20: =IF(T20>0,T20*O20,"") -> 7531355117 | V20: =IFERROR(U20/VLOOKUP(YEAR(P20),$AQ$2:$AR$11,2,FALSE),"") -> 12226.226 | W20: =IF(R20="CUMPLE",IFERROR(U20/VLOOKUP(YEAR(Q20),$AQ$3:$AR$13,2,FALSE),""),"") -> 10923.636 | X20: =IFERROR(W20*$AR$13,"") -> 9.9244069e+09 | Y20: INCLUIDA | Z20: =IF(T20>0,IF(X20>=$Z$18,"CUMPLE","NO CUMPLE"),"") -> CUMPLE | AA20: =IF(N20>0,IF(N20="CUMPLE",IF(R20="CUMPLE",IF(Y20="INCLUIDA",IF(Z20="CUMPLE","CUMPLE","NO CUMPLE"),"NO CUMPLE"),"NO CUMPLE"),"NO CUMPLE"),"") -> CUMPLE | AC20: =IF(F20>0,SUMIFS(W20:W31,AA20:AA31,"CUMPLE"),"") -> 64270.304 | AD20: =IF($F20>0,IF(AC20<I20,"NO CUMPLE","CUMPLE"),"") -> CUMPLE | AE20: =IF(F20<>"",F20,"") -> SEGURIDAD LASER LTDA. | AF20: =IF(AE20<>"",(SUMIFS($X19:$X30,$M19:$M30,F20,AA19:AA30,"CUMPLE")),"") -> 3.2528462e+10 | AG20: =IF(AF20<>"",IF(G20>0,(IF(AF20>=($G20*$H20),"CUMPLE","NO CUMPLE")),""),"") -> CUMPLE | AI20: =IF(AC20>=I20,IF((COUNTIF(AG20:AG23,"NO CUMPLE"))<1,"HABILITADO","RECHAZADO"),"RECHAZADO") -> HABILITADO
B21: 2 | C21: =IF(Proponentes!H3="X",Proponentes!B2,"") | D21: =C21 | E21: =IF(D21="","",$AO$4) | F21: =IF(Proponentes!D3>0,Proponentes!D3,"") -> WEST ARMY SECURITY LTDA | G21: =IF(Proponentes!F3>0,Proponentes!F3,"") -> 0.5 | J21: 3 | K21: 2 | L21: SECRETARIA DE EDUCACIÓN. CTO 2093 DEL 2014 | M21: SEGURIDAD LASER LTDA. | N21: Cumple | O21: 1 | P21: 41824 | Q21: 42159 | R21: =IF(Q21<>"",IF(P21>0,IF(P21>=$P$18,IF(Q21<=$Q$18,"CUMPLE","NO CUMPLE"),"NO CUMPLE"),""),"") -> CUMPLE | S21: =IF(P21>0,ROUND(((YEAR(Q21)-YEAR($P21))*12)+(MONTH(Q21)-MONTH($P21))+((DAY(Q21)-DAY($P21)+1)/30),0),"") -> 11 | T21: 3073555391 | U21: =IF(T21>0,T21*O21,"") -> 3073555391 | V21: =IFERROR(U21/VLOOKUP(YEAR(P21),$AQ$2:$AR$11,2,FALSE),"") -> 4989.538 | W21: =IF(R21="CUMPLE",IFERROR(U21/VLOOKUP(YEAR(Q21),$AQ$3:$AR$13,2,FALSE),""),"") -> 4770.0091 | X21: =IFERROR(W21*$AR$13,"") -> 4.3336773e+09 | Y21: INCLUIDA | Z21: =IF(T21>0,IF(X21>=$Z$18,"CUMPLE","NO CUMPLE"),"") -> CUMPLE | AA21: =IF(N21>0,IF(N21="CUMPLE",IF(R21="CUMPLE",IF(Y21="INCLUIDA",IF(Z21="CUMPLE","CUMPLE","NO CUMPLE"),"NO CUMPLE"),"NO CUMPLE"),"NO CUMPLE"),"") -> CUMPLE | AE21: =IF(F21<>"",F21,"") -> WEST ARMY SECURITY LTDA | AF21: =IF(AE21<>"",(SUMIFS($X20:$X31,$M20:$M31,F21,AA20:AA31,"CUMPLE")),"") -> 2.586278e+10 | AG21: =IF(AF21<>"",IF(G21>0,(IF(AF21>=($G21*$H20),"CUMPLE","NO CUMPLE")),""),"") -> CUMPLE
B22: 3 | C22: =IF(Proponentes!H4="X",Proponentes!B2,"") | D22: =C22 | E22: =IF(D22="","",$AO$5) | F22: =IF(Proponentes!D4>0,Proponentes!D4,"") | G22: =IF(Proponentes!F4>0,Proponentes!F4,"") | J22: 4 | K22: 3 | L22: SECRETARIA DE EDUCACIÓN. CTO 2094 DEL 2014 | M22: SEGURIDAD LASER LTDA. | N22: Cumple | O22: 1 | P22: 41824 | Q22: 42155 | R22: =IF(Q22<>"",IF(P22>0,IF(P22>=$P$18,IF(Q22<=$Q$18,"CUMPLE","NO CUMPLE"),"NO CUMPLE"),""),"") -> CUMPLE | S22: =IF(P22>0,ROUND(((YEAR(Q22)-YEAR($P22))*12)+(MONTH(Q22)-MONTH($P22))+((DAY(Q22)-DAY($P22)+1)/30),0),"") -> 11 | T22: 2353232066 | U22: =IF(T22>0,T22*O22,"") -> 2353232066 | V22: =IFERROR(U22/VLOOKUP(YEAR(P22),$AQ$2:$AR$11,2,FALSE),"") -> 3820.1819 | W22: =IF(R22="CUMPLE",IFERROR(U22/VLOOKUP(YEAR(Q22),$AQ$3:$AR$13,2,FALSE),""),"") -> 3652.1022 | X22: =IFERROR(W22*$AR$13,"") -> 3.3180298e+09 | Y22: INCLUIDA | Z22: =IF(T22>0,IF(X22>=$Z$18,"CUMPLE","NO CUMPLE"),"") -> CUMPLE | AA22: =IF(N22>0,IF(N22="CUMPLE",IF(R22="CUMPLE",IF(Y22="INCLUIDA",IF(Z22="CUMPLE","CUMPLE","NO CUMPLE"),"NO CUMPLE"),"NO CUMPLE"),"NO CUMPLE"),"") -> CUMPLE | AE22: =IF(F22<>"",F22,"") | AF22: =IF(AE22<>"",(SUMIFS($X20:$X30,$M20:$M30,F22,AA20:AA30,"CUMPLE")),"") | AG22: =IF(AF22<>"",IF(G22>0,(IF(AF22>=($G22*$H20),"CUMPLE","NO CUMPLE")),""),"")
B23: 4 | C23: =IF(Proponentes!H5="X",Proponentes!B2,"") | D23: =C23 | E23: =IF(D23="","",$AO$6) | F23: =IF(Proponentes!D5>0,Proponentes!D5,"") | G23: =IF(Proponentes!F5>0,Proponentes!F5,"") | J23: Subsanación | K23: 4 | L23: SECRETARIA DE EDUCACIÓN. CTO 378285 DEL 2018 | M23: SEGURIDAD LASER LTDA. | N23: Cumple | O23: 0.4 | P23: 43199 | Q23: 43563 | R23: =IF(Q23<>"",IF(P23>0,IF(P23>=$P$18,IF(Q23<=$Q$18,"CUMPLE","NO CUMPLE"),"NO CUMPLE"),""),"") -> CUMPLE | S23: =IF(P23>0,ROUND(((YEAR(Q23)-YEAR($P23))*12)+(MONTH(Q23)-MONTH($P23))+((DAY(Q23)-DAY($P23)+1)/30),0),"") -> 12 | T23: 8717402470 | U23: =IF(T23>0,T23*O23,"") -> 3486960988 | V23: =IFERROR(U23/VLOOKUP(YEAR(P23),$AQ$2:$AR$11,2,FALSE),"") -> 4463.3558 | W23: =IF(R23="CUMPLE",IFERROR(U23/VLOOKUP(YEAR(Q23),$AQ$3:$AR$13,2,FALSE),""),"") -> 4210.7156 | X23: =IFERROR(W23*$AR$13,"") -> 3.8255446e+09 | Y23: INCLUIDA | Z23: =IF(T23>0,IF(X23>=$Z$18,"CUMPLE","NO CUMPLE"),"") -> CUMPLE | AA23: =IF(N23>0,IF(N23="CUMPLE",IF(R23="CUMPLE",IF(Y23="INCLUIDA",IF(Z23="CUMPLE","CUMPLE","NO CUMPLE"),"NO CUMPLE"),"NO CUMPLE"),"NO CUMPLE"),"") -> CUMPLE | AE23: =IF(F23<>"",F23,"") | AF23: =IF(AE23<>"",(SUMIFS($X20:$X30,$M20:$M30,F23,AA20:AA30,"CUMPLE")),"") | AG23: =IF(AF23<>"",IF(G23>0,(IF(AF23>=($G23*$H20),"CUMPLE","NO CUMPLE")),""),"")
B24: 5 | C24: =IF(Proponentes!H6="X",Proponentes!$B$2,"") | D24: =C24 | E24: =IF(D24="","",$AO$7) | F24: =IF(Proponentes!D6>0,Proponentes!D6,"") | G24: =IF(Proponentes!F6>0,Proponentes!F6,"") | K24: 5 | L24: SECRETARIA DISTRITAL DE INTEGRACIÓN SOCIAL. CTO 5692 DEL 2017 | M24: SEGURIDAD LASER LTDA. | N24: Cumple | O24: 0.34 | P24: 42826 | Q24: 43966 | R24: =IF(Q24<>"",IF(P24>0,IF(P24>=$P$18,IF(Q24<=$Q$18,"CUMPLE","NO CUMPLE"),"NO CUMPLE"),""),"") -> CUMPLE | S24: =IF(P24>0,ROUND(((YEAR(Q24)-YEAR($P24))*12)+(MONTH(Q24)-MONTH($P24))+((DAY(Q24)-DAY($P24)+1)/30),0),"") -> 38 | T24: 31619224569 | U24: =IF(T24>0,T24*O24,"") -> 1.0750536e+10 | V24: =IFERROR(U24/VLOOKUP(YEAR(P24),$AQ$2:$AR$11,2,FALSE),"") -> 14572.711 | W24: =IF(R24="CUMPLE",IFERROR(U24/VLOOKUP(YEAR(Q24),$AQ$3:$AR$13,2,FALSE),""),"") -> 12247.095 | X24: =IFERROR(W24*$AR$13,"") -> 1.1126804e+10 | Y24: INCLUIDA | Z24: =IF(T24>0,IF(X24>=$Z$18,"CUMPLE","NO CUMPLE"),"") -> CUMPLE | AA24: =IF(N24>0,IF(N24="CUMPLE",IF(R24="CUMPLE",IF(Y24="INCLUIDA",IF(Z24="CUMPLE","CUMPLE","NO CUMPLE"),"NO CUMPLE"),"NO CUMPLE"),"NO CUMPLE"),"") -> CUMPLE | AE24: =IF(F24<>"",F24,"") | AF24: =IF(AE24<>"",(SUMIFS($X24:$X32,$M24:$M32,F24,AA24:AA32,"CUMPLE")),"") | AG24: =IF(AF24<>"",IF(G24>0,(IF(AF24>=($G24*$H20),"CUMPLE","NO CUMPLE")),""),"")
B25: 6 | C25: =IF(Proponentes!H7="X",Proponentes!$B$2,"") | D25: =C25 | E25: =IF(D25="","",$AO$8) | F25: =IF(Proponentes!D7>0,Proponentes!D7,"") | G25: =IF(Proponentes!F7>0,Proponentes!F7,"") | J25: 39 Y 40 | K25: 6 | L25: CONSORCIO CONSTRUCTORA RUTA DEL SOL - CONSOL CTO EPC - SC 351 DEL 2014 | M25: WEST ARMY SECURITY LTDA | N25: Cumple | O25: 1 | P25: 41659 | Q25: 42794 | R25: =IF(Q25<>"",IF(P25>0,IF(P25>=$P$18,IF(Q25<=$Q$18,"CUMPLE","NO CUMPLE"),"NO CUMPLE"),""),"") -> CUMPLE | S25: =IF(P25>0,ROUND(((YEAR(Q25)-YEAR($P25))*12)+(MONTH(Q25)-MONTH($P25))+((DAY(Q25)-DAY($P25)+1)/30),0),"") -> 37 | T25: 8635263539 | U25: =IF(T25>0,T25*O25,"") -> 8635263539 | V25: =IFERROR(U25/VLOOKUP(YEAR(P25),$AQ$2:$AR$11,2,FALSE),"") -> 14018.285 | W25: =IF(R25="CUMPLE",IFERROR(U25/VLOOKUP(YEAR(Q25),$AQ$3:$AR$13,2,FALSE),""),"") -> 11705.388 | X25: =IFERROR(W25*$AR$13,"") -> 1.0634649e+10 | Y25: INCLUIDA | Z25: =IF(T25>0,IF(X25>=$Z$18,"CUMPLE","NO CUMPLE"),"") -> CUMPLE | AA25: =IF(N25>0,IF(N25="CUMPLE",IF(R25="CUMPLE",IF(Y25="INCLUIDA",IF(Z25="CUMPLE","CUMPLE","NO CUMPLE"),"NO CUMPLE"),"NO CUMPLE"),"NO CUMPLE"),"") -> CUMPLE | AE25: =IF(F25<>"",F25,"") | AF25: =IF(AE25<>"",(SUMIFS($X25:$X32,$M25:$M32,F25,AA25:AA32,"CUMPLE")),"") | AG25: =IF(AF25<>"",IF(G25>0,(IF(AF25>=($G25*$H20),"CUMPLE","NO CUMPLE")),""),"")
B26: 7 | C26: =IF(Proponentes!H8="X",Proponentes!$B$2,"") | D26: =C26 | E26: =IF(D26="","",$AO$9) | F26: =IF(Proponentes!D8>0,Proponentes!D8,"") | G26: =IF(Proponentes!F8>0,Proponentes!F8,"") | J26: 43 | K26: 7 | L26: CAJA DE RETIRO DE LAS FUERZAS MILITARES CREMIL. CTO 001 DEL 2017 | M26: WEST ARMY SECURITY LTDA | N26: Cumple | O26: 1 | P26: 42887 | Q26: 43434 | R26: =IF(Q26<>"",IF(P26>0,IF(P26>=$P$18,IF(Q26<=$Q$18,"CUMPLE","NO CUMPLE"),"NO CUMPLE"),""),"") -> CUMPLE | S26: =IF(P26>0,ROUND(((YEAR(Q26)-YEAR($P26))*12)+(MONTH(Q26)-MONTH($P26))+((DAY(Q26)-DAY($P26)+1)/30),0),"") -> 18 | T26: 1722221004 | U26: =IF(T26>0,T26*O26,"") -> 1722221004 | V26: =IFERROR(U26/VLOOKUP(YEAR(P26),$AQ$2:$AR$11,2,FALSE),"") -> 2334.528 | W26: =IF(R26="CUMPLE",IFERROR(U26/VLOOKUP(YEAR(Q26),$AQ$3:$AR$13,2,FALSE),""),"") -> 2204.4655 | X26: =IFERROR(W26*$AR$13,"") -> 2.0028142e+09 | Y26: INCLUIDA | Z26: =IF(T26>0,IF(X26>=$Z$18,"CUMPLE","NO CUMPLE"),"") -> CUMPLE | AA26: =IF(N26>0,IF(N26="CUMPLE",IF(R26="CUMPLE",IF(Y26="INCLUIDA",IF(Z26="CUMPLE","CUMPLE","NO CUMPLE"),"NO CUMPLE"),"NO CUMPLE"),"NO CUMPLE"),"") -> CUMPLE | AE26: =IF(F26<>"",F26,"") | AF26: =IF(AE26<>"",(SUMIFS($X26:$X32,$M26:$M32,F26,AA26:AA32,"CUMPLE")),"") | AG26: =IF(AF26<>"",IF(G26>0,(IF(AF26>=($G26*$H20),"CUMPLE","NO CUMPLE")),""),"")
B27: 8 | C27: =IF(Proponentes!H9="X",Proponentes!$B$2,"") -> UNIÓN TEMPORAL L&W | D27: =C27 -> UNIÓN TEMPORAL L&W | E27: =IF(D27="","",$AO$10) -> 19803878581 | J27: 43 | K27: 8 | L27: LATINOAMERICANA DE CONSTRUCCIÓNES LATINCO S.A. | M27: WEST ARMY SECURITY LTDA | N27: Cumple | O27: 1 | P27: 42102 | Q27: 43077 | R27: =IF(Q27<>"",IF(P27>0,IF(P27>=$P$18,IF(Q27<=$Q$18,"CUMPLE","NO CUMPLE"),"NO CUMPLE"),""),"") -> CUMPLE | T27: 2530842353 | U27: =IF(T27>0,T27*O27,"") -> 2530842353 | W27: =IF(R27="CUMPLE",IFERROR(U27/VLOOKUP(YEAR(Q27),$AQ$3:$AR$13,2,FALSE),""),"") -> 3430.6412 | X27: =IFERROR(W27*$AR$13,"") -> 3.1168268e+09 | Y27: INCLUIDA | Z27: =IF(T27>0,IF(X27>=$Z$18,"CUMPLE","NO CUMPLE"),"") -> CUMPLE | AA27: =IF(N27>0,IF(N27="CUMPLE",IF(R27="CUMPLE",IF(Y27="INCLUIDA",IF(Z27="CUMPLE","CUMPLE","NO CUMPLE"),"NO CUMPLE"),"NO CUMPLE"),"NO CUMPLE"),"") -> CUMPLE | AG27: =IF(AF27<>"",IF(G27>0,(IF(AF27>=($G27*$H20),"CUMPLE","NO CUMPLE")),""),"")
B28: 9 | C28: =IF(Proponentes!H10="X",Proponentes!$B$2,"") | D28: =C28 | E28: =IF(D28="","",$AO$11) | J28: 44 - 45 | K28: 9 | L28: CONSORCIO CONSTRUCTORA RUTA DEL SOL - CONSOL | M28: WEST ARMY SECURITY LTDA | N28: Cumple | O28: 1 | P28: 42755 | Q28: 43982 | R28: =IF(Q28<>"",IF(P28>0,IF(P28>=$P$18,IF(Q28<=$Q$18,"CUMPLE","NO CUMPLE"),"NO CUMPLE"),""),"") -> CUMPLE | T28: 9766657770 | U28: =IF(T28>0,T28*O28,"") -> 9766657770 | W28: =IF(R28="CUMPLE",IFERROR(U28/VLOOKUP(YEAR(Q28),$AQ$3:$AR$13,2,FALSE),""),"") -> 11126.252 | X28: =IFERROR(W28*$AR$13,"") -> 1.010849e+10 | Y28: INCLUIDA | Z28: =IF(T28>0,IF(X28>=$Z$18,"CUMPLE","NO CUMPLE"),"") -> CUMPLE | AA28: =IF(N28>0,IF(N28="CUMPLE",IF(R28="CUMPLE",IF(Y28="INCLUIDA",IF(Z28="CUMPLE","CUMPLE","NO CUMPLE"),"NO CUMPLE"),"NO CUMPLE"),"NO CUMPLE"),"") -> CUMPLE | AG28: =IF(AF28<>"",IF(G28>0,(IF(AF28>=($G28*$H20),"CUMPLE","NO CUMPLE")),""),"")
B29: 10 | C29: =IF(Proponentes!H11="X",Proponentes!$B$2,"") | D29: =C29 | E29: =IF(D29="","",$AO$12) | R29: =IF(Q29<>"",IF(P29>0,IF(P29>=$P$18,IF(Q29<=$Q$18,"CUMPLE","NO CUMPLE"),"NO CUMPLE"),""),"") | U29: =IF(T29>0,T29*O29,"") | W29: =IF(R29="CUMPLE",IFERROR(U29/VLOOKUP(YEAR(Q29),$AQ$3:$AR$13,2,FALSE),""),"") | X29: =IFERROR(W29*$AR$13,"") | Z29: =IF(T29>0,IF(X29>=$Z$18,"CUMPLE","NO CUMPLE"),"") | AA29: =IF(N29>0,IF(N29="CUMPLE",IF(R29="CUMPLE",IF(Y29="INCLUIDA",IF(Z29="CUMPLE","CUMPLE","NO CUMPLE"),"NO CUMPLE"),"NO CUMPLE"),"NO CUMPLE"),"") | AG29: =IF(AF29<>"",IF(G29>0,(IF(AF29>=($G29*$H20),"CUMPLE","NO CUMPLE")),""),"")
B30: 11 | C30: =IF(Proponentes!H12="X",Proponentes!$B$2,"") | D30: =C30 | E30: =IF(D30="","",$AO$13) | F30: =IF(Proponentes!D12>0,Proponentes!D12,"") | G30: =IF(Proponentes!F12>0,Proponentes!F12,"") | R30: =IF(Q30<>"",IF(P30>0,IF(P30>=$P$18,IF(Q30<=$Q$18,"CUMPLE","NO CUMPLE"),"NO CUMPLE"),""),"") | S30: =IF(P30>0,ROUND(((YEAR(Q30)-YEAR($P30))*12)+(MONTH(Q30)-MONTH($P30))+((DAY(Q30)-DAY($P30)+1)/30),0),"") | U30: =IF(T30>0,T30*O30,"") | V30: =IFERROR(U30/VLOOKUP(YEAR(P30),$AQ$2:$AR$11,2,FALSE),"") | W30: =IF(R30="CUMPLE",IFERROR(U30/VLOOKUP(YEAR(Q30),$AQ$3:$AR$13,2,FALSE),""),"") | X30: =IFERROR(W30*$AR$13,"") | Z30: =IF(T30>0,IF(X30>=$Z$18,"CUMPLE","NO CUMPLE"),"") | AA30: =IF(N30>0,IF(N30="CUMPLE",IF(R30="CUMPLE",IF(Y30="INCLUIDA",IF(Z30="CUMPLE","CUMPLE","NO CUMPLE"),"NO CUMPLE"),"NO CUMPLE"),"NO CUMPLE"),"") | AE30: =IF(F30<>"",F30,"") | AF30: =IF(AE30<>"",(SUMIFS($X30:$X32,$M30:$M32,F30,AA30:AA32,"CUMPLE")),"") | AG30: =IF(AF30<>"",IF(G30>0,(IF(AF30>=($G30*$H20),"CUMPLE","NO CUMPLE")),""),"")
B31: 12 | C31: =IF(Proponentes!H13="X",Proponentes!$B$2,"") -> UNIÓN TEMPORAL L&W | D31: =C31 -> UNIÓN TEMPORAL L&W | E31: =IF(D31="","",$AO$14) -> 8654253262 | F31: =IF(Proponentes!D13>0,Proponentes!D13,"") | G31: =IF(Proponentes!F13>0,Proponentes!F13,"") | R31: =IF(Q31<>"",IF(P31>0,IF(P31>=$P$18,IF(Q31<=$Q$18,"CUMPLE","NO CUMPLE"),"NO CUMPLE"),""),"") | S31: =IF(P31>0,ROUND(((YEAR(Q31)-YEAR($P31))*12)+(MONTH(Q31)-MONTH($P31))+((DAY(Q31)-DAY($P31)+1)/30),0),"") | U31: =IF(T31>0,T31*O31,"") | V31: =IFERROR(U31/VLOOKUP(YEAR(P31),$AQ$2:$AR$11,2,FALSE),"") | W31: =IF(R31="CUMPLE",IFERROR(U31/VLOOKUP(YEAR(Q31),$AQ$3:$AR$13,2,FALSE),""),"") | X31: =IFERROR(W31*$AR$13,"") | Z31: =IF(T31>0,IF(X31>=$Z$18,"CUMPLE","NO CUMPLE"),"") | AA31: =IF(N31>0,IF(N31="CUMPLE",IF(R31="CUMPLE",IF(Y31="INCLUIDA",IF(Z31="CUMPLE","CUMPLE","NO CUMPLE"),"NO CUMPLE"),"NO CUMPLE"),"NO CUMPLE"),"") | AE31: =IF(F31<>"",F31,"") | AF31: =IF(AE31<>"",(SUMIFS($X31:$X32,$M31:$M32,F31,AA31:AA32,"CUMPLE")),"") | AG31: =IF(AF31<>"",IF(G31>0,(IF(AF31>=($G31*$H20),"CUMPLE","NO CUMPLE")),""),"")
A32: 1 | D32: TOTAL | E32: =SUM(E20:E31) -> 48494529644 | G32: =IF((SUM(G20:G31))>1,"ERROR > 100%",SUM(G20:G31)) -> 1 | H32: =SUM(H20:H31) -> 48494529644 | I32: =SUM(I20:I31) -> 53377.151 | R32: =COUNTIF(R20:R31,"NO CUMPLE") -> 0 | S32: =SUM(S20:S31) -> 151 | U32: =SUM(U20:U31) -> 4.9850625e+10 | V32: =SUM(V20:V31) -> 56424.825 | W32: =SUM(W20:W31) -> 64270.304 | X32: =SUM(X20:X31) -> 5.8391242e+10 | AD32: =COUNTIF(AD20:AD31,"NO CUMPLE") -> 0
A33: =A50 -> 2 | B33: 1 | C33: =IF(Proponentes!H15="X",Proponentes!$B$15,"") -> UNION TEMPORAL S4 | D33: =C33 -> UNION TEMPORAL S4 | E33: =IF(D33="","",$AO$3) -> 20036397801 | F33: =IF(Proponentes!D15>0,Proponentes!D15,"") -> SEGURIDAD ATEMPI LTDA | G33: =IF(Proponentes!F15>0,Proponentes!F15,"") -> 0.47 | H33: =SUM(E33:E49) -> 153848065863 | I33: =IF($F33>0,(G50*H33)/$AR$13,"") -> 169338.1 | J33: 1 | K33: 1 | L33: FISCALIA GENERAL DE LA NACION - SUBDIRECCION DE APOYO A LA GESTION DE ANTIOQUIA CTO 120 DEL 2014 | M33: SEGURIDAD ATEMPI LTDA | N33: Cumple | O33: 0.8 | P33: 41971 | Q33: 42855 | R33: =IF(Q33<>"",IF(P33>0,IF(P33>=$P$18,IF(Q33<=$Q$18,"CUMPLE","NO CUMPLE"),"NO CUMPLE"),""),"") -> CUMPLE | S33: =IF(P33>0,ROUND(((YEAR(Q33)-YEAR($P33))*12)+(MONTH(Q33)-MONTH($P33))+((DAY(Q33)-DAY($P33)+1)/30),0),"") -> 29 | T33: 9379529751 | U33: =IF(T33>0,T33*O33,"") -> 7.5036238e+09 | V33: =IFERROR(U33/VLOOKUP(YEAR(P33),$AQ$2:$AR$11,2,FALSE),"") -> 12181.207 | W33: =IF(R33="CUMPLE",IFERROR(U33/VLOOKUP(YEAR(Q33),$AQ$3:$AR$13,2,FALSE),""),"") -> 10171.412 | X33: =IFERROR(W33*$AR$13,"") -> 9.2409926e+09 | Y33: INCLUIDA | Z33: =IF(T33>0,IF(X33>=$Z$18,"CUMPLE","NO CUMPLE"),"") -> CUMPLE | AA33: =IF(N33>0,IF(N33="CUMPLE",IF(R33="CUMPLE",IF(Y33="INCLUIDA",IF(Z33="CUMPLE","CUMPLE","NO CUMPLE"),"NO CUMPLE"),"NO CUMPLE"),"NO CUMPLE"),"") -> CUMPLE | AC33: =IF(F33>0,SUMIFS(W33:W49,AA33:AA49,"CUMPLE"),"") -> 250950 | AD33: =IF($F33>0,IF(AC33<I33,"NO CUMPLE","CUMPLE"),"") -> CUMPLE | AE33: =IF(F33<>"",F33,"") -> SEGURIDAD ATEMPI LTDA | AF33: =IF(AE33<>"",(SUMIFS($X33:$X49,$M33:$M49,F33,AA33:AA49,"CUMPLE")),"") -> 9.1330398e+10 | AG33: =IF(AF33<>"",IF(G33>0,(IF(AF33>=($G33*$H33),"CUMPLE","NO CUMPLE")),""),"") -> CUMPLE | AI33: =IF(AC33>I33,IF((COUNTIF(AG33:AG43,"NO CUMPLE"))<1,"HABILITADO","RECHAZADO"),"") -> HABILITADO | AJ33: EL COMITÉ TÉCNICO EVALUADOR SEÑALA QUE PROCEDERÁ A DESCONTAR AQUELLOS GRUPOS A LOS CUALES EL PROPONENTE NO PUEDA ACREDITAR LA TOTALIDAD DE LA EXPERIENCIA REQUERIDA, ATENDIENDO LO ESTABLECIDO EN EL NUMERAL 4.5.1.1. REGLAS PARA LA VALORACIÓN DE LA EXPERIENCIA EN ESPECIAL LA NOTA 7 QUE SEÑALA; “NOTA 7: EN EL EVENTO EN QUE EL PROPONENTE PRESENTE OFERTA (YA SEA COMO INTEGRANTE DE UN PROPONENTE PLURAL O INDIVIDUAL) PARA LOS DIFERENTES GRUPOS, Y ÉSTE NO ACREDITE LA EXPERIENCIA SOLICITADA PARA LA TOTALIDAD DE LOS GRUPOS A LOS QUE OFERTÓ (INDEPENDIENTEMENTE DE SU FORMA DE PARTICIPACIÓN EN EL PROCESO), SE DESCONTARÁ EL GRUPO O LOS GRUPOS DE MENOR PRESUPUESTO, HASTA VERIFICAR QUE CUMPLA CON LA EXPERIENCIA SOLICITADA PARA EL GRUPO O GRUPOS A LOS QUE SU EXPERIENCIA LE PERMITAN. PARA LOS GRUPOS A LOS QUE SU EXPERIENCIA NO ALCANCE PROCEDERÁ A LA NO HABILITACIÓN DE SU PROPUESTA”. PARA EL CASO EN PARTICULAR SE PROCEDIÓ A DESCONTAR EL SIGUIENTE GRUPO No. 8
B34: 2 | C34: =IF(Proponentes!H16="X",Proponentes!$B$15,"") | D34: =C34 | E34: =IF(D34="","",$AO$4) | F34: =IF(Proponentes!D16>0,Proponentes!D16,"") -> AUTENTICA SEGURIDAD LTDA | G34: =IF(Proponentes!F16>0,Proponentes!F16,"") -> 0.015 | J34: 1 | K34: 2 | L34: UNIDAD ADMINISTRATIVA ESPECIAL DE AERONAUTICA CIVIL CTO 16000503-AH3-02 DEL 2016 | M34: SEGURIDAD ATEMPI LTDA | N34: Cumple | O34: 0.4 | P34: 42733 | Q34: 43462 | R34: =IF(Q34<>"",IF(P34>0,IF(P34>=$P$18,IF(Q34<=$Q$18,"CUMPLE","NO CUMPLE"),"NO CUMPLE"),""),"") -> CUMPLE | S34: =IF(P34>0,ROUND(((YEAR(Q34)-YEAR($P34))*12)+(MONTH(Q34)-MONTH($P34))+((DAY(Q34)-DAY($P34)+1)/30),0),"") -> 24 | T34: 14021028478 | U34: =IF(T34>0,T34*O34,"") -> 5.6084114e+09 | V34: =IFERROR(U34/VLOOKUP(YEAR(P34),$AQ$2:$AR$11,2,FALSE),"") -> 8134.5576 | W34: =IF(R34="CUMPLE",IFERROR(U34/VLOOKUP(YEAR(Q34),$AQ$3:$AR$13,2,FALSE),""),"") -> 7178.8401 | X34: =IFERROR(W34*$AR$13,"") -> 6.5221629e+09 | Y34: INCLUIDA | Z34: =IF(T34>0,IF(X34>=$Z$18,"CUMPLE","NO CUMPLE"),"") -> CUMPLE | AA34: =IF(N34>0,IF(N34="CUMPLE",IF(R34="CUMPLE",IF(Y34="INCLUIDA",IF(Z34="CUMPLE","CUMPLE","NO CUMPLE"),"NO CUMPLE"),"NO CUMPLE"),"NO CUMPLE"),"") -> CUMPLE | AE34: =IF(F34<>"",F34,"") -> AUTENTICA SEGURIDAD LTDA | AF34: =IF(AE34<>"",(SUMIFS($X33:$X49,$M33:$M49,F34,AA33:AA49,"CUMPLE")),"") -> 2.5661135e+09 | AG34: =IF(AF34<>"",IF(G34>0,(IF(AF34>=($G34*$H33),"CUMPLE","NO CUMPLE")),""),"") -> CUMPLE
B35: 3 | C35: =IF(Proponentes!H17="X",Proponentes!$B$15,"") -> UNION TEMPORAL S4 | D35: =C35 -> UNION TEMPORAL S4 | E35: =IF(D35="","",$AO$5) -> 22660325900 | F35: =IF(Proponentes!D17>0,Proponentes!D17,"") -> ISVI LTDA | G35: =IF(Proponentes!F17>0,Proponentes!F17,"") -> 0.47 | J35: 2 | K35: 3 | L35: UNIVERSIDAD DE LOS ANDES CTO UA-0036-16 | M35: SEGURIDAD ATEMPI LTDA | N35: Cumple | O35: 1 | P35: 42461 | Q35: 43465 | R35: =IF(Q35<>"",IF(P35>0,IF(P35>=$P$18,IF(Q35<=$Q$18,"CUMPLE","NO CUMPLE"),"NO CUMPLE"),""),"") -> CUMPLE | S35: =IF(P35>0,ROUND(((YEAR(Q35)-YEAR($P35))*12)+(MONTH(Q35)-MONTH($P35))+((DAY(Q35)-DAY($P35)+1)/30),0),"") -> 33 | T35: 11402913273 | U35: =IF(T35>0,T35*O35,"") -> 11402913273 | V35: =IFERROR(U35/VLOOKUP(YEAR(P35),$AQ$2:$AR$11,2,FALSE),"") -> 16539.025 | W35: =IF(R35="CUMPLE",IFERROR(U35/VLOOKUP(YEAR(Q35),$AQ$3:$AR$13,2,FALSE),""),"") -> 14595.878 | X35: =IFERROR(W35*$AR$13,"") -> 1.3260735e+10 | Y35: INCLUIDA | Z35: =IF(T35>0,IF(X35>=$Z$18,"CUMPLE","NO CUMPLE"),"") -> CUMPLE | AA35: =IF(N35>0,IF(N35="CUMPLE",IF(R35="CUMPLE",IF(Y35="INCLUIDA",IF(Z35="CUMPLE","CUMPLE","NO CUMPLE"),"NO CUMPLE"),"NO CUMPLE"),"NO CUMPLE"),"") -> CUMPLE | AE35: =IF(F35<>"",F35,"") -> ISVI LTDA | AF35: =IF(AE35<>"",(SUMIFS($X33:$X49,$M33:$M49,F35,AA33:AA49,"CUMPLE")),"") -> 1.1941464e+11 | AG35: =IF(AF35<>"",IF(G35>0,(IF(AF35>=($G35*$H33),"CUMPLE","NO CUMPLE")),""),"") -> CUMPLE
B36: 4 | C36: =IF(Proponentes!H18="X",Proponentes!$B$15,"") | D36: =C36 | E36: =IF(D36="","",$AO$6) | F36: =IF(Proponentes!D18>0,Proponentes!D18,"") -> COMPAÑIA DE SEGURIDAD NACIONAL COMSENAL LTDA | G36: =IF(Proponentes!F18>0,Proponentes!F18,"") -> 0.045 | J36: 2 | K36: 4 | L36: UNIVERSIDAD DE LOS ANDES CTO UA-0092-12 | M36: SEGURIDAD ATEMPI LTDA | N36: Cumple | O36: 1 | P36: 41183 | Q36: 42460 | R36: =IF(Q36<>"",IF(P36>0,IF(P36>=$P$18,IF(Q36<=$Q$18,"CUMPLE","NO CUMPLE"),"NO CUMPLE"),""),"") -> CUMPLE | S36: =IF(P36>0,ROUND(((YEAR(Q36)-YEAR($P36))*12)+(MONTH(Q36)-MONTH($P36))+((DAY(Q36)-DAY($P36)+1)/30),0),"") -> 42 | T36: 11072946367 | U36: =IF(T36>0,T36*O36,"") -> 11072946367 | V36: =IFERROR(U36/VLOOKUP(YEAR(P36),$AQ$2:$AR$11,2,FALSE),"") -> 19539.344 | W36: =IF(R36="CUMPLE",IFERROR(U36/VLOOKUP(YEAR(Q36),$AQ$3:$AR$13,2,FALSE),""),"") -> 16060.434 | X36: =IFERROR(W36*$AR$13,"") -> 1.4591322e+10 | Y36: INCLUIDA | Z36: =IF(T36>0,IF(X36>=$Z$18,"CUMPLE","NO CUMPLE"),"") -> CUMPLE | AA36: =IF(N36>0,IF(N36="CUMPLE",IF(R36="CUMPLE",IF(Y36="INCLUIDA",IF(Z36="CUMPLE","CUMPLE","NO CUMPLE"),"NO CUMPLE"),"NO CUMPLE"),"NO CUMPLE"),"") -> CUMPLE | AE36: =IF(F36<>"",F36,"") -> COMPAÑIA DE SEGURIDAD NACIONAL COMSENAL LTDA | AF36: =IF(AE36<>"",(SUMIFS($X33:$X49,$M33:$M49,F36,AA33:AA49,"CUMPLE")),"") -> 1.4683448e+10 | AG36: =IF(AF36<>"",IF(G36>0,(IF(AF36>=($G36*$H33),"CUMPLE","NO CUMPLE")),""),"") -> CUMPLE
B37: 5 | C37: =IF(Proponentes!H19="X",Proponentes!$B$15,"") | D37: =C37 | E37: =IF(D37="","",$AO$7) | F37: =IF(Proponentes!D19>0,Proponentes!D19,"") | G37: =IF(Proponentes!F19>0,Proponentes!F19,"") | J37: 2 | K37: 5 | L37: UNIVERSIDAD DEL ROSARIO CTO 20110547 | M37: SEGURIDAD ATEMPI LTDA | N37: Cumple | O37: 1 | P37: 41699 | Q37: 42428 | R37: =IF(Q37<>"",IF(P37>0,IF(P37>=$P$18,IF(Q37<=$Q$18,"CUMPLE","NO CUMPLE"),"NO CUMPLE"),""),"") -> CUMPLE | S37: =IF(P37>0,ROUND(((YEAR(Q37)-YEAR($P37))*12)+(MONTH(Q37)-MONTH($P37))+((DAY(Q37)-DAY($P37)+1)/30),0),"") -> 24 | T37: 8634629232 | U37: =IF(T37>0,T37*O37,"") -> 8634629232 | V37: =IFERROR(U37/VLOOKUP(YEAR(P37),$AQ$2:$AR$11,2,FALSE),"") -> 14017.255 | W37: =IF(R37="CUMPLE",IFERROR(U37/VLOOKUP(YEAR(Q37),$AQ$3:$AR$13,2,FALSE),""),"") -> 12523.847 | X37: =IFERROR(W37*$AR$13,"") -> 1.1378241e+10 | Y37: INCLUIDA | Z37: =IF(T37>0,IF(X37>=$Z$18,"CUMPLE","NO CUMPLE"),"") -> CUMPLE | AA37: =IF(N37>0,IF(N37="CUMPLE",IF(R37="CUMPLE",IF(Y37="INCLUIDA",IF(Z37="CUMPLE","CUMPLE","NO CUMPLE"),"NO CUMPLE"),"NO CUMPLE"),"NO CUMPLE"),"") -> CUMPLE | AE37: =IF(F37<>"",F37,"") | AF37: =IF(AE37<>"",(SUMIFS($X37:$X50,$M37:$M50,F37,AA37:AA50,"CUMPLE")),"") | AG37: =IF(AF37<>"",IF(G37>0,(IF(AF37>=($G37*$H33),"CUMPLE","NO CUMPLE")),""),"")
B38: 6 | C38: =IF(Proponentes!H20="X",Proponentes!$B$15,"") -> UNION TEMPORAL S4 | D38: =C38 -> UNION TEMPORAL S4 | E38: =IF(D38="","",$AO$8) -> 26104086008 | F38: =IF(Proponentes!D20>0,Proponentes!D20,"") | G38: =IF(Proponentes!F20>0,Proponentes!F20,"") | J38: 2 | K38: 6 | L38: UNIVERSIDAD DEL ROSARIO CTO 20110504 | M38: SEGURIDAD ATEMPI LTDA | N38: Cumple | O38: 1 | P38: 42614 | Q38: 43131 | R38: =IF(Q38<>"",IF(P38>0,IF(P38>=$P$18,IF(Q38<=$Q$18,"CUMPLE","NO CUMPLE"),"NO CUMPLE"),""),"") -> CUMPLE | S38: =IF(P38>0,ROUND(((YEAR(Q38)-YEAR($P38))*12)+(MONTH(Q38)-MONTH($P38))+((DAY(Q38)-DAY($P38)+1)/30),0),"") -> 17 | T38: 8850000000 | U38: =IF(T38>0,T38*O38,"") -> 8850000000 | V38: =IFERROR(U38/VLOOKUP(YEAR(P38),$AQ$2:$AR$11,2,FALSE),"") -> 12836.226 | W38: =IF(R38="CUMPLE",IFERROR(U38/VLOOKUP(YEAR(Q38),$AQ$3:$AR$13,2,FALSE),""),"") -> 11328.116 | X38: =IFERROR(W38*$AR$13,"") -> 1.0291888e+10 | Y38: INCLUIDA | Z38: =IF(T38>0,IF(X38>=$Z$18,"CUMPLE","NO CUMPLE"),"") -> CUMPLE | AA38: =IF(N38>0,IF(N38="CUMPLE",IF(R38="CUMPLE",IF(Y38="INCLUIDA",IF(Z38="CUMPLE","CUMPLE","NO CUMPLE"),"NO CUMPLE"),"NO CUMPLE"),"NO CUMPLE"),"") -> CUMPLE | AE38: =IF(F38<>"",F38,"") | AF38: =IF(AE38<>"",(SUMIFS($X38:$X50,$M38:$M50,F38,AA38:AA50,"CUMPLE")),"") | AG38: =IF(AF38<>"",IF(G38>0,(IF(AF38>=($G38*$H33),"CUMPLE","NO CUMPLE")),""),"")
B39: 7 | C39: =IF(Proponentes!H21="X",Proponentes!$B$15,"") -> UNION TEMPORAL S4 | D39: =C39 -> UNION TEMPORAL S4 | E39: =IF(D39="","",$AO$9) -> 34957158037 | F39: =IF(Proponentes!D21>0,Proponentes!D21,"") | G39: =IF(Proponentes!F21>0,Proponentes!F21,"") | J39: 2 | K39: 7 | L39: FUNDACION UNIVERSIDAD DE BOGOTA JORGE TADEO LOZANO | M39: SEGURIDAD ATEMPI LTDA | N39: Cumple | O39: 1 | P39: 42370 | Q39: 43465 | R39: =IF(Q39<>"",IF(P39>0,IF(P39>=$P$18,IF(Q39<=$Q$18,"CUMPLE","NO CUMPLE"),"NO CUMPLE"),""),"") -> CUMPLE | S39: =IF(P39>0,ROUND(((YEAR(Q39)-YEAR($P39))*12)+(MONTH(Q39)-MONTH($P39))+((DAY(Q39)-DAY($P39)+1)/30),0),"") -> 36 | T39: 8124642216 | U39: =IF(T39>0,T39*O39,"") -> 8124642216 | V39: =IFERROR(U39/VLOOKUP(YEAR(P39),$AQ$2:$AR$11,2,FALSE),"") -> 11784.152 | W39: =IF(R39="CUMPLE",IFERROR(U39/VLOOKUP(YEAR(Q39),$AQ$3:$AR$13,2,FALSE),""),"") -> 10399.649 | X39: =IFERROR(W39*$AR$13,"") -> 9.4483511e+09 | Y39: INCLUIDA | Z39: =IF(T39>0,IF(X39>=$Z$18,"CUMPLE","NO CUMPLE"),"") -> CUMPLE | AA39: =IF(N39>0,IF(N39="CUMPLE",IF(R39="CUMPLE",IF(Y39="INCLUIDA",IF(Z39="CUMPLE","CUMPLE","NO CUMPLE"),"NO CUMPLE"),"NO CUMPLE"),"NO CUMPLE"),"") -> CUMPLE | AE39: =IF(F39<>"",F39,"") | AF39: =IF(AE39<>"",(SUMIFS($X39:$X50,$M39:$M50,F39,AA39:AA50,"CUMPLE")),"") | AG39: =IF(AF39<>"",IF(G39>0,(IF(AF39>=($G39*$H33),"CUMPLE","NO CUMPLE")),""),"")
B40: 8 | C40: =IF(Proponentes!H22="X",Proponentes!$B$15,"") -> UNION TEMPORAL S4 | E40: =IF(D40="","",$AO$10) | J40: 1 | K40: 8 | L40: SECRETARIA DE EDUCACION DEL DISTRITO - 2576 DEL 2013 | M40: SEGURIDAD ATEMPI LTDA | N40: Cumple | O40: 1 | P40: 41438 | Q40: 41824 | R40: =IF(Q40<>"",IF(P40>0,IF(P40>=$P$18,IF(Q40<=$Q$18,"CUMPLE","NO CUMPLE"),"NO CUMPLE"),""),"") -> CUMPLE | T40: 7516280607 | U40: =IF(T40>0,T40*O40,"") -> 7516280607 | W40: =IF(R40="CUMPLE",IFERROR(U40/VLOOKUP(YEAR(Q40),$AQ$3:$AR$13,2,FALSE),""),"") -> 12201.754 | X40: =IFERROR(W40*$AR$13,"") -> 1.1085611e+10 | Y40: INCLUIDA | Z40: =IF(T40>0,IF(X40>=$Z$18,"CUMPLE","NO CUMPLE"),"") -> CUMPLE | AA40: =IF(N40>0,IF(N40="CUMPLE",IF(R40="CUMPLE",IF(Y40="INCLUIDA",IF(Z40="CUMPLE","CUMPLE","NO CUMPLE"),"NO CUMPLE"),"NO CUMPLE"),"NO CUMPLE"),"") -> CUMPLE | AG40: =IF(AF40<>"",IF(G40>0,(IF(AF40>=($G40*$H33),"CUMPLE","NO CUMPLE")),""),"")
B41: 9 | C41: =IF(Proponentes!H23="X",Proponentes!$B$15,"") -> UNION TEMPORAL S4 | D41: =C41 -> UNION TEMPORAL S4 | E41: =IF(D41="","",$AO$11) -> 24629524096 | J41: 6 | K41: 9 | L41: INSTITUTO NACIONAL DE MEDICINA LEGAL Y CIENCIAS FORENSES 352-SG-2014 | M41: SEGURIDAD ATEMPI LTDA | N41: Cumple | O41: 0.4 | P41: 41974 | Q41: 42704 | R41: =IF(Q41<>"",IF(P41>0,IF(P41>=$P$18,IF(Q41<=$Q$18,"CUMPLE","NO CUMPLE"),"NO CUMPLE"),""),"") -> CUMPLE | T41: 10455540671 | U41: =IF(T41>0,T41*O41,"") -> 4.1822163e+09 | W41: =IF(R41="CUMPLE",IFERROR(U41/VLOOKUP(YEAR(Q41),$AQ$3:$AR$13,2,FALSE),""),"") -> 6065.9742 | X41: =IFERROR(W41*$AR$13,"") -> 5.5110953e+09 | Y41: INCLUIDA | Z41: =IF(T41>0,IF(X41>=$Z$18,"CUMPLE","NO CUMPLE"),"") -> CUMPLE | AA41: =IF(N41>0,IF(N41="CUMPLE",IF(R41="CUMPLE",IF(Y41="INCLUIDA",IF(Z41="CUMPLE","CUMPLE","NO CUMPLE"),"NO CUMPLE"),"NO CUMPLE"),"NO CUMPLE"),"") -> CUMPLE | AG41: =IF(AF41<>"",IF(G41>0,(IF(AF41>=($G41*$H33),"CUMPLE","NO CUMPLE")),""),"")
...

Sheet Consolidado_Experiencia
A10: No. PROPONENTE | B10: NÚMERO DE GRUPO (S) | C10: GRUPOS A LOS QUE SE PRESENTÓ (PROPONENTE) | D10: GRUPOS EN LOS QUE SE ENCUENTRA HABILITADO | E10: PROPONENTE HABILITADO / RECHAZADO
A11: =A23 -> 1 | B11: 1 | C11: =IF(Experiencia_Proponente!C20=0,"",Experiencia_Proponente!C20) -> UNIÓN TEMPORAL L&W | D11: =IF(Experiencia_Proponente!D20=0,"",Experiencia_Proponente!D20) -> UNIÓN TEMPORAL L&W | E11: =IF(D11<>"",Experiencia_Proponente!$AI20,"") -> HABILITADO
B12: 2 | C12: =IF(Experiencia_Proponente!C21=0,"",Experiencia_Proponente!C21) | D12: =IF(Experiencia_Proponente!D21=0,"",Experiencia_Proponente!D21) | E12: =IF(D12<>"",Experiencia_Proponente!$AI$20,"")
B13: 3 | C13: =IF(Experiencia_Proponente!C22=0,"",Experiencia_Proponente!C22) | D13: =IF(Experiencia_Proponente!D22=0,"",Experiencia_Proponente!D22) | E13: =IF(D13<>"",Experiencia_Proponente!$AI$20,"")
B14: 4 | C14: =IF(Experiencia_Proponente!C23=0,"",Experiencia_Proponente!C23) | D14: =IF(Experiencia_Proponente!D23=0,"",Experiencia_Proponente!D23) | E14: =IF(D14<>"",Experiencia_Proponente!$AI$20,"")
B15: 5 | C15: =IF(Experiencia_Proponente!C24=0,"",Experiencia_Proponente!C24) | D15: =IF(Experiencia_Proponente!D24=0,"",Experiencia_Proponente!D24) | E15: =IF(D15<>"",Experiencia_Proponente!$AI$20,"")
B16: 6 | C16: =IF(Experiencia_Proponente!C25=0,"",Experiencia_Proponente!C25) | D16: =IF(Experiencia_Proponente!D25=0,"",Experiencia_Proponente!D25) | E16: =IF(D16<>"",Experiencia_Proponente!$AI$20,"")
B17: 7 | C17: =IF(Experiencia_Proponente!C26=0,"",Experiencia_Proponente!C26) | D17: =IF(Experiencia_Proponente!D26=0,"",Experiencia_Proponente!D26) | E17: =IF(D17<>"",Experiencia_Proponente!$AI$20,"")
B18: 8 | C18: =IF(Experiencia_Proponente!C27=0,"",Experiencia_Proponente!C27) -> UNIÓN TEMPORAL L&W | D18: =IF(Experiencia_Proponente!D27=0,"",Experiencia_Proponente!D27) -> UNIÓN TEMPORAL L&W | E18: =IF(D18<>"",Experiencia_Proponente!$AI$20,"RECHAZADO") -> HABILITADO
B19: 9 | C19: =IF(Experiencia_Proponente!C28=0,"",Experiencia_Proponente!C28) | D19: =IF(Experiencia_Proponente!D28=0,"",Experiencia_Proponente!D28) | E19: =IF(D19<>"",Experiencia_Proponente!$AI$20,"")
B20: 10 | C20: =IF(Experiencia_Proponente!C29=0,"",Experiencia_Proponente!C29) | D20: =IF(Experiencia_Proponente!D29=0,"",Experiencia_Proponente!D29) | E20: =IF(D20<>"",Experiencia_Proponente!$AI$20,"")
B21: 11 | C21: =IF(Experiencia_Proponente!C30=0,"",Experiencia_Proponente!C30) | D21: =IF(Experiencia_Proponente!D30=0,"",Experiencia_Proponente!D30) | E21: =IF(D21<>"",Experiencia_Proponente!$AI$20,"")
B22: 12 | C22: =IF(Experiencia_Proponente!C31=0,"",Experiencia_Proponente!C31) -> UNIÓN TEMPORAL L&W | D22: =IF(Experiencia_Proponente!D31=0,"",Experiencia_Proponente!D31) -> UNIÓN TEMPORAL L&W | E22: =IF(D22<>"",Experiencia_Proponente!$AI$20,"RECHAZADO") -> HABILITADO
A23: 1 | C23: A
A24: =A36 -> 2 | B24: 1 | C24: =IF(Experiencia_Proponente!C33=0,"",Experiencia_Proponente!C33) -> UNION TEMPORAL S4 | D24: =IF(Experiencia_Proponente!D33=0,"",Experiencia_Proponente!D33) -> UNION TEMPORAL S4 | E24: =IF(D24<>"",Experiencia_Proponente!$AI$33,"") -> HABILITADO
B25: 2 | C25: =IF(Experiencia_Proponente!C34=0,"",Experiencia_Proponente!C34) | D25: =IF(Experiencia_Proponente!D34=0,"",Experiencia_Proponente!D34) | E25: =IF(D25<>"",Experiencia_Proponente!$AI$33,"")
B26: 3 | C26: =IF(Experiencia_Proponente!C35=0,"",Experiencia_Proponente!C35) -> UNION TEMPORAL S4 | D26: =IF(Experiencia_Proponente!D35=0,"",Experiencia_Proponente!D35) -> UNION TEMPORAL S4 | E26: =IF(D26<>"",Experiencia_Proponente!$AI$33,"") -> HABILITADO
B27: 4 | C27: =IF(Experiencia_Proponente!C36=0,"",Experiencia_Proponente!C36) | D27: =IF(Experiencia_Proponente!D36=0,"",Experiencia_Proponente!D36) | E27: =IF(D27<>"",Experiencia_Proponente!$AI$33,"")
B28: 5 | C28: =IF(Experiencia_Proponente!C37=0,"",Experiencia_Proponente!C37) | D28: =IF(Experiencia_Proponente!D37=0,"",Experiencia_Proponente!D37) | E28: =IF(D28<>"",Experiencia_Proponente!$AI$33,"")
B29: 6 | C29: =IF(Experiencia_Proponente!C38=0,"",Experiencia_Proponente!C38) -> UNION TEMPORAL S4 | D29: =IF(Experiencia_Proponente!D38=0,"",Experiencia_Proponente!D38) -> UNION TEMPORAL S4 | E29: =IF(D29<>"",Experiencia_Proponente!$AI$33,"") -> HABILITADO
B30: 7 | C30: =IF(Experiencia_Proponente!C39=0,"",Experiencia_Proponente!C39) -> UNION TEMPORAL S4 | D30: =IF(Experiencia_Proponente!D39=0,"",Experiencia_Proponente!D39) -> UNION TEMPORAL S4 | E30: =IF(D30<>"",Experiencia_Proponente!$AI$33,"") -> HABILITADO
B31: 8 | C31: =IF(Experiencia_Proponente!C40=0,"",Experiencia_Proponente!C40) -> UNION TEMPORAL S4 | D31: =IF(Experiencia_Proponente!D40=0,"",Experiencia_Proponente!D40) | E31: =IF(D31<>"",Experiencia_Proponente!$AI$33,"RECHAZADO") -> RECHAZADO
B32: 9 | C32: =IF(Experiencia_Proponente!C41=0,"",Experiencia_Proponente!C41) -> UNION TEMPORAL S4 | D32: =IF(Experiencia_Proponente!D41=0,"",Experiencia_Proponente!D41) -> UNION TEMPORAL S4 | E32: =IF(D32<>"",Experiencia_Proponente!$AI$33,"") -> HABILITADO
B33: 10 | C33: =IF(Experiencia_Proponente!C42=0,"",Experiencia_Proponente!C42) -> UNION TEMPORAL S4 | D33: =IF(Experiencia_Proponente!D42=0,"",Experiencia_Proponente!D42) -> UNION TEMPORAL S4 | E33: =IF(D33<>"",Experiencia_Proponente!$AI$33,"") -> HABILITADO
B34: 11 | C34: =IF(Experiencia_Proponente!C43=0,"",Experiencia_Proponente!C43) | D34: =IF(Experiencia_Proponente!D43=0,"",Experiencia_Proponente!D43) | E34: =IF(D34<>"",Experiencia_Proponente!$AI$33,"")
B35: 12 | C35: =IF(Experiencia_Proponente!C49=0,"",Experiencia_Proponente!C49) | D35: =IF(Experiencia_Proponente!D49=0,"",Experiencia_Proponente!D49) | E35: =IF(D35<>"",Experiencia_Proponente!$AI$33,"")
A36: 2 | C36: A
A37: =A49 -> 3 | B37: 1 | C37: =IF(Experiencia_Proponente!C51=0,"",Experiencia_Proponente!C51) | D37: =IF(Experiencia_Proponente!D51=0,"",Experiencia_Proponente!D51) | E37: =IF(D37<>"",Experiencia_Proponente!$AI51,"")
B38: 2 | C38: =IF(Experiencia_Proponente!C52=0,"",Experiencia_Proponente!C52) -> SEGURIDAD NUEVA ERA LTDA | D38: =IF(Experiencia_Proponente!D52=0,"",Experiencia_Proponente!D52) -> SEGURIDAD NUEVA ERA LTDA | E38: =IF(D38<>"",Experiencia_Proponente!$AI$51,"") -> HABILITADO
B39: 3 | C39: =IF(Experiencia_Proponente!C53=0,"",Experiencia_Proponente!C53) | D39: =IF(Experiencia_Proponente!D53=0,"",Experiencia_Proponente!D53) | E39: =IF(D39<>"",Experiencia_Proponente!$AI$51,"")
B40: 4 | C40: =IF(Experiencia_Proponente!C54=0,"",Experiencia_Proponente!C54) | D40: =IF(Experiencia_Proponente!D54=0,"",Experiencia_Proponente!D54) | E40: =IF(D40<>"",Experiencia_Proponente!$AI$51,"")
B41: 5 | C41: =IF(Experiencia_Proponente!C55=0,"",Experiencia_Proponente!C55) | D41: =IF(Experiencia_Proponente!D55=0,"",Experiencia_Proponente!D55) | E41: =IF(D41<>"",Experiencia_Proponente!$AI$51,"")
B42: 6 | C42: =IF(Experiencia_Proponente!C56=0,"",Experiencia_Proponente!C56) | D42: =IF(Experiencia_Proponente!D56=0,"",Experiencia_Proponente!D56) | E42: =IF(D42<>"",Experiencia_Proponente!$AI$51,"")
B43: 7 | C43: =IF(Experiencia_Proponente!C57=0,"",Experiencia_Proponente!C57) | D43: =IF(Experiencia_Proponente!D57=0,"",Experiencia_Proponente!D57) | E43: =IF(D43<>"",Experiencia_Proponente!$AI$51,"")
B44: 8 | C44: =IF(Experiencia_Proponente!C58=0,"",Experiencia_Proponente!C58) -> SEGURIDAD NUEVA ERA LTDA | D44: =IF(Experiencia_Proponente!D58=0,"",Experiencia_Proponente!D58) -> SEGURIDAD NUEVA ERA LTDA | E44: =IF(D44<>"",Experiencia_Proponente!$AI$51,"") -> HABILITADO
B45: 9 | C45: =IF(Experiencia_Proponente!C59=0,"",Experiencia_Proponente!C59) -> SEGURIDAD NUEVA ERA LTDA | D45: =IF(Experiencia_Proponente!D59=0,"",Experiencia_Proponente!D59) -> SEGURIDAD NUEVA ERA LTDA | E45: =IF(D45<>"",Experiencia_Proponente!$AI$51,"") -> HABILITADO
B46: 10 | C46: =IF(Experiencia_Proponente!C60=0,"",Experiencia_Proponente!C60) | D46: =IF(Experiencia_Proponente!D60=0,"",Experiencia_Proponente!D60) | E46: =IF(D46<>"",Experiencia_Proponente!$AI$51,"")
B47: 11 | C47: =IF(Experiencia_Proponente!C61=0,"",Experiencia_Proponente!C61) | D47: =IF(Experiencia_Proponente!D61=0,"",Experiencia_Proponente!D61) | E47: =IF(D47<>"",Experiencia_Proponente!$AI$51,"")
B48: 12 | C48: =IF(Experiencia_Proponente!C62=0,"",Experiencia_Proponente!C62) -> SEGURIDAD NUEVA ERA LTDA | D48: =IF(Experiencia_Proponente!D62=0,"",Experiencia_Proponente!D62) | E48: =IF(D48<>"",Experiencia_Proponente!$AI$51,"RECHAZADO") -> RECHAZADO
A49: 3 | C49: A
...

Sheet Documentos_Técnicos
AG8: NO CUMPLE | BL8: NO CUMPLE | BP8: NO | DK8: NO | DO8: NO | DS8: NO | DW8: NO
E9: LICENCIA DE FUNCIONAMIENTO | AJ9: LICENCIA VIGENTE DE MEDIO CANINO | BN9: CERTIFICACIÓN CANINA | CL9: CERTIFICACIÓN DE NO SANCIONES DE LA SUPERINTENDENCIA DE VIGILANCIA Y SEGURIDAD PRIVADA | DI9: SISTEMA DE TELECOMUNICACIONES | EB9: VINCULACIÓN A LA RED DE APOYO | EU9: POLIZA DE RESPONSABILIDAD CIVIL EXTRACONTRACTUAL | FN9: RESOLUCIÓN USO DE UNIFORMES | GC9: RESOLUCIÓN HORAS EXTRAS | HC9: + | HD9: RESOLUCIÓN VIGENTE EXPEDIDA POR MINTIC | IA9: CONTRATO DE SERVICIOS DE TELEFONÍA CELULAR O TELEFONÍA MÓVIL | IT9: ANEXO CARTA DE COMPROMISO COORDINADOR DE CONTRATO
A10: No. PROPONENTE | B10: NUMERO DE GRUPO (S) | C10: IDENTIFICACIÓN PROPONENTE | E10: EMPRESA QUE APORTA LA LICENCIA (SOCIO 1 SI ES UT) | F10: FOLIOS DE LA PROPUESTA | G10: FECHA DE VENCIMIENTO | H10: AUTORIZACIÓN PARA FUNCIONAR EN BOGOTA (SI/NO) | I10: SOLICITUD DE RENOVACION (SI/NO) | J10: FECHA SOLICITUD RENOVACIÓN | K10: OBSERVACIONES (SOCIO 1 SI ES UT) | L10: EMPRESA QUE APORTA LA LICENCIA (SOCIO 2 SI ES UT) | M10: FOLIOS DE LA PROPUESTA | N10: FECHA DE VENCIMIENTO | O10: AUTORIZACION PARA FUNCIONAR EN BOGOTA (SI/NO) | P10: SOLICITUD DE RENOVACION (SI/NO) | Q10: FECHA SOLICITUD RENOVACION | R10: OBSERVACIONES (SOCIO 2 SI ES UT) | S10: EMPRESA QUE APORTA LA LICENCIA (SOCIO 3 SI ES UT) | T10: FOLIOS DE LA PROPUESTA | U10: FECHA DE VENCIMIENTO | V10: AUTORIZACION PARA FUNCIONAR EN BOGOTA (SI/NO) | W10: SOLICITUD DE RENOVACION (SI/NO) | X10: FECHA SOLICITUD RENOVACION | Y10: OBSERVACIONES (SOCIO 3 SI ES UT) | Z10: EMPRESA QUE APORTA LA LICENCIA (SOCIO 4 SI ES UT) | AA10: FOLIOS DE LA PROPUESTA | AB10: FECHA DE VENCIMIENTO | AC10: AUTORIZACION PARA FUNCIONAR EN BOGOTA (SI/NO) | AD10: SOLICITUD DE RENOVACION (SI/NO) | AE10: FECHA SOLICITUD RENOVACION | AF10: OBSERVACIONES (SOCIO 4 SI ES UT) | AG10: CUMPLE / NO CUMPLE | AH10: OBSERVACIÓN GENERAL | AJ10: EMPRESA QUE APORTA LA LICENCIA (SOCIO 1 SI ES UT) | AK10: LICENCIA VIGENTE DE MEDIO CANINO (SI/NO) | AL10: FOLIOS | AM10: FECHA DE VENCIMIENTO | AN10: SOLICITUD DE RENOVACION (SI/NO) | AO10: FECHA SOLICITUD RENOVACION | AP10: OBSERVACIONES (SOCIO 1 SI ES UT) | AQ10: EMPRESA QUE APORTA LA LICENCIA (SOCIO 2 SI ES UT) | AR10: LICENCIA VIGENTE DE MEDIO CANINO (SI/NO) | AS10: FOLIOS | AT10: FECHA DE VENCIMIENTO | AU10: SOLICITUD DE RENOVACION (SI/NO) | AV10: FECHA SOLICITUD RENOVACION | AW10: OBSERVACIONES (SOCIO 2 SI ES UT) | AX10: EMPRESA QUE APORTA LA LICENCIA (SOCIO 3 SI ES UT) | AY10: LICENCIA VIGENTE DE MEDIO CANINO (SI/NO) | AZ10: FOLIOS | BA10: FECHA DE VENCIMIENTO | BB10: SOLICITUD DE RENOVACION (SI/NO) | BC10: FECHA SOLICITUD RENOVACION | BD10: OBSERVACIONES (SOCIO 3 SI ES UT) | BE10: EMPRESA QUE APORTA LA LICENCIA (SOCIO 4 SI ES UT) | BF10: LICENCIA VIGENTE DE MEDIO CANINO (SI/NO) | BG10: FOLIOS | BH10: FECHA DE VENCIMIENTO | BI10: SOLICITUD DE RENOVACION (SI/NO) | BJ10: FECHA SOLICITUD RENOVACION | BK10: OBSERVACIONES (SOCIO 4 SI ES UT) | BL10: CUMPLE / NO CUMPLE | BM10: OBSERVACIÓN GENERAL | BN10: EMPRESA QUE APORTA CERTIFICACIÓN DE IDONEIDAD (SOCIO 1 SI ES UT) | BO10: FOLIOS DE LA PROPUESTA | BP10: APORTA CERTIFICACIÓN DE IDONEIDAD DE LOS CANES (SI/NO) | BQ10: CANTIDAD DE CANES OFERTADOS | BR10: OBSERVACIONES (SOCIO 1 SI ES UT) | BS10: EMPRESA QUE APORTA CERTIFICACIÓN DE IDONEIDAD (SOCIO 2 SI ES UT) | BT10: FOLIOS DE LA PROPUESTA | BU10: APORTA CERTIFICACIÓN DE IDONEIDAD DE LOS CANES (SI/NO) | BV10: CANTIDAD DE CANES OFERTADOS | BW10: OBSERVACIONES (SOCIO 2 SI ES UT) | BX10: EMPRESA QUE APORTA CERTIFICACIÓN DE IDONEIDAD (SOCIO 3 SI ES UT) | BY10: FOLIOS DE LA PROPUESTA | BZ10: APORTA CERTIFICACIÓN DE IDONEIDAD DE LOS CANES (SI/NO) | CA10: CANTIDAD DE CANES OFERTADOS | CB10: OBSERVACIONES (SOCIO 3 SI ES UT) | CC10: EMPRESA QUE APORTA CERTIFICACIÓN DE IDONEIDAD (SOCIO 4 SI ES UT) | CD10: FOLIOS DE LA PROPUESTA | CE10: APORTA CERTIFICACIÓN DE IDONEIDAD DE LOS CANES (SI/NO) | CF10: CANTIDAD DE CANES OFERTADOS | CG10: OBSERVACIONES (SOCIO 4 SI ES UT) | CH10: CANES MINIMO QUE DEBE APORTAR EL PROPONENTE | CI10: CUMPLE / NO CUMPLE | CJ10: OBSERVACIÓN GENERAL | CL10: EMPRESA QUE APORTA LA CERTIFICACIÓN (SOCIO 1 SI ES UT) | CM10: FOLIOS DE LA PROPUESTA | CN10: SANCIONES (SI/NO) | CO10: EXPEDIDA 90 DÍAS HABILES ANTES DE LA FECHA DE CIERRE (DESDE 19/11/2020) (SI/NO) | CP10: OBSERVACIONES A LA EMPRESA (SOCIO 1 SI ES UT) | CQ10: EMPRESA QUE APORTA LA CERTIFICACIÓN (SOCIO 2 SI ES UT) | CR10: FOLIOS DE LA PROPUESTA | CS10: SANCIONES (SI/NO) | CT10: EXPEDIDA 90 DÍAS HABILES ANTES DE LA FECHA DE CIERRE (DESDE 19/11/2020) (SI/NO) | CU10: OBSERVACIONES A LA EMPRESA (SOCIO 2 SI ES UT) | CV10: EMPRESA QUE APORTA LA CERTIFICACIÓN (SOCIO 3 SI ES UT) | CW10: FOLIOS DE LA PROPUESTA | CX10: SANCIONES (SI/NO) | CY10: EXPEDIDA 90 DÍAS HABILES ANTES DE LA FECHA DE CIERRE (DESDE 19/11/2020) (SI/NO) | CZ10: OBSERVACIONES A LA EMPRESA (SOCIO 3 SI ES UT) | DA10: EMPRESA QUE APORTA LA CERTIFICACIÓN (SOCIO 4 SI ES UT) | DB10: FOLIOS DE LA PROPUESTA | DC10: SANCIONES (SI/NO) | DD10: EXPEDIDA 90 DÍAS HABILES ANTES DE LA FECHA DE CIERRE (DESDE 19/11/2020) (SI/NO) | DE10: OBSERVACIONES A LA EMPRESA (SOCIO 4 SI ES UT) | DF10: CUMPLE / NO CUMPLE | DG10: OBSERVACIÓN GENERAL | DI10: EMPRESA QUE APORTA LA CERTIFICACIÓN (SOCIO 1 SI ES UT) | DJ10: FOLIOS DE LA PROPUESTA | DK10: APORTA CERTIFICACIÓN POR EL REPRESENTANTE LEGAL (SI/NO) | DL10: OBSERVACIONES A LA EMPRESA (SOCIO 1 SI ES UT) | DM10: EMPRESA QUE APORTA LA CERTIFICACIÓN (SOCIO 2 SI ES UT) | DN10: FOLIOS DE LA PROPUESTA | DO10: APORTA CERTIFICACIÓN POR EL REPRESENTANTE LEGAL (SI/NO) | DP10: OBSERVACIONES A LA EMPRESA (SOCIO 2 SI ES UT) | DQ10: EMPRESA QUE APORTA LA CERTIFICACIÓN (SOCIO 3 SI ES UT) | DR10: FOLIOS DE LA PROPUESTA | DS10: APORTA CERTIFICACIÓN POR EL REPRESENTANTE LEGAL (SI/NO) | DT10: OBSERVACIONES A LA EMPRESA (SOCIO 3 SI ES UT) | DU10: EMPRESA QUE APORTA LA CERTIFICACIÓN (SOCIO 4 SI ES UT) | DV10: FOLIOS DE LA PROPUESTA | DW10: APORTA CERTIFICACIÓN POR EL REPRESENTANTE LEGAL (SI/NO) | DX10: OBSERVACIONES A LA EMPRESA (SOCIO 4 SI ES UT) | DY10: CUMPLE / NO CUMPLE | DZ10: OBSERVACIÓN GENERAL | EB10: EMPRESA 1 UT QUE APORTA LA CONSTANCIA (SOCIO 1 SI ES UT) | EC10: FOLIOS DE LA PROPUESTA | ED10: VIGENCIA | EE10: OBSERVACIONES A LA EMPRESA (SOCIO 1 SI ES UT) | EF10: EMPRESA 2 UT QUE APORTA LA CONTANCIA (SOCIO 2 SI ES UT) | EG10: FOLIOS DE LA PROPUESTA | EH10: VIGENCIA | EI10: OBSERVACIONES A LA EMPRESA (SOCIO 2 SI ES UT) | EJ10: EMPRESA 3 UT QUE APORTA LA CONTANCIA (SOCIO 3 SI ES UT) | EK10: FOLIOS DE LA PROPUESTA | EL10: VIGENCIA | EM10: OBSERVACIONES A LA EMPRESA (SOCIO 3 SI ES UT) | EN10: EMPRESA 4 UT QUE APORTA LA CONTANCIA (SOCIO 4 SI ES UT) | EO10: FOLIOS DE LA PROPUESTA | EP10: VIGENCIA | EQ10: OBSERVACIONES A LA EMPRESA (SOCIO 4 SI ES UT) | ER10: CUMPLE / NO CUMPLE | ES10: OBSERVACIÓN GENERAL | EU10: EMPRESA QUE APORTA LA PÓLIZA (SOCIO 1 SI ES UT) | EV10: FOLIOS DE LA PROPUESTA | EW10: VIGENCIA (SI/NO) | EX10: OBSERVACIONES A LA EMPRESA (SOCIO 1 SI ES UT) | EY10: EMPRESA QUE APORTA LA PÓLIZA (SOCIO 2 SI ES UT) | EZ10: FOLIOS DE LA PROPUESTA | FA10: VIGENCIA (SI/NO) | FB10: OBSERVACIONES A LA EMPRESA (SOCIO 2 SI ES UT) | FC10: EMPRESA QUE APORTA LA PÓLIZA (SOCIO 3 SI ES UT) | FD10: FOLIOS DE LA PROPUESTA | FE10: VIGENCIA (SI/NO) | FF10: OBSERVACIONES A LA EMPRESA (SOCIO 3 SI ES UT) | FG10: EMPRESA QUE APORTA LA PÓLIZA (SOCIO 4 SI ES UT) | FH10: FOLIOS DE LA PROPUESTA | FI10: VIGENCIA (SI/NO) | FJ10: OBSERVACIONES A LA EMPRESA (SOCIO 4 SI ES UT) | FK10: CUMPLE / NO CUMPLE | FL10: OBSERVACIÓN GENERAL | FN10: EMPRESA QUE APORTA LA RESOLUCIÓN (SOCIO 1 SI ES UT) | FO10: FOLIOS DE LA PROPUESTA | FP10: OBSERVACIONES A LA EMPRESA (SOCIO 1 SI ES UT) | FQ10: EMPRESA QUE APORTA LA RESOLUCIÓN (SOCIO 2 SI ES UT) | FR10: FOLIOS DE LA PROPUESTA | FS10: OBSERVACIONES A LA EMPRESA (SOCIO 2 SI ES UT) | FT10: EMPRESA QUE APORTA LA RESOLUCIÓN (SOCIO 3 SI ES UT) | FU10: FOLIOS DE LA PROPUESTA | FV10: OBSERVACIONES A LA EMPRESA (SOCIO 3 SI ES UT) | FW10: EMPRESA QUE APORTA LA RESOLUCIÓN (SOCIO 4 SI ES UT) | FX10: FOLIOS DE LA PROPUESTA | FY10: OBSERVACIONES A LA EMPRESA (SOCIO 4 SI ES UT) | FZ10: CUMPLE / NO CUMPLE | GA10: OBSERVACIÓN GENERAL | GC10: EMPRESA QUE APORTA LA RESOLUCION (SOCIO 1 SI ES UT) | GD10: FOLIOS DE LA PROPUESTA | GE10: VIGENCIA DE LA DE RESOLUCION (SI/NO) | GF10: FOLIO - RADICADO DE RENOVACIÓN ANTE LA DIRECCIÓN TERRITORIAL DEL DOMICILIO DEL PROPONENTE | GG10: FOLIO - EN CASO DE COOPERATIVAS DE TRABAJO ASOCIADO: COPIA DEL REGIMEN DE TRABAJO ASOCIADO Y REGIMEN DE COMPENSACION ART. 8 DECRETO 4950/2007 | GH10: OBSERVACIONES A LA EMPRESA (SOCIO 1 SI ES UT) | GI10: EMPRESA QUE APORTA LA RESOLUCION (SOCIO 2 SI ES UT) | GJ10: FOLIOS DE LA PROPUESTA | GK10: VIGENCIA DE LA DE RESOLUCION (SI/NO) | GL10: FOLIO - RADICADO DE RENOVACIÓN ANTE LA DIRECCIÓN TERRITORIAL DEL DOMICILIO DEL PROPONENTE | GM10: FOLIO - EN CASO DE COOPERATIVAS DE TRABAJO ASOCIADO: COPIA DEL REGIMEN DE TRABAJO ASOCIADO Y REGIMEN DE COMPENSACION ART. 8 DECRETO 4950/2007 | GN10: OBSERVACIONES A LA EMPRESA (SOCIO 2 SI ES UT) | GO10: EMPRESA QUE APORTA LA RESOLUCION (SOCIO 3 SI ES UT) | GP10: FOLIOS DE LA PROPUESTA | GQ10: VIGENCIA DE LA DE RESOLUCION (SI/NO) | GR10: FOLIO - RADICADO DE RENOVACIÓN ANTE LA DIRECCIÓN TERRITORIAL DEL DOMICILIO DEL PROPONENTE | GS10: FOLIO - EN CASO DE COOPERATIVAS DE TRABAJO ASOCIADO: COPIA DEL REGIMEN DE TRABAJO ASOCIADO Y REGIMEN DE COMPENSACION ART. 8 DECRETO 4950/2007 | GT10: OBSERVACIONES A LA EMPRESA (SOCIO 3 SI ES UT) | GU10: EMPRESA QUE APORTA LA RESOLUCION (SOCIO 4 SI ES UT) | GV10: FOLIOS DE LA PROPUESTA | GW10: VIGENCIA DE LA DE RESOLUCION (SI/NO) | GX10: FOLIO - RADICADO DE RENOVACIÓN ANTE LA DIRECCIÓN TERRITORIAL DEL DOMICILIO DEL PROPONENTE | GY10: FOLIO - EN CASO DE COOPERATIVAS DE TRABAJO ASOCIADO: COPIA DEL REGIMEN DE TRABAJO ASOCIADO Y REGIMEN DE COMPENSACION ART. 8 DECRETO 4950/2007 | GZ10: OBSERVACIONES A LA EMPRESA (SOCIO 4 SI ES UT) | HA10: CUMPLE / NO CUMPLE | HB10: OBSERVACIÓN GENERAL | HD10: EMPRESA QUE APORTA LA RESOLUCIÓN (SOCIO 1 SI ES UT) | HE10: FOLIOS DE LA PROPUESTA | HF10: ¿TIENEN RADIO FRECUENCIA MÍNIMO EN BOGOTÁ? | HG10: ¿TIENEN RADIO FRECUENCIA A NIVEL NACIONAL? (APLICA SOLO PARA GRUPOS 2 Y/O 4) | HH10: OBSERVACIONES (SOCIO 1 SI ES UT) | HI10: EMPRESA QUE APORTA LA RESOLUCIÓN (SOCIO 2 SI ES UT) | HJ10: FOLIOS DE LA PROPUESTA | HK10: ¿TIENEN RADIO FRECUENCIA MÍNIMO EN BOGOTÁ? | HL10: ¿TIENEN RADIO FRECUENCIA A NIVEL NACIONAL? (APLICA SOLO PARA GRUPOS 2 Y/O 4) | HM10: OBSERVACIONES (SOCIO 2 SI ES UT) | HN10: EMPRESA QUE APORTA LA RESOLUCIÓN (SOCIO 3 SI ES UT) | HO10: FOLIOS DE LA PROPUESTA | HP10: ¿TIENEN RADIO FRECUENCIA MÍNIMO EN BOGOTÁ? | HQ10: ¿TIENEN RADIO FRECUENCIA A NIVEL NACIONAL? (APLICA SOLO PARA GRUPOS 2 Y/O 4) | HR10: OBSERVACIONES (SOCIO 3 SI ES UT) | HS10: EMPRESA QUE APORTA LA RESOLUCIÓN (SOCIO 4 SI ES UT) | HT10: FOLIOS DE LA PROPUESTA | HU10: ¿TIENEN RADIO FRECUENCIA MÍNIMO EN BOGOTÁ? | HV10: ¿TIENEN RADIO FRECUENCIA A NIVEL NACIONAL? (APLICA SOLO PARA GRUPOS 2 Y/O 4) | HW10: OBSERVACIONES (SOCIO 4 SI ES UT) | HX10: CUMPLE / NO CUMPLE | HY10: OBSERVACIÓN GENERAL | IA10: EMPRESA QUE APORTA CONTRATO DE SERVICIOS DE TELEFONÍA CELULAR (SOCIO 1 SI ES UT) | IB10: FOLIOS DE LA PROPUESTA | IC10: ¿CUMPLE CON LA COBERTURA NACIONAL DEL SERVICIO? | ID10: OBSERVACIONES (SOCIO 1 SI ES UT) | IE10: EMPRESA QUE APORTA CONTRATO DE SERVICIOS DE TELEFONÍA CELULAR (SOCIO 2 SI ES UT) | IF10: FOLIOS DE LA PROPUESTA | IG10: ¿CUMPLE CON LA COBERTURA NACIONAL DEL SERVICIO? | IH10: OBSERVACIONES (SOCIO 2 SI ES UT) | II10: EMPRESA QUE APORTA CONTRATO DE SERVICIOS DE TELEFONÍA CELULAR (SOCIO 3 SI ES UT) | IJ10: FOLIOS DE LA PROPUESTA | IK10: ¿CUMPLE CON LA COBERTURA NACIONAL DEL SERVICIO? | IL10: OBSERVACIONES (SOCIO 3 SI ES UT) | IM10: EMPRESA QUE APORTA CONTRATO DE SERVICIOS DE TELEFONÍA CELULAR (SOCIO 4 SI ES UT) | IN10: FOLIOS DE LA PROPUESTA | IO10: ¿CUMPLE CON LA COBERTURA NACIONAL DEL SERVICIO? | IP10: OBSERVACIONES (SOCIO 4 SI ES UT) | IQ10: CUMPLE / NO CUMPLE | IR10: OBSERVACIÓN GENERAL | IT10: ANEXO FIRMADO (SI - NO) | IU10: FOLIO | IV10: CUMPLE / NO CUMPLE | IW10: OBSERVACIÓN GENERAL
A11: =A23 -> 1 | B11: 1 | C11: =IF(Proponentes!B2>0,Proponentes!B2,"") -> UNIÓN TEMPORAL L&W | E11: SEGURIDAD LASER LTDA. | F11: 1-15 | G11: 45350 | H11: SI | I11: NO | L11: WEST ARMY SECURITY LTDA | M11: 23 - 40 | N11: 47268 | O11: SI | AG11: =IF(E11="","",IF(K11=0,IF(R11=0,IF(Y11=0,IF(AF11=0,"CUMPLE","NO CUMPLE"),"NO CUMPLE"),"NO CUMPLE"),"NO CUMPLE")) -> CUMPLE | AJ11: =IF(E11>0,E11,"") -> SEGURIDAD LASER LTDA. | AQ11: WEST ARMY SECURITY LTDA | AR11: SI | AS11: 23-39 | AT11: 47268 | AU11: NO | BL11: =IF(AJ11="","",IF(AP11=0,IF(AW11=0,IF(BD11=0,IF(BK11=0,"CUMPLE","NO CUMPLE"),"NO CUMPLE"),"NO CUMPLE"),"NO CUMPLE")) -> CUMPLE | BN11: =IF(E11>0,E11,"") -> SEGURIDAD LASER LTDA. | BO11: 1-19 | BP11: SI | BQ11: 19 | BS11: =IF(L11>0,L11,"") -> WEST ARMY SECURITY LTDA | BT11: 20-38 | BU11: SI | BV11: 19 | BX11: =IF(S11>0,S11,"") | CC11: =IF(Z11>0,Z11,"") | CH11: =Proponentes!N2 -> 0 | CI11: =IF(BN11="","",IF(CJ11=0,"CUMPLE","NO CUMPLE")) -> CUMPLE | CL11: =IF(E11>0,E11,"") -> SEGURIDAD LASER LTDA. | CM11: 1 | CN11: NO | CO11: SI | CQ11: WEST ARMY SECURITY LTDA | CR11: 2 | CS11: NO | CT11: SI | DF11: =IF(CL11="","",IF(CP11=0,IF(CU11=0,IF(CZ11=0,IF(DE11=0,"CUMPLE","NO CUMPLE"),"NO CUMPLE"),"NO CUMPLE"),"NO CUMPLE")) -> CUMPLE | DI11: =IF(E11>0,E11,"") -> SEGURIDAD LASER LTDA. | DJ11: 1 | DK11: SI | DM11: WEST SECURITY ARMY LTDA | DN11: 2 | DO11: SI | DY11: =IF(DI11="","",IF(DL11=0,IF(DP11=0,IF(DT11=0,IF(DX11=0,"CUMPLE","NO CUMPLE"),"NO CUMPLE"),"NO CUMPLE"),"NO CUMPLE")) -> CUMPLE | EB11: =IF(E11>0,E11,"") -> SEGURIDAD LASER LTDA. | EC11: 1 | ED11: SI | EF11: WEST ARMY SECURITY LTDA | EG11: 2 | EH11: SI | ER11: =IF(EB11="","",IF(EE11=0,IF(EI11=0,IF(EM11=0,IF(EQ11=0,"CUMPLE","NO CUMPLE"),"NO CUMPLE"),"NO CUMPLE"),"NO CUMPLE")) -> CUMPLE | EU11: =IF(E11>0,E11,"") -> SEGURIDAD LASER LTDA. | EV11: 1-9 | EW11: SI | EY11: WEST ARMY SECURITY LTDA. | EZ11: 10-18 | FA11: SI | FK11: =IF(EU11="","",IF(EX11=0,IF(FB11=0,IF(FF11=0,IF(FJ11=0,"CUMPLE","NO CUMPLE"),"NO CUMPLE"),"NO CUMPLE"),"NO CUMPLE")) -> CUMPLE | FN11: =IF(E11>0,E11,"") -> SEGURIDAD LASER LTDA. | FO11: 1 A 3 | FQ11: WEST SECURITY ARMY LTDA. | FR11: 4 A 7 | FZ11: =IF(FN11="","",IF(FP11=0,IF(FS11=0,IF(FV11=0,IF(FY11=0,"CUMPLE","NO CUMPLE"),"NO CUMPLE"),"NO CUMPLE"),"NO CUMPLE")) -> CUMPLE | GC11: =IF(E11>0,E11,"") -> SEGURIDAD LASER LTDA. | GD11: 1-3 | GE11: SI | GI11: WEST ARMY SECURITY LTDA | GJ11: 4-8 | GK11: SI | HA11: =IF(GC11="","",IF(GH11=0,IF(GN11=0,IF(GT11=0,IF(GZ11=0,"CUMPLE","NO CUMPLE"),"NO CUMPLE"),"NO CUMPLE"),"NO CUMPLE")) -> CUMPLE | HD11: =IF(E11>0,E11,"") -> SEGURIDAD LASER LTDA. | HE11: 1 AL 9 | HF11: SI | HI11: WEST ARMY SECURITY LTDA | HJ11: 10 A 21 | HK11: SI | HX11: =IF(HD11="","",IF(HH11=0,IF(HM11=0,IF(HR11=0,IF(HW11=0,"CUMPLE","NO CUMPLE"),"NO CUMPLE"),"NO CUMPLE"),"NO CUMPLE")) -> CUMPLE | IA11: =IF(E11>0,E11,"") -> SEGURIDAD LASER LTDA. | IB11: 1 A 2 | IC11: SI | IE11: WEST ARMY SECURITY LTDA | IF11: 3 | IG11: SI | IQ11: =IF(IA11="","",IF(ID11=0,IF(IH11=0,IF(IL11=0,IF(IP11=0,"CUMPLE","NO CUMPLE"),"NO CUMPLE"),"NO CUMPLE"),"NO CUMPLE")) -> CUMPLE | IT11: SI | IU11: 1 Y 2 | IV11: =IF(IT11<>"",IF(IT11="SI",IF($IW$11=0,"CUMPLE","NO CUMPLE"),"NO CUMPLE"),"") -> CUMPLE
B12: 2 | C12: =IF(Proponentes!B3>0,Proponentes!B3,"") | AG12: =IF(E12="","",IF(K12=0,IF(R12=0,IF(Y12=0,IF(AF12=0,"CUMPLE","NO CUMPLE"),"NO CUMPLE"),"NO CUMPLE"),"NO CUMPLE")) | AJ12: =IF(E12>0,E12,"") | BL12: =IF(AJ12="","",IF(AP12=0,IF(AW12=0,IF(BD12=0,IF(BK12=0,"CUMPLE","NO CUMPLE"),"NO CUMPLE"),"NO CUMPLE"),"NO CUMPLE")) | BN12: =IF(E12>0,E12,"") | BS12: =IF(L12>0,L12,"") | BX12: =IF(S12>0,S12,"") | CC12: =IF(Z12>0,Z12,"") | CI12: =IF(BN12="","",IF(CJ12=0,"CUMPLE","NO CUMPLE")) | CL12: =IF(E12>0,E12,"") | DF12: =IF(CL12="","",IF(CP12=0,IF(CU12=0,IF(CZ12=0,IF(DE12=0,"CUMPLE","NO CUMPLE"),"NO CUMPLE"),"NO CUMPLE"),"NO CUMPLE")) | DI12: =IF(E12>0,E12,"") | DY12: =IF(DI12="","",IF(DL12=0,IF(DP12=0,IF(DT12=0,IF(DX12=0,"CUMPLE","NO CUMPLE"),"NO CUMPLE"),"NO CUMPLE"),"NO CUMPLE")) | EB12: =IF(E12>0,E12,"") | ER12: =IF(EB12="","",IF(EE12=0,IF(EI12=0,IF(EM12=0,IF(EQ12=0,"CUMPLE","NO CUMPLE"),"NO CUMPLE"),"NO CUMPLE"),"NO CUMPLE")) | EU12: =IF(E12>0,E12,"") | FK12: =IF(EU12="","",IF(EX12=0,IF(FB12=0,IF(FF12=0,IF(FJ12=0,"CUMPLE","NO CUMPLE"),"NO CUMPLE"),"NO CUMPLE"),"NO CUMPLE")) | FN12: =IF(E12>0,E12,"") | FZ12: =IF(FN12="","",IF(FP12=0,IF(FS12=0,IF(FV12=0,IF(FY12=0,"CUMPLE","NO CUMPLE"),"NO CUMPLE"),"NO CUMPLE"),"NO CUMPLE")) | GC12: =IF(E12>0,E12,"") | HA12: =IF(GC12="","",IF(GH12=0,IF(GN12=0,IF(GT12=0,IF(GZ12=0,"CUMPLE","NO CUMPLE"),"NO CUMPLE"),"NO CUMPLE"),"NO CUMPLE")) | HD12: =IF(E12>0,E12,"") | HX12: =IF(HD12="","",IF(HH12=0,IF(HM12=0,IF(HR12=0,IF(HW12=0,"CUMPLE","NO CUMPLE"),"NO CUMPLE"),"NO CUMPLE"),"NO CUMPLE")) | IA12: =IF(E12>0,E12,"") | IQ12: =IF(IA12="","",IF(ID12=0,IF(IH12=0,IF(IL12=0,IF(IP12=0,"CUMPLE","NO CUMPLE"),"NO CUMPLE"),"NO CUMPLE"),"NO CUMPLE")) | IV12: =IF(IT12<>"",IF(IT12="SI",IF($IW$11=0,"CUMPLE","NO CUMPLE"),"NO CUMPLE"),"")
