Workbook
Name A: [1]Datos!#REF!
Name AA: [1]Datos!#REF!
Name ACOMETIDA: '[2]ACTA DE MODIFICACION'!#REF!
Name Administrativos: [1]Datos!$C$17
Name AIU: [1]Datos!$C$16
Name asa: [1]Datos!#REF!
Name B: #REF!
Name B: #REF!
Name BuiltIn_Print_Area___0: #REF!
Name BuiltIn_Print_Area___0: #REF!
Name BuiltIn_Print_Titles: #REF!
Name BuiltIn_Print_Titles: #REF!
Name Compañía: [1]Datos!$C$5
Name Costos_Directos: #REF!
Name Costos_Indirectos: #REF!
Name Dólar: [1]Datos!$C$14
Name e: #REF!
Name e: #REF!
Name ESTADO: [3]Hoja2!$A$1:$A$3
Name Fletes: [1]Datos!$G$18
Name G: #REF!
Name G: #REF!
Name GanEquipos: [1]Datos!$J$16
Name GanFletes: [1]Datos!#REF!
Name GanMetal: [1]Datos!$J$17
Name GanOtros: [1]Datos!$J$19
Name GanSuministro: [1]Datos!$J$15
Name GanViáticos: [1]Datos!#REF!
Name GL: [1]Datos!$L$10
Name Imprevistos: [1]Datos!$C$18
Name inf: #REF!
Name IVA: [1]Datos!$G$14
Name IVA.ManoObra: [1]Datos!$G$15
Name JET: [1]Datos!#REF!
Name JJJ: [1]Datos!#REF!
Name LISTAM: '[4]Listado Materiales'!$A$7:$A$3000
Name LMATERIALES: '[5]Listado Materiales'!$A$7:$A$2276
Name ManoObra: [1]Datos!$J$18
Name MATERIALES: #REF!
Name MATERIALES: #REF!
Name ML: [1]Datos!$L$9
Name N: #REF!
Name N: #REF!
Name NO: [1]Datos!$L$7
Name Q: #REF!
Name Q: #REF!
Name s: [1]Datos!#REF!
Name saa: #REF!
Name saa: #REF!
Name Salario_minimo: [6]Salarios!$B$2
Name SI: [1]Datos!$L$6
Name TOTAL_E20: #REF!
Name Total_Proyecto: #REF!
Name Tubo_E.M.T._Ø_1: #REF!
Name Tubo_E.M.T._Ø_1: #REF!
Name Tubo_E_M_T__Ø_1: #REF!
Name Tubo_E_M_T__Ø_1: #REF!
Name UNID: [1]Datos!$L$8
Name Utilidad: [1]Datos!$C$19
Name Viáticos: [1]Datos!$G$19

Sheet INICIO
B2: PLANTILLA PARA CALCULAR LOS PRESUPUESTOS
D5: Nombre del proyecto:
D6: INSTALACIÓN DE SOLUCIONES ENERGÉTICAS PARA BENEFICIAR A 250 VIVIENDAS EN ZONAS NO INTERCONECTADAS DEL MUNICIPIO DE CUMARIBO-VICHADA
D9: Datos del proyecto
D11: Cantidad de viviendas | G11: 250 | T11: Buenaventura
D14: Potencia Instalada(Wp) | G14: 770 | T14: Cumaribo
D17: Resultados del proyecto
D21: Administración | G21: ='PPTO. GENERAL'!Q17 -> 0
D23: Imprevistos | G23: ='PPTO. GENERAL'!Q18 -> 0
D25: Utilidad | G25: ='PPTO. GENERAL'!Q19 -> 0
D27: IVA SOBRE UTILIDAD | G27: ='PPTO. GENERAL'!Q21 -> 0
D28: Total AIU | E28: =E21+E23+E25 -> 0

Sheet PPTO. GENERAL
B1: PRESUPUESTO GENERAL
B3: =INICIO!D6 -> INSTALACIÓN DE SOLUCIONES ENERGÉTICAS PARA BENEFICIAR A 250 VIVIENDAS EN ZONAS NO INTERCONECTADAS DEL MUNICIPIO DE CUMARIBO-VICHADA
B4: FORMULARIO RESUMEN UNITARIO DE ACTIVIDADES Y CANTIDADES DE OBRA
D5: COSTOS UNITARIOS | L5: COSTO TOTAL
B6: ÍTEM | C6: ACTIVIDAD | D6: CANTIDAD USUARIOS | E6: UNIDAD | F6: V/UNIDAD MATERIAL | G6: EXENCIÓN APLICABLE SOBRE ELEMENTO PRINCIPAL | H6: V/UNIDAD TRANSPORTE | I6: V/UNIDAD HERRAMIENTA | J6: V/UNIDAD M de O | K6: V/ UNIDAD ITEM | L6: TOTAL MATERIALES | M6: EXENCIÓN APLICABLE SOBRE ELEMENTO PRINCIPAL | N6: TOTAL TRANSPORTE | O6: TOTAL HERRAMIENTAS | P6: TOTAL MANO DE OBRA | Q6: SUBTOTAL GENERAL
B7: 1 | C7: Suministro, transporte e instalación de dos (2) módulos solares monocristalinos de potencia mayor o igual a 385 Wp c/u | D7: =INICIO!G11 -> 250 | E7: UND | F7: ='APU '!I26 -> 0 | G7: ='PPTO. UNITARIO'!F10 -> 0 | H7: ='APU '!I37 -> 0 | I7: ='APU '!I31 -> 0 | J7: ='APU '!I44 -> 0 | K7: =+J7+I7+H7+F7 -> 0 | L7: =+F7*D7 -> 0 | M7: =+G7*D7 -> 0 | N7: =+H7*D7 -> 0 | O7: =+I7*D7 -> 0 | P7: =+J7*D7 -> 0 | Q7: =+P7+O7+N7+L7 -> 0
B8: 2 | C8: Suministro, transporte e instalación de una (1) batería de Litio-Ion de capacidad mayor o igual de 2840 Wh, 25,6 VDC con vida util igual o mayor a 3650 ciclos a un DoD del 80% y protección de temperatura | D8: =D7 -> 250 | E8: UND | F8: ='APU '!I60 -> 0 | G8: ='PPTO. UNITARIO'!F11 -> 0 | H8: ='APU '!I72 -> 0 | I8: ='APU '!I65 -> 0 | J8: ='APU '!I79 -> 0 | K8: =+J8+I8+H8+F8 -> 0 | L8: =+F8*D8 -> 0 | M8: =+G8*D8 -> 0 | N8: =+H8*D8 -> 0 | O8: =+I8*D8 -> 0 | P8: =+J8*D8 -> 0 | Q8: =+P8+O8+N8+L8 -> 0
B9: 3 | C9: Suministro, transporte e instalación de regulador MPPT (controlador) de 24 Vdc, 40 A, tensión máxima de circuito abierto 150 Vdc | D9: =D8 -> 250 | E9: UND | F9: ='APU '!I94 -> 0 | G9: ='PPTO. UNITARIO'!F12 -> 0 | H9: ='APU '!I106 -> 0 | I9: ='APU '!I99 -> 0 | J9: ='APU '!I113 -> 0 | K9: =+J9+I9+H9+F9 -> 0 | L9: =+F9*D9 -> 0 | M9: =+G9*D9 -> 0 | N9: =+H9*D9 -> 0 | O9: =+I9*D9 -> 0 | P9: =+J9*D9 -> 0 | Q9: =+P9+O9+N9+L9 -> 0
B10: 4 | C10: Suministro, transporte e instalación de Inversor de 1.000 W, 24Vdc - 120Vac, 60Hz, onda senoidal pura | D10: =D9 -> 250 | E10: UND | F10: ='APU '!I128 -> 0 | G10: ='PPTO. UNITARIO'!F13 -> 0 | H10: ='APU '!I140 -> 0 | I10: ='APU '!I133 -> 0 | J10: ='APU '!I147 -> 0 | K10: =+J10+I10+H10+F10 -> 0 | L10: =+F10*D10 -> 0 | M10: =+G10*D10 -> 0 | N10: =+H10*D10 -> 0 | O10: =+I10*D10 -> 0 | P10: =+J10*D10 -> 0 | Q10: =+P10+O10+N10+L10 -> 0
B11: 5 | C11: Suministro, transporte e instalación de soporte para 2 páneles solares fotovoltaicos | D11: =D10 -> 250 | E11: UND | F11: ='APU '!I165 -> 0 | G11: NA | H11: ='APU '!I177 -> 0 | I11: ='APU '!I170 -> 0 | J11: ='APU '!I185 -> 0 | K11: =+J11+I11+H11+F11 -> 0 | L11: =+F11*D11 -> 0 | M11: NA | N11: =+H11*D11 -> 0 | O11: =+I11*D11 -> 0 | P11: =+J11*D11 -> 0 | Q11: =+P11+O11+N11+L11 -> 0
B12: 6 | C12: Suministro, transporte e instalación de sistema de puesta a tierra | D12: =D11 -> 250 | E12: UND | F12: ='APU '!I200 -> 0 | G12: NA | H12: ='APU '!I212 -> 0 | I12: ='APU '!I205 -> 0 | J12: ='APU '!I219 -> 0 | K12: =+J12+I12+H12+F12 -> 0 | L12: =+F12*D12 -> 0 | M12: NA | N12: =+H12*D12 -> 0 | O12: =+I12*D12 -> 0 | P12: =+J12*D12 -> 0 | Q12: =+P12+O12+N12+L12 -> 0
B13: 7 | C13: Suministro, transporte e instalación de materiales eléctricos de interconexión, accesorios y protecciones eléctricas para los SSFV | D13: =D12 -> 250 | E13: UND | F13: ='APU '!I246 -> 0 | G13: NA | H13: ='APU '!I258 -> 0 | I13: ='APU '!I251 -> 0 | J13: ='APU '!I265 -> 0 | K13: =+J13+I13+H13+F13 -> 0 | L13: =+F13*D13 -> 0 | M13: NA | N13: =+H13*D13 -> 0 | O13: =+I13*D13 -> 0 | P13: =+J13*D13 -> 0 | Q13: =+P13+O13+N13+L13 -> 0
B14: 8 | C14: Suministro, transporte e instalación de kit basico de instalaciones internas (cuatro (4) salidas de iluminación y tres (3) tomacorrientes dobles) y medidor prepago monofásico bifilar (incluye plataforma de recaudo) | D14: =D13 -> 250 | E14: UND | F14: ='APU '!I304 -> 0 | G14: NA | H14: ='APU '!I315 -> 0 | I14: ='APU '!I308 -> 0 | J14: ='APU '!I322 -> 0 | K14: =+J14+I14+H14+F14 -> 0 | L14: =+F14*D14 -> 0 | M14: NA | N14: =+H14*D14 -> 0 | O14: =+I14*D14 -> 0 | P14: =+J14*D14 -> 0 | Q14: =+P14+O14+N14+L14 -> 0
B15: 9 | C15: Replanteo de usuarios | D15: =D14 -> 250 | E15: UND | F15: ='PPTO. UNITARIO'!E18 -> 0 | G15: ='PPTO. UNITARIO'!F18 -> NA | H15: ='PPTO. UNITARIO'!G18 -> 0 | I15: ='PPTO. UNITARIO'!H18 -> 0 | J15: ='PPTO. UNITARIO'!I18 -> 0 | K15: =+J15+I15+H15+F15 -> 0 | L15: =+F15*D15 -> 0 | M15: NA | N15: =+H15*D15 -> 0 | O15: =+I15*D15 -> 0 | P15: =+J15*D15 -> 0 | Q15: =+P15+O15+N15+L15 -> 0
K16: TOTAL COSTOS DIRECTOS | Q16: =+SUM(Q7:Q15) -> 0
K17: ADMINISTRACIÓN | P17: ='PPTO. UNITARIO'!D20 -> 0 | Q17: =+$Q$16*P17 -> 0
K18: IMPREVISTOS minimo 4% | P18: 0.04 | Q18: =+$Q$16*P18 -> 0
K19: UTILIDADES | P19: ='PPTO. UNITARIO'!D22 -> 0 | Q19: =+$Q$16*P19 -> 0
K20: TOTAL COSTOS INDIRECTOS | Q20: =+SUM(Q17:Q19) -> 0
K21: IVA SOBRE UTILIDAD | P21: 0.19 | Q21: =Q19*P21 -> 0
K23: SUB - TOTAL COSTOS DIRECTOS + INDIRECTOS + IVA | Q23: =+Q21+Q20+Q16 -> 0
K25: APOYO A LA SUPERVISIÓN (% DE SUBTOTAL CD) | P25: =#REF! -> #REF! | Q25: =+Q16*P25 -> #REF!

Sheet PPTO. UNITARIO
B5: PRESUPUESTO SOLUCIÓN INDIVIDUAL GENERACIÓN 770 Wp
B7: =INICIO!D6 -> INSTALACIÓN DE SOLUCIONES ENERGÉTICAS PARA BENEFICIAR A 250 VIVIENDAS EN ZONAS NO INTERCONECTADAS DEL MUNICIPIO DE CUMARIBO-VICHADA
B8: FORMULARIO RESUMEN UNITARIO DE ACTIVIDADES Y CANTIDADES DE OBRA
B9: ÍTEM | C9: ACTIVIDAD | D9: Unidad | E9: V/Unidad MATERIAL | F9: EXENCIÓN APLICABLE SOBRE ELEMENTO PRINCIPAL | G9: V/Unidad TRANSPORTE | H9: V/Unidad HERRAMIENTA | I9: V/Unidad M de O | J9: V/ Unidad ITEM
B10: 1 | C10: Suministro, transporte e instalación de dos (2) módulos solares monocristalinos de potencia mayor o igual a 385 Wp c/u | D10: UND | E10: ='APU '!I26 -> 0 | F10: ='APU '!H10*'APU '!E10 -> 0 | G10: ='APU '!I37 -> 0 | H10: ='APU '!I31 -> 0 | I10: ='APU '!I44 -> 0 | J10: =+I10+H10+G10+E10 -> 0
B11: 2 | C11: Suministro, transporte e instalación de una (1) batería de Litio-Ion de capacidad mayor o igual de 2840 Wh, 25,6 VDC con vida util igual o mayor a 3650 ciclos a un DoD del 80% y protección de temperatura | D11: UND | E11: ='APU '!I60 -> 0 | F11: ='APU '!H52*'APU '!E52 -> 0 | G11: ='APU '!I72 -> 0 | H11: ='APU '!I65 -> 0 | I11: ='APU '!I79 -> 0 | J11: =+I11+H11+G11+E11 -> 0
B12: 3 | C12: Suministro, transporte e instalación de regulador MPPT (controlador) de 24 Vdc, 40 A, tensión máxima de circuito abierto 150 Vdc | D12: UND | E12: ='APU '!I94 -> 0 | F12: ='APU '!H87*'APU '!E87 -> 0 | G12: ='APU '!I106 -> 0 | H12: ='APU '!I99 -> 0 | I12: ='APU '!I113 -> 0 | J12: =+I12+H12+G12+E12 -> 0
B13: 4 | C13: Suministro, transporte e instalación de Inversor de 1.000 W, 24Vdc - 120Vac, 60Hz, onda senoidal pura | D13: UND | E13: ='APU '!I128 -> 0 | F13: ='APU '!H121 -> 0 | G13: ='APU '!I140 -> 0 | H13: ='APU '!I133 -> 0 | I13: ='APU '!I147 -> 0 | J13: =+I13+H13+G13+E13 -> 0
B14: 5 | C14: Suministro, transporte e instalación de soporte para 2 páneles solares fotovoltaicos | D14: UND | E14: ='APU '!I165 -> 0 | F14: NA | G14: ='APU '!I177 -> 0 | H14: ='APU '!I170 -> 0 | I14: ='APU '!I185 -> 0 | J14: =+I14+H14+G14+E14 -> 0
B15: 6 | C15: Suministro, transporte e instalación de sistema de puesta a tierra | D15: UND | E15: ='APU '!I200 -> 0 | F15: NA | G15: ='APU '!I212 -> 0 | H15: ='APU '!I205 -> 0 | I15: ='APU '!I219 -> 0 | J15: =+I15+H15+G15+E15 -> 0
B16: 7 | C16: Suministro, transporte e instalación de materiales eléctricos de interconexión, accesorios y protecciones eléctricas para los SSFV | D16: UND | E16: ='APU '!I246 -> 0 | F16: NA | G16: ='APU '!I258 -> 0 | H16: ='APU '!I251 -> 0 | I16: ='APU '!I265 -> 0 | J16: =+I16+H16+G16+E16 -> 0
B17: 8 | C17: Suministro, transporte e instalación de kit basico de instalaciones internas (cuatro (4) salidas de iluminación y tres (3) tomacorrientes dobles) y medidor prepago monofásico bifilar (incluye plataforma de recaudo) | D17: UND | E17: ='APU '!I304 -> 0 | F17: NA | G17: ='APU '!I315 -> 0 | H17: ='APU '!I308 -> 0 | I17: ='APU '!I322 -> 0 | J17: =+I17+H17+G17+E17 -> 0
B18: 9 | C18: Replanteo de usuarios | D18: UND | E18: ='APU '!I330 -> 0 | F18: NA | G18: ='APU '!I338 -> 0 | H18: ='APU '!I334 -> 0 | I18: ='APU '!I342 -> 0 | J18: =+I18+H18+G18+E18 -> 0
C19: TOTAL COSTOS DIRECTOS | F19: =+SUM(F10:F17) -> 0 | J19: =+SUM(J10:J18) -> 0
C20: ADMINISTRACIÓN | J20: =+$J$19*D20 -> 0
C21: IMPREVISTOS | J21: =+$J$19*D21 -> 0
C22: UTILIDADES | J22: =+$J$19*D22 -> 0
C23: TOTAL COSTOS INDIRECTOS | J23: =+SUM(J20:J22) -> 0
C25: SUB - TOTAL COSTOS DIRECTOS + INDIRECTOS + INTERVENTORÍA | J25: =+SUM(J23:J23)+J19 -> 0
C27: APOYO A LA SUPERVISIÓN (% DE SUBTOTAL CD) | D27: =#REF! -> #REF! | J27: =+J19*(D27) -> #REF!

Sheet APU 
B2: APU's UNIDADES INDIVIDUALES
B3: =INICIO!D6 -> INSTALACIÓN DE SOLUCIONES ENERGÉTICAS PARA BENEFICIAR A 250 VIVIENDAS EN ZONAS NO INTERCONECTADAS DEL MUNICIPIO DE CUMARIBO-VICHADA
B4: ANÁLISIS DE PRECIOS UNITARIOS
B5: 1. Suministro, transporte e instalación de dos (2) módulos solares monocristalinos de potencia mayor o igual a 385Wp cada uno + Accesorios de ensamblaje y sistema de protección DPS
H6: UNIDAD | I6: UND
B8: MATERIALES
B9: ÍTEM | C9: DESCRIPCIÓN DE MATERIALES | D9: UNID. | E9: CANT. | F9: VR. UNIT. + IVA | G9: VALOR ANTES DE IVA | H9: VALOR IVA | I9: VR. PARCIAL
B10: 1 | C10: Módulo solar cristalino de 385Wp | D10: UND | E10: 2 | I10: =+(G10)*E10 -> 0
B11: 2 | C11: Tornillos en acero galvanizado 1/4" x 3/4, incluye tuerca, guaza y arandela. | D11: UND | E11: 12 | I11: =+(H11+G11)*E11 -> 0
B12: 3 | C12: Conector MC4 hembra. | D12: UND | E12: 1 | I12: =+(H12+G12)*E12 -> 0
B13: 4 | C13: Conector MC4 macho. | D13: UND | E13: 1 | I13: =+(H13+G13)*E13 -> 0
B14: 5 | C14: Cable Solar 2,5 mm2 NEGRO. | D14: ML | E14: 10 | I14: =+(H14+G14)*E14 -> 0
B15: 6 | C15: Caja de paso externa plástica con riel IP65 20x20 Cm doble fondo. | D15: UND | E15: 1 | I15: =+(H15+G15)*E15 -> 0
B16: 7 | C16: Interruptor termomagnetico 16-35 A tipo riel - DC | D16: UND | E16: 1 | I16: =+(H16+G16)*E16 -> 0
B17: 8 | C17: Bloque de distribucion aislado (barraje) | D17: UND | E17: 3 | I17: =+(H17+G17)*E17 -> 0
B18: 9 | C18: Descargador de sobretensiones (DPS) | D18: UND | E18: 1 | I18: =+(H18+G18)*E18 -> 0
B19: 10 | C19: Cinta Bandit 1/4, incluye hebilla en acero inoxidable. | D19: ML | E19: 1 | I19: =+(H19+G19)*E19 -> 0
B20: 11 | C20: Riel omega, incluye remaches | D20: ML | E20: 0.1 | I20: =+(H20+G20)*E20 -> 0
B21: 12 | C21: Prensa estopa plastica 3/4". | D21: UND | E21: 2 | I21: =+(H21+G21)*E21 -> 0
B22: 13 | C22: Conector recto para coraza 3/4". | D22: UND | E22: 1 | I22: =+(H22+G22)*E22 -> 0
... B25: 16 | C25: Consumibles (amarres, marquillas, cinta de marcación y/o aislante, etc) | D25: UND | E25: 1 | I25: =+(H25+G25)*E25 -> 0
C26: SUBTOTAL MATERIALES | I26: =+SUM(I10:I25) -> 0
B27: EQUIPOS Y HERRAMIENTAS
B28: ÍTEM | C28: DESCRIPCIÓN EQUIPOS y HERRAMIENTAS | D28: TIPO | E28: Tarifa/día | F28: Rendimiento | H28: VR. ÍTEM | I28: VR. PARCIAL
B29: 1 | C29: Herramienta menor (5% de la mano de obra) | D29: UND | H29: =+F29*E29 -> 0 | I29: =H29 -> 0
B30: 2 | C30: Herramienta especial para conexión y verificacion de la planta solar FV. | D30: UND | H30: =+F30*E30 -> 0 | I30: =H30 -> 0
C31: SUBTOTAL EQUIPOS Y HERRAMIENTAS | I31: =+SUM(I29:I30) -> 0
B32: TRANSPORTES
B33: ÍTEM | C33: DESCRIPCIÓN TRANSPORTES | D33: UNID. | E33: PESO | F33: TARIFA/Kg | H33: AJUSTE / VOLUMEN | I33: VR. PARCIAL
B34: 1 | C34: ="Transporte terrestre Puerto "&INICIO!$T$11&" - "&INICIO!#REF! -> #REF! | D34: KG | E34: 67 | I34: =+H34*F34*E34 -> 0
B35: 2 | C35: ="Transporte terrestre "&INICIO!#REF!&" - " &INICIO!$T$14 -> #REF! | D35: KG | E35: 67 | I35: =+H35*F35*E35 -> 0
B36: 3 | C36: ="Transporte terrestre " &INICIO!$T$14& " a veredas" -> Transporte terrestre Cumaribo a veredas | D36: KG | E36: 67 | I36: =+H36*F36*E36 -> 0
C37: SUBTOTAL TRANSPORTES | I37: =+SUM(I34:I36) -> 0
B38: MANO DE OBRA
B39: ITEM | C39: DESCRIPCIÓN MANO DE OBRA | D39: Jornal | E39: Fac. Prest. | F39: RENDIM. | H39: VR. ÍTEM | I39: VR. PARCIAL
B40: 1 | C40: Capataz | D40: 1 | E40: 1.56 | I40: =+H40*F40*E40*D40 -> 0
B41: 2 | C41: Electricista | D41: 1 | E41: 1.56 | I41: =+H41*F41*E41*D41 -> 0
B42: 3 | C42: Auxiliar electricista | D42: 1 | E42: 1.56 | I42: =+H42*F42*E42*D42 -> 0
C44: SUBTOTAL MANO DE OBRA | I44: =+SUM(I40:I42) -> 0
C45: VALOR TOTAL UNITARIO ÍTEM 1 | I45: =+I44+I37+I31+I26 -> 0
...
