Workbook
Name _ftn1: Generalidades!$B$19
Name _ftnref1: Generalidades!$B$14
Name tematicas_exp_consultor: '[1]CONTROL DE CONDICIONES DE EVALU'!$O$3:$P$9

Sheet Generalidades
B1: MINISTERIO DE MINAS Y ENERGÍA
B2: CONCURSO DE MERITOS
B3: VERIFICACION REQUISITOS TÉCNICOS
B4: ANEXO. EXPERIENCIA ESPECÍFICA ADICIONAL DEL PROPONENTE (CALIFICABLE)
B6: Los OFERENTES podrán obtener hasta veintinueve puntos (29) por experiencia específica adicional demostrada en un máximo de diez (10) certificaciones de proyectos y/o contratos. Para lo anterior, ésta experiencia se evaluará en proyectos y/o contratos terminados que cumplan con los siguientes criterios:
B8: Criterio de Evaluación por Proyecto
B9: El objeto y/u obligaciones de dicho contrato deberá estar relacionado con al menos uno de los siguientes temas:
B10: Consultorías y/o estudios relacionados con:
B11: - Diseño y/o construcción de herramientas de consolidación y/o cotejo de información del sector extractivo.
B12: - Integración de información para el reporte y análisis en Entidades del Estado, como bodegas de datos o sistemas de inteligencia de negocios.
B13: - Actividades como administrador independiente en el marco de la iniciativa EITI en Colombia o a nivel internacional.
B14: - Proyectos de Transparencia[1].
... B23: El contrato y/o proyectos presentados para acreditar la experiencia adicional del proponente no deben tener una duración inferior a dos (2) meses. El Oferente deberá presentar certificaciones sobre dichos contratos, las cuales deberán contener, como mínimo, la siguiente información: • Nombre de la entidad contratante. • Nombre de la firma que llevó a cabo la ejecución del contrato. • Objeto del contrato y/o proyecto ejecutado • Obligaciones y/o actividades desarrolladas, donde se pueda evidenciar que cumple con la temática requerida. • Fecha de inicio y terminación del contrato (dd/mm/aa). • Nombre, cargo y firma de quien expide la certificación. Si la certificación no contiene la información solicitada puede presentarse fotocopia del contrato junto con el acta de recibo final, donde se pueda obtener la información requerida a manera de documentos aclaratorios de la certificación. Es importante aclarar que el Ministerio de Minas y Energía no aceptará como un nuevo contrato las adiciones o prorrogas. También es aceptado equivalente a la certificación de cumplimiento de los contratos ejecutados, copia de la respectiva acta de liquidación suscrita por las partes siempre y cuando de esta se pueda extraer la información requerida del presente numeral. Pepi = 29 * Ncepi/Ncepa Dónde: Pepi: Puntaje asignado a una propuesta i para la experiencia del Proponente Ncepi: Número certificaciones de experiencia válidas del proponente de una propuesta i Ncepa: Número certificaciones de experiencia válidas del proponente más alto entre las propuestas. Nota 1: Para efectos de facilitar la labor de evaluación del comité técnico, EL OFERENTE deberá, acompañar la propuesta del ANEXO 9 EXPERIENCIA ADICIONAL DE PROPONENTE debidamente diligenciado con la información solicitada para acreditar la experiencia adicional (Calificable), en formato editable preferiblemente.

Sheet 2. FACTORES_EVAL_A -P2
A1: =Generalidades!B1 -> MINISTERIO DE MINAS Y ENERGÍA
A2: =Generalidades!B2 -> CONCURSO DE MERITOS
A3: =Generalidades!B4 -> ANEXO. EXPERIENCIA ESPECÍFICA ADICIONAL DEL PROPONENTE (CALIFICABLE)
A4: =Generalidades!#REF! -> #REF!
A6: PROPONENTE | C6: =Generalidades!#REF! -> #REF!
A8: CRITERIOS PARA OTORGAR CALIFICACIÓN
A9: PROFESIONAL | D9: PROYECTOS ADICIONALES DE EXPERIENCIA PROFESIONAL RELACIONADA | H9: PUNTAJE OBTENIDO OFERENTE | I9: TOTALPUNTAJE OBTENIDO OFERENTE
D10: 1 a 3 | E10: 4 a 6 | F10: 7 +
A11: Calificación Director de Proyecto | D11: 9 | E11: 14 | F11: 20 | H11: =I19 -> 20 | I11: =SUM(H11:H14) -> 60
A12: Calificación Experto Senior | D12: 7 | E12: 10 | F12: 15 | H12: =I49 -> 15
A13: Calificación Consultor Funcional | D13: 7 | E13: 10 | F13: 15 | H13: =I79 -> 15
A14: Calificación Consultor Analítica de Datos | D14: 3 | E14: 8 | F14: 10 | H14: =I109 -> 10
A17: EVALUACIÓN DE CUMPLIMIENTO
A18: Cargo | C18: =A11 -> Calificación Director de Proyecto
A19: Profesional | C19: CLAUDIA MARCELA SANDOVAL CRIOLLO | D19: =D49 -> Total proyectos adicionales | G19: =D23+D26+D29+D32+D35+D38+D41 -> 7 | H19: Puntaje | I19: 20
A20: ACREDITACIÓN EXPERIENCIA ESPECÍFICA MÍNIMA
A21: No. | B21: Datos experiencia adicional | D21: CUMPLE CON LOS REQUISITOS: SI:1 NO:0 | G21: FECHA DE INICIO | H21: FECHA DE RETIRO | I21: ACREDITACIÓN
A23: 1 | B23: Contratante: CSI CONSULTORIAS Y SERVICIOS INTEGRADOS DE INGENIERÍA LTDA Número de contrato/cargo: No aplica | D23: 1 | G23: 36617 | H23: 36799 | I23: NO ACREDITADA Certificación aportada no detalla actividades
B24: FUNCIONES, OBLIGACIONES O ACTIVIDADES DESEMPEÑADAS
B25: Objeto: Asesora en proyectos de manejo de información técnica relacionados con organización, inventario, preservación de información y documentación de los respectivos procesos. Certificación No refiere actividades u obligaciones.
A26: 2 | B26: Contratante: Número de contrato/cargo: | D26: 1 | I26: ACREDITADA
B27: FUNCIONES, OBLIGACIONES O ACTIVIDADES DESEMPEÑADAS
A29: 3 | B29: Contratante: Número de contrato/cargo: | D29: 1
B30: FUNCIONES, OBLIGACIONES O ACTIVIDADES DESEMPEÑADAS
A32: 4 | B32: Contratante: Número de contrato/cargo: | D32: 1 | I32: ACREDITADA
B33: FUNCIONES, OBLIGACIONES O ACTIVIDADES DESEMPEÑADAS
A35: 5 | B35: Contratante: | D35: 1
B36: FUNCIONES, OBLIGACIONES O ACTIVIDADES DESEMPEÑADAS
A38: 6 | B38: Contratante: Número de contrato/cargo: | D38: 1
B39: FUNCIONES, OBLIGACIONES O ACTIVIDADES DESEMPEÑADAS
A41: 7 | B41: Contratante: Número de contrato/cargo: | D41: 1
B42: FUNCIONES, OBLIGACIONES O ACTIVIDADES DESEMPEÑADAS
A44: No. | B44: DOCUMENTOS REQUERIDOS COMO SOPORTE | E44: APORTADO | G44: ARCHIVO
A45: 1 | B45: Certificación laboral y/o acta de liquidación | E45: SI
A46: 2 | B46: Registro en Anexo 8 | E46: SI
A48: Cargo | C48: =A12 -> Calificación Experto Senior
A49: Profesional | D49: Total proyectos adicionales | G49: =D53+D56+D62+D59+D65+D68+D71 -> 7 | H49: Puntaje | I49: 15
A50: ACREDITACIÓN EXPERIENCIA ESPECÍFICA MÍNIMA
A51: No. | B51: Datos experiencia adicional | D51: CUMPLE CON LOS REQUISITOS: SI:1 NO:0 | G51: FECHA DE INICIO | H51: FECHA DE RETIRO | I51: CERTIFICADO LABORAL APORTADO
A53: 1 | B53: Contratante: Unidad Administrativa Especial Cuerpo Oficial de Bomberos de Bogotá D.C. Número de contrato/cargo: 086-2013 | D53: 1 | G53: 41317 | H53: 41466 | I53: ACREDITADA Se traslapa con la certificación No. 2
B54: FUNCIONES, OBLIGACIONES O ACTIVIDADES DESEMPEÑADAS
A56: 2 | B56: Contratante: Número de contrato/cargo: | D56: 1 | G56: 41467 | H56: 41656 | I56: ACREDITADA Se traslapa con la certificación No. 1, por tal motivo, para contabilizar la experiencia se tomo como fecha de inicio el día 12/07/2013
B57: FUNCIONES, OBLIGACIONES O ACTIVIDADES DESEMPEÑADAS
A59: 3 | B59: Contratante: Número de contrato/cargo: | D59: 1
B60: FUNCIONES, OBLIGACIONES O ACTIVIDADES DESEMPEÑADAS
A62: 4 | B62: Contratante: Número de contrato/cargo: | D62: 1 | I62: ACREDITADA
B63: FUNCIONES, OBLIGACIONES O ACTIVIDADES DESEMPEÑADAS
A65: 5 | B65: Contratante: Número de contrato/cargo: | D65: 1
B66: FUNCIONES, OBLIGACIONES O ACTIVIDADES DESEMPEÑADAS
A68: 6 | B68: Contratante: Número de contrato/cargo: | D68: 1
B69: FUNCIONES, OBLIGACIONES O ACTIVIDADES DESEMPEÑADAS
A71: 7 | B71: Contratante: Número de contrato/cargo: | D71: 1
B72: FUNCIONES, OBLIGACIONES O ACTIVIDADES DESEMPEÑADAS
A74: No. | B74: DOCUMENTOS REQUERIDOS COMO SOPORTE | E74: APORTADO | G74: ARCHIVO
A75: 1 | B75: Certificación laboral | E75: SI
A76: 2 | B76: Registro en Anexo 8 | E76: SI | G76: ANEXO 8. EXPERIENCIA PROFESIONAL EXPECIFICA ADICIONAL DEL EQUIPO DE TRABAJO.xls
A78: Cargo | C78: =A13 -> Calificación Consultor Funcional
A79: Profesional | D79: =D49 -> Total proyectos adicionales | G79: =D83+D86+D89+D92+D95+D98+D101 -> 7 | H79: Puntaje | I79: 15
A80: ACREDITACIÓN EXPERIENCIA ESPECÍFICA MÍNIMA
A81: No. | B81: Datos experiencia adicional | D81: =D51 -> CUMPLE CON LOS REQUISITOS: SI:1 NO:0 | G81: FECHA DE INICIO | H81: FECHA DE RETIRO | I81: CERTIFICADO LABORAL APORTADO
A83: 1 | B83: Contratante: Número de contrato/cargo: | D83: 1
B84: FUNCIONES, OBLIGACIONES O ACTIVIDADES DESEMPEÑADAS
A86: 2 | B86: Contratante: Número de contrato/cargo: | D86: 1
B87: FUNCIONES, OBLIGACIONES O ACTIVIDADES DESEMPEÑADAS
A89: 3 | B89: Contratante: Número de contrato/cargo: | D89: 1
B90: FUNCIONES, OBLIGACIONES O ACTIVIDADES DESEMPEÑADAS
A92: 4 | B92: Contratante: Número de contrato/cargo: | D92: 1
B93: FUNCIONES, OBLIGACIONES O ACTIVIDADES DESEMPEÑADAS
A95: 5 | B95: Contratante: Número de contrato/cargo: | D95: 1
B96: FUNCIONES, OBLIGACIONES O ACTIVIDADES DESEMPEÑADAS
A98: 6 | B98: Contratante: Número de contrato/cargo: | D98: 1
B99: FUNCIONES, OBLIGACIONES O ACTIVIDADES DESEMPEÑADAS
A101: 7 | B101: Contratante: Número de contrato/cargo: | D101: 1 | I101: NO ACREDITADA Las actividades relacionadas no refieren asociación explícita con la experiencia específica en los términos definidos en el Pliego de condiciones
B102: FUNCIONES, OBLIGACIONES O ACTIVIDADES DESEMPEÑADAS
A104: No. | B104: DOCUMENTOS REQUERIDOS COMO SOPORTE | E104: APORTADO | G104: ARCHIVO
A105: 1 | B105: Certificación laboral | E105: SI | G105: ANEXO 8C. CERTIFICACIONES EXPECIFICA ADICIONAL DEL EQUIPO DE TRABAJO.pdf
A106: 2 | B106: Registro en Anexo 8 | E106: SI | G106: ANEXO 8. EXPERIENCIA PROFESIONAL EXPECIFICA ADICIONAL DEL EQUIPO DE TRABAJO.xls
A108: Cargo | C108: =A14 -> Calificación Consultor Analítica de Datos
A109: Profesional | D109: Total proyectos adicionales | G109: =D113+D116+D119+D122+D125+D128+D131 -> 7 | H109: Puntaje | I109: 10
A110: ACREDITACIÓN EXPERIENCIA ESPECÍFICA MÍNIMA
A111: No. | B111: Datos experiencia adicional | D111: =D81 -> CUMPLE CON LOS REQUISITOS: SI:1 NO:0 | G111: FECHA DE INICIO | H111: FECHA DE RETIRO | I111: CERTIFICADO LABORAL APORTADO
A113: 1 | B113: Contratante: Número de contrato/cargo: | D113: 1
B114: FUNCIONES, OBLIGACIONES O ACTIVIDADES DESEMPEÑADAS
A116: 2 | B116: Contratante: Número de contrato/cargo: | D116: 1
B117: FUNCIONES, OBLIGACIONES O ACTIVIDADES DESEMPEÑADAS
A119: 3 | B119: Contratante: Número de contrato/cargo: | D119: 1
B120: FUNCIONES, OBLIGACIONES O ACTIVIDADES DESEMPEÑADAS
A122: 4 | B122: Contratante: Número de contrato/cargo: | D122: 1
B123: FUNCIONES, OBLIGACIONES O ACTIVIDADES DESEMPEÑADAS
A125: 5 | B125: Contratante: Número de contrato/cargo: | D125: 1
B126: FUNCIONES, OBLIGACIONES O ACTIVIDADES DESEMPEÑADAS
A128: 6 | B128: Contratante: Número de contrato/cargo: | D128: 1
B129: FUNCIONES, OBLIGACIONES O ACTIVIDADES DESEMPEÑADAS
A131: 7 | B131: Contratante: Número de contrato/cargo: | D131: 1
B132: FUNCIONES, OBLIGACIONES O ACTIVIDADES DESEMPEÑADAS
A134: No. | B134: DOCUMENTOS REQUERIDOS COMO SOPORTE | E134: APORTADO | G134: ARCHIVO
A135: 1 | B135: Certificación laboral | E135: SI | G135: ANEXO 8D. CERTIFICACIONES EXPECIFICA ADICIONAL DEL EQUIPO DE TRABAJO.pdf
A136: 2 | B136: Registro en Anexo 8 | E136: SI | G136: ANEXO B1038. EXPERIENCIA PROFESIONAL EXPECIFICA ADICIONAL DEL EQUIPO DE TRABAJO.xls
A139: =Generalidades!B23 -> El contrato y/o proyectos presentados para acreditar la experiencia adicional del proponente no deben tener una duración inferior a dos (2) meses. El Oferente deberá presentar certificaciones sobre dichos contratos, las cuales deberán contener, como mínimo, la siguiente información: • Nombre de la entidad contratante. • Nombre de la firma que llevó a cabo la ejecución del contrato. • Objeto del contrato y/o proyecto ejecutado • Obligaciones y/o actividades desarrolladas, donde se pueda evidenciar que cumple con la temática requerida. • Fecha de inicio y terminación del contrato (dd/mm/aa). • Nombre, cargo y firma de quien expide la certificación. Si la certificación no contiene la información solicitada puede presentarse fotocopia del contrato junto con el acta de recibo final, donde se pueda obtener la información requerida a manera de documentos aclaratorios de la certificación. Es importante aclarar que el Ministerio de Minas y Energía no aceptará como un nuevo contrato las adiciones o prorrogas. También es aceptado equivalente a la certificación de cumplimiento de los contratos ejecutados, copia de la respectiva acta de liquidación suscrita por las partes siempre y cuando de esta se pueda extraer la información requerida del presente numeral. Pepi = 29 * Ncepi/Ncepa Dónde: Pepi: Puntaje asignado a una propuesta i para la experiencia del Proponente Ncepi: Número certificaciones de experiencia válidas del proponente de una propuesta i Ncepa: Número certificaciones de experiencia válidas del proponente más alto entre las propuestas. Nota 1: Para efectos de facilitar la labor de evaluación del comité técnico, EL OFERENTE deberá, acompañar la propuesta del ANEXO 9 EXPERIENCIA ADICIONAL DE PROPONENTE debidamente diligenciado con la información solicitada para acreditar la experiencia adicional (Calificable), en formato editable preferiblemente.

Sheet 2. FACTORES_EVAL_A -P3
A1: =Generalidades!B1 -> MINISTERIO DE MINAS Y ENERGÍA
A2: =Generalidades!B2 -> CONCURSO DE MERITOS
A3: =Generalidades!B4 -> ANEXO. EXPERIENCIA ESPECÍFICA ADICIONAL DEL PROPONENTE (CALIFICABLE)
A4: =Generalidades!#REF! -> #REF!
A6: PROPONENTE | C6: =Generalidades!#REF! -> #REF!
A8: CRITERIOS PARA OTORGAR CALIFICACIÓN
A9: PROFESIONAL | D9: PROYECTOS ADICIONALES DE EXPERIENCIA PROFESIONAL RELACIONADA | H9: PUNTAJE OBTENIDO OFERENTE | I9: TOTALPUNTAJE OBTENIDO OFERENTE
D10: 1 a 3 | E10: 4 a 6 | F10: 7 +
A11: Calificación Director de Proyecto | D11: 9 | E11: 14 | F11: 20 | H11: =I19 -> 20 | I11: =SUM(H11:H14) -> 60
A12: Calificación Experto Senior | D12: 7 | E12: 10 | F12: 15 | H12: =I49 -> 15
A13: Calificación Consultor Funcional | D13: 7 | E13: 10 | F13: 15 | H13: =I79 -> 15
A14: Calificación Consultor Analítica de Datos | D14: 3 | E14: 8 | F14: 10 | H14: =I109 -> 10
A17: EVALUACIÓN DE CUMPLIMIENTO
A18: Cargo | C18: =A11 -> Calificación Director de Proyecto
A19: Profesional | C19: CLAUDIA MARCELA SANDOVAL CRIOLLO | D19: =D49 -> Total proyectos adicionales | G19: =D23+D26+D29+D32+D35+D38+D41 -> 7 | H19: Puntaje | I19: 20
A20: ACREDITACIÓN EXPERIENCIA ESPECÍFICA MÍNIMA
A21: No. | B21: Datos experiencia adicional | D21: CUMPLE CON LOS REQUISITOS: SI:1 NO:0 | G21: FECHA DE INICIO | H21: FECHA DE RETIRO | I21: ACREDITACIÓN
A23: 1 | B23: Contratante: CSI CONSULTORIAS Y SERVICIOS INTEGRADOS DE INGENIERÍA LTDA Número de contrato/cargo: No aplica | D23: 1 | G23: 36617 | H23: 36799 | I23: NO ACREDITADA Certificación aportada no detalla actividades
B24: FUNCIONES, OBLIGACIONES O ACTIVIDADES DESEMPEÑADAS
B25: Objeto: Asesora en proyectos de manejo de información técnica relacionados con organización, inventario, preservación de información y documentación de los respectivos procesos. Certificación No refiere actividades u obligaciones.
A26: 2 | B26: Contratante: Número de contrato/cargo: | D26: 1 | I26: ACREDITADA
B27: FUNCIONES, OBLIGACIONES O ACTIVIDADES DESEMPEÑADAS
A29: 3 | B29: Contratante: Número de contrato/cargo: | D29: 1
B30: FUNCIONES, OBLIGACIONES O ACTIVIDADES DESEMPEÑADAS
A32: 4 | B32: Contratante: Número de contrato/cargo: | D32: 1 | I32: ACREDITADA
B33: FUNCIONES, OBLIGACIONES O ACTIVIDADES DESEMPEÑADAS
A35: 5 | B35: Contratante: | D35: 1
B36: FUNCIONES, OBLIGACIONES O ACTIVIDADES DESEMPEÑADAS
A38: 6 | B38: Contratante: Número de contrato/cargo: | D38: 1
B39: FUNCIONES, OBLIGACIONES O ACTIVIDADES DESEMPEÑADAS
A41: 7 | B41: Contratante: Número de contrato/cargo: | D41: 1
B42: FUNCIONES, OBLIGACIONES O ACTIVIDADES DESEMPEÑADAS
A44: No. | B44: DOCUMENTOS REQUERIDOS COMO SOPORTE | E44: APORTADO | G44: ARCHIVO
A45: 1 | B45: Certificación laboral y/o acta de liquidación | E45: SI
A46: 2 | B46: Registro en Anexo 8 | E46: SI
A48: Cargo | C48: =A12 -> Calificación Experto Senior
A49: Profesional | D49: Total proyectos adicionales | G49: =D53+D56+D62+D59+D65+D68+D71 -> 7 | H49: Puntaje | I49: 15
A50: ACREDITACIÓN EXPERIENCIA ESPECÍFICA MÍNIMA
A51: No. | B51: Datos experiencia adicional | D51: CUMPLE CON LOS REQUISITOS: SI:1 NO:0 | G51: FECHA DE INICIO | H51: FECHA DE RETIRO | I51: CERTIFICADO LABORAL APORTADO
A53: 1 | B53: Contratante: Unidad Administrativa Especial Cuerpo Oficial de Bomberos de Bogotá D.C. Número de contrato/cargo: 086-2013 | D53: 1 | G53: 41317 | H53: 41466 | I53: ACREDITADA Se traslapa con la certificación No. 2
B54: FUNCIONES, OBLIGACIONES O ACTIVIDADES DESEMPEÑADAS
A56: 2 | B56: Contratante: Número de contrato/cargo: | D56: 1 | G56: 41467 | H56: 41656 | I56: ACREDITADA Se traslapa con la certificación No. 1, por tal motivo, para contabilizar la experiencia se tomo como fecha de inicio el día 12/07/2013
B57: FUNCIONES, OBLIGACIONES O ACTIVIDADES DESEMPEÑADAS
A59: 3 | B59: Contratante: Número de contrato/cargo: | D59: 1
B60: FUNCIONES, OBLIGACIONES O ACTIVIDADES DESEMPEÑADAS
A62: 4 | B62: Contratante: Número de contrato/cargo: | D62: 1 | I62: ACREDITADA
B63: FUNCIONES, OBLIGACIONES O ACTIVIDADES DESEMPEÑADAS
A65: 5 | B65: Contratante: Número de contrato/cargo: | D65: 1
B66: FUNCIONES, OBLIGACIONES O ACTIVIDADES DESEMPEÑADAS
A68: 6 | B68: Contratante: Número de contrato/cargo: | D68: 1
B69: FUNCIONES, OBLIGACIONES O ACTIVIDADES DESEMPEÑADAS
A71: 7 | B71: Contratante: Número de contrato/cargo: | D71: 1
B72: FUNCIONES, OBLIGACIONES O ACTIVIDADES DESEMPEÑADAS
A74: No. | B74: DOCUMENTOS REQUERIDOS COMO SOPORTE | E74: APORTADO | G74: ARCHIVO
A75: 1 | B75: Certificación laboral | E75: SI
A76: 2 | B76: Registro en Anexo 8 | E76: SI | G76: ANEXO 8. EXPERIENCIA PROFESIONAL EXPECIFICA ADICIONAL DEL EQUIPO DE TRABAJO.xls
A78: Cargo | C78: =A13 -> Calificación Consultor Funcional
A79: Profesional | D79: =D49 -> Total proyectos adicionales | G79: =D83+D86+D89+D92+D95+D98+D101 -> 7 | H79: Puntaje | I79: 15
A80: ACREDITACIÓN EXPERIENCIA ESPECÍFICA MÍNIMA
A81: No. | B81: Datos experiencia adicional | D81: =D51 -> CUMPLE CON LOS REQUISITOS: SI:1 NO:0 | G81: FECHA DE INICIO | H81: FECHA DE RETIRO | I81: CERTIFICADO LABORAL APORTADO
A83: 1 | B83: Contratante: Número de contrato/cargo: | D83: 1
B84: FUNCIONES, OBLIGACIONES O ACTIVIDADES DESEMPEÑADAS
A86: 2 | B86: Contratante: Número de contrato/cargo: | D86: 1
B87: FUNCIONES, OBLIGACIONES O ACTIVIDADES DESEMPEÑADAS
A89: 3 | B89: Contratante: Número de contrato/cargo: | D89: 1
B90: FUNCIONES, OBLIGACIONES O ACTIVIDADES DESEMPEÑADAS
A92: 4 | B92: Contratante: Número de contrato/cargo: | D92: 1
B93: FUNCIONES, OBLIGACIONES O ACTIVIDADES DESEMPEÑADAS
A95: 5 | B95: Contratante: Número de contrato/cargo: | D95: 1
B96: FUNCIONES, OBLIGACIONES O ACTIVIDADES DESEMPEÑADAS
A98: 6 | B98: Contratante: Número de contrato/cargo: | D98: 1
B99: FUNCIONES, OBLIGACIONES O ACTIVIDADES DESEMPEÑADAS
A101: 7 | B101: Contratante: Número de contrato/cargo: | D101: 1 | I101: NO ACREDITADA Las actividades relacionadas no refieren asociación explícita con la experiencia específica en los términos definidos en el Pliego de condiciones
B102: FUNCIONES, OBLIGACIONES O ACTIVIDADES DESEMPEÑADAS
A104: No. | B104: DOCUMENTOS REQUERIDOS COMO SOPORTE | E104: APORTADO | G104: ARCHIVO
A105: 1 | B105: Certificación laboral | E105: SI | G105: ANEXO 8C. CERTIFICACIONES EXPECIFICA ADICIONAL DEL EQUIPO DE TRABAJO.pdf
A106: 2 | B106: Registro en Anexo 8 | E106: SI | G106: ANEXO 8. EXPERIENCIA PROFESIONAL EXPECIFICA ADICIONAL DEL EQUIPO DE TRABAJO.xls
A108: Cargo | C108: =A14 -> Calificación Consultor Analítica de Datos
A109: Profesional | D109: Total proyectos adicionales | G109: =D113+D116+D119+D122+D125+D128+D131 -> 7 | H109: Puntaje | I109: 10
A110: ACREDITACIÓN EXPERIENCIA ESPECÍFICA MÍNIMA
A111: No. | B111: Datos experiencia adicional | D111: =D81 -> CUMPLE CON LOS REQUISITOS: SI:1 NO:0 | G111: FECHA DE INICIO | H111: FECHA DE RETIRO | I111: CERTIFICADO LABORAL APORTADO
A113: 1 | B113: Contratante: Número de contrato/cargo: | D113: 1
B114: FUNCIONES, OBLIGACIONES O ACTIVIDADES DESEMPEÑADAS
A116: 2 | B116: Contratante: Número de contrato/cargo: | D116: 1
B117: FUNCIONES, OBLIGACIONES O ACTIVIDADES DESEMPEÑADAS
A119: 3 | B119: Contratante: Número de contrato/cargo: | D119: 1
B120: FUNCIONES, OBLIGACIONES O ACTIVIDADES DESEMPEÑADAS
A122: 4 | B122: Contratante: Número de contrato/cargo: | D122: 1
B123: FUNCIONES, OBLIGACIONES O ACTIVIDADES DESEMPEÑADAS
A125: 5 | B125: Contratante: Número de contrato/cargo: | D125: 1
B126: FUNCIONES, OBLIGACIONES O ACTIVIDADES DESEMPEÑADAS
A128: 6 | B128: Contratante: Número de contrato/cargo: | D128: 1
B129: FUNCIONES, OBLIGACIONES O ACTIVIDADES DESEMPEÑADAS
A131: 7 | B131: Contratante: Número de contrato/cargo: | D131: 1
B132: FUNCIONES, OBLIGACIONES O ACTIVIDADES DESEMPEÑADAS
A134: No. | B134: DOCUMENTOS REQUERIDOS COMO SOPORTE | E134: APORTADO | G134: ARCHIVO
A135: 1 | B135: Certificación laboral | E135: SI | G135: ANEXO 8D. CERTIFICACIONES EXPECIFICA ADICIONAL DEL EQUIPO DE TRABAJO.pdf
A136: 2 | B136: Registro en Anexo 8 | E136: SI | G136: ANEXO B1038. EXPERIENCIA PROFESIONAL EXPECIFICA ADICIONAL DEL EQUIPO DE TRABAJO.xls
A139: =Generalidades!B23 -> El contrato y/o proyectos presentados para acreditar la experiencia adicional del proponente no deben tener una duración inferior a dos (2) meses. El Oferente deberá presentar certificaciones sobre dichos contratos, las cuales deberán contener, como mínimo, la siguiente información: • Nombre de la entidad contratante. • Nombre de la firma que llevó a cabo la ejecución del contrato. • Objeto del contrato y/o proyecto ejecutado • Obligaciones y/o actividades desarrolladas, donde se pueda evidenciar que cumple con la temática requerida. • Fecha de inicio y terminación del contrato (dd/mm/aa). • Nombre, cargo y firma de quien expide la certificación. Si la certificación no contiene la información solicitada puede presentarse fotocopia del contrato junto con el acta de recibo final, donde se pueda obtener la información requerida a manera de documentos aclaratorios de la certificación. Es importante aclarar que el Ministerio de Minas y Energía no aceptará como un nuevo contrato las adiciones o prorrogas. También es aceptado equivalente a la certificación de cumplimiento de los contratos ejecutados, copia de la respectiva acta de liquidación suscrita por las partes siempre y cuando de esta se pueda extraer la información requerida del presente numeral. Pepi = 29 * Ncepi/Ncepa Dónde: Pepi: Puntaje asignado a una propuesta i para la experiencia del Proponente Ncepi: Número certificaciones de experiencia válidas del proponente de una propuesta i Ncepa: Número certificaciones de experiencia válidas del proponente más alto entre las propuestas. Nota 1: Para efectos de facilitar la labor de evaluación del comité técnico, EL OFERENTE deberá, acompañar la propuesta del ANEXO 9 EXPERIENCIA ADICIONAL DE PROPONENTE debidamente diligenciado con la información solicitada para acreditar la experiencia adicional (Calificable), en formato editable preferiblemente.

Sheet 2. FACTORES_EVAL_A -P4 
A1: =Generalidades!B1 -> MINISTERIO DE MINAS Y ENERGÍA
A2: =Generalidades!B2 -> CONCURSO DE MERITOS
A3: =Generalidades!B4 -> ANEXO. EXPERIENCIA ESPECÍFICA ADICIONAL DEL PROPONENTE (CALIFICABLE)
A4: =Generalidades!#REF! -> #REF!
A6: PROPONENTE | C6: =Generalidades!#REF! -> #REF!
A8: CRITERIOS PARA OTORGAR CALIFICACIÓN
A9: PROFESIONAL | D9: PROYECTOS ADICIONALES DE EXPERIENCIA PROFESIONAL RELACIONADA | H9: PUNTAJE OBTENIDO OFERENTE | I9: TOTALPUNTAJE OBTENIDO OFERENTE
D10: 1 a 3 | E10: 4 a 6 | F10: 7 +
A11: Calificación Director de Proyecto | D11: 9 | E11: 14 | F11: 20 | H11: =I19 -> 20 | I11: =SUM(H11:H14) -> 60
A12: Calificación Experto Senior | D12: 7 | E12: 10 | F12: 15 | H12: =I49 -> 15
A13: Calificación Consultor Funcional | D13: 7 | E13: 10 | F13: 15 | H13: =I79 -> 15
A14: Calificación Consultor Analítica de Datos | D14: 3 | E14: 8 | F14: 10 | H14: =I109 -> 10
A17: EVALUACIÓN DE CUMPLIMIENTO
A18: Cargo | C18: =A11 -> Calificación Director de Proyecto
A19: Profesional | C19: CLAUDIA MARCELA SANDOVAL CRIOLLO | D19: =D49 -> Total proyectos adicionales | G19: =D23+D26+D29+D32+D35+D38+D41 -> 7 | H19: Puntaje | I19: 20
A20: ACREDITACIÓN EXPERIENCIA ESPECÍFICA MÍNIMA
A21: No. | B21: Datos experiencia adicional | D21: CUMPLE CON LOS REQUISITOS: SI:1 NO:0 | G21: FECHA DE INICIO | H21: FECHA DE RETIRO | I21: ACREDITACIÓN
A23: 1 | B23: Contratante: CSI CONSULTORIAS Y SERVICIOS INTEGRADOS DE INGENIERÍA LTDA Número de contrato/cargo: No aplica | D23: 1 | G23: 36617 | H23: 36799 | I23: NO ACREDITADA Certificación aportada no detalla actividades
B24: FUNCIONES, OBLIGACIONES O ACTIVIDADES DESEMPEÑADAS
B25: Objeto: Asesora en proyectos de manejo de información técnica relacionados con organización, inventario, preservación de información y documentación de los respectivos procesos. Certificación No refiere actividades u obligaciones.
A26: 2 | B26: Contratante: Número de contrato/cargo: | D26: 1 | I26: ACREDITADA
B27: FUNCIONES, OBLIGACIONES O ACTIVIDADES DESEMPEÑADAS
A29: 3 | B29: Contratante: Número de contrato/cargo: | D29: 1
B30: FUNCIONES, OBLIGACIONES O ACTIVIDADES DESEMPEÑADAS
A32: 4 | B32: Contratante: Número de contrato/cargo: | D32: 1 | I32: ACREDITADA
B33: FUNCIONES, OBLIGACIONES O ACTIVIDADES DESEMPEÑADAS
A35: 5 | B35: Contratante: | D35: 1
B36: FUNCIONES, OBLIGACIONES O ACTIVIDADES DESEMPEÑADAS
A38: 6 | B38: Contratante: Número de contrato/cargo: | D38: 1
B39: FUNCIONES, OBLIGACIONES O ACTIVIDADES DESEMPEÑADAS
A41: 7 | B41: Contratante: Número de contrato/cargo: | D41: 1
B42: FUNCIONES, OBLIGACIONES O ACTIVIDADES DESEMPEÑADAS
A44: No. | B44: DOCUMENTOS REQUERIDOS COMO SOPORTE | E44: APORTADO | G44: ARCHIVO
A45: 1 | B45: Certificación laboral y/o acta de liquidación | E45: SI
A46: 2 | B46: Registro en Anexo 8 | E46: SI
A48: Cargo | C48: =A12 -> Calificación Experto Senior
A49: Profesional | D49: Total proyectos adicionales | G49: =D53+D56+D62+D59+D65+D68+D71 -> 7 | H49: Puntaje | I49: 15
A50: ACREDITACIÓN EXPERIENCIA ESPECÍFICA MÍNIMA
A51: No. | B51: Datos experiencia adicional | D51: CUMPLE CON LOS REQUISITOS: SI:1 NO:0 | G51: FECHA DE INICIO | H51: FECHA DE RETIRO | I51: CERTIFICADO LABORAL APORTADO
A53: 1 | B53: Contratante: Unidad Administrativa Especial Cuerpo Oficial de Bomberos de Bogotá D.C. Número de contrato/cargo: 086-2013 | D53: 1 | G53: 41317 | H53: 41466 | I53: ACREDITADA Se traslapa con la certificación No. 2
B54: FUNCIONES, OBLIGACIONES O ACTIVIDADES DESEMPEÑADAS
A56: 2 | B56: Contratante: Número de contrato/cargo: | D56: 1 | G56: 41467 | H56: 41656 | I56: ACREDITADA Se traslapa con la certificación No. 1, por tal motivo, para contabilizar la experiencia se tomo como fecha de inicio el día 12/07/2013
B57: FUNCIONES, OBLIGACIONES O ACTIVIDADES DESEMPEÑADAS
A59: 3 | B59: Contratante: Número de contrato/cargo: | D59: 1
B60: FUNCIONES, OBLIGACIONES O ACTIVIDADES DESEMPEÑADAS
A62: 4 | B62: Contratante: Número de contrato/cargo: | D62: 1 | I62: ACREDITADA
B63: FUNCIONES, OBLIGACIONES O ACTIVIDADES DESEMPEÑADAS
A65: 5 | B65: Contratante: Número de contrato/cargo: | D65: 1
B66: FUNCIONES, OBLIGACIONES O ACTIVIDADES DESEMPEÑADAS
A68: 6 | B68: Contratante: Número de contrato/cargo: | D68: 1
B69: FUNCIONES, OBLIGACIONES O ACTIVIDADES DESEMPEÑADAS
A71: 7 | B71: Contratante: Número de contrato/cargo: | D71: 1
B72: FUNCIONES, OBLIGACIONES O ACTIVIDADES DESEMPEÑADAS
A74: No. | B74: DOCUMENTOS REQUERIDOS COMO SOPORTE | E74: APORTADO | G74: ARCHIVO
A75: 1 | B75: Certificación laboral | E75: SI
A76: 2 | B76: Registro en Anexo 8 | E76: SI | G76: ANEXO 8. EXPERIENCIA PROFESIONAL EXPECIFICA ADICIONAL DEL EQUIPO DE TRABAJO.xls
A78: Cargo | C78: =A13 -> Calificación Consultor Funcional
A79: Profesional | D79: =D49 -> Total proyectos adicionales | G79: =D83+D86+D89+D92+D95+D98+D101 -> 7 | H79: Puntaje | I79: 15
A80: ACREDITACIÓN EXPERIENCIA ESPECÍFICA MÍNIMA
A81: No. | B81: Datos experiencia adicional | D81: =D51 -> CUMPLE CON LOS REQUISITOS: SI:1 NO:0 | G81: FECHA DE INICIO | H81: FECHA DE RETIRO | I81: CERTIFICADO LABORAL APORTADO
A83: 1 | B83: Contratante: Número de contrato/cargo: | D83: 1
B84: FUNCIONES, OBLIGACIONES O ACTIVIDADES DESEMPEÑADAS
A86: 2 | B86: Contratante: Número de contrato/cargo: | D86: 1
B87: FUNCIONES, OBLIGACIONES O ACTIVIDADES DESEMPEÑADAS
A89: 3 | B89: Contratante: Número de contrato/cargo: | D89: 1
B90: FUNCIONES, OBLIGACIONES O ACTIVIDADES DESEMPEÑADAS
A92: 4 | B92: Contratante: Número de contrato/cargo: | D92: 1
B93: FUNCIONES, OBLIGACIONES O ACTIVIDADES DESEMPEÑADAS
A95: 5 | B95: Contratante: Número de contrato/cargo: | D95: 1
B96: FUNCIONES, OBLIGACIONES O ACTIVIDADES DESEMPEÑADAS
A98: 6 | B98: Contratante: Número de contrato/cargo: | D98: 1
B99: FUNCIONES, OBLIGACIONES O ACTIVIDADES DESEMPEÑADAS
A101: 7 | B101: Contratante: Número de contrato/cargo: | D101: 1 | I101: NO ACREDITADA Las actividades relacionadas no refieren asociación explícita con la experiencia específica en los términos definidos en el Pliego de condiciones
B102: FUNCIONES, OBLIGACIONES O ACTIVIDADES DESEMPEÑADAS
A104: No. | B104: DOCUMENTOS REQUERIDOS COMO SOPORTE | E104: APORTADO | G104: ARCHIVO
A105: 1 | B105: Certificación laboral | E105: SI | G105: ANEXO 8C. CERTIFICACIONES EXPECIFICA ADICIONAL DEL EQUIPO DE TRABAJO.pdf
A106: 2 | B106: Registro en Anexo 8 | E106: SI | G106: ANEXO 8. EXPERIENCIA PROFESIONAL EXPECIFICA ADICIONAL DEL EQUIPO DE TRABAJO.xls
A108: Cargo | C108: =A14 -> Calificación Consultor Analítica de Datos
A109: Profesional | D109: Total proyectos adicionales | G109: =D113+D116+D119+D122+D125+D128+D131 -> 7 | H109: Puntaje | I109: 10
A110: ACREDITACIÓN EXPERIENCIA ESPECÍFICA MÍNIMA
A111: No. | B111: Datos experiencia adicional | D111: =D81 -> CUMPLE CON LOS REQUISITOS: SI:1 NO:0 | G111: FECHA DE INICIO | H111: FECHA DE RETIRO | I111: CERTIFICADO LABORAL APORTADO
A113: 1 | B113: Contratante: Número de contrato/cargo: | D113: 1
B114: FUNCIONES, OBLIGACIONES O ACTIVIDADES DESEMPEÑADAS
A116: 2 | B116: Contratante: Número de contrato/cargo: | D116: 1
B117: FUNCIONES, OBLIGACIONES O ACTIVIDADES DESEMPEÑADAS
A119: 3 | B119: Contratante: Número de contrato/cargo: | D119: 1
B120: FUNCIONES, OBLIGACIONES O ACTIVIDADES DESEMPEÑADAS
A122: 4 | B122: Contratante: Número de contrato/cargo: | D122: 1
B123: FUNCIONES, OBLIGACIONES O ACTIVIDADES DESEMPEÑADAS
A125: 5 | B125: Contratante: Número de contrato/cargo: | D125: 1
B126: FUNCIONES, OBLIGACIONES O ACTIVIDADES DESEMPEÑADAS
A128: 6 | B128: Contratante: Número de contrato/cargo: | D128: 1
B129: FUNCIONES, OBLIGACIONES O ACTIVIDADES DESEMPEÑADAS
A131: 7 | B131: Contratante: Número de contrato/cargo: | D131: 1
B132: FUNCIONES, OBLIGACIONES O ACTIVIDADES DESEMPEÑADAS
A134: No. | B134: DOCUMENTOS REQUERIDOS COMO SOPORTE | E134: APORTADO | G134: ARCHIVO
A135: 1 | B135: Certificación laboral | E135: SI | G135: ANEXO 8D. CERTIFICACIONES EXPECIFICA ADICIONAL DEL EQUIPO DE TRABAJO.pdf
A136: 2 | B136: Registro en Anexo 8 | E136: SI | G136: ANEXO B1038. EXPERIENCIA PROFESIONAL EXPECIFICA ADICIONAL DEL EQUIPO DE TRABAJO.xls
A139: =Generalidades!B23 -> El contrato y/o proyectos presentados para acreditar la experiencia adicional del proponente no deben tener una duración inferior a dos (2) meses. El Oferente deberá presentar certificaciones sobre dichos contratos, las cuales deberán contener, como mínimo, la siguiente información: • Nombre de la entidad contratante. • Nombre de la firma que llevó a cabo la ejecución del contrato. • Objeto del contrato y/o proyecto ejecutado • Obligaciones y/o actividades desarrolladas, donde se pueda evidenciar que cumple con la temática requerida. • Fecha de inicio y terminación del contrato (dd/mm/aa). • Nombre, cargo y firma de quien expide la certificación. Si la certificación no contiene la información solicitada puede presentarse fotocopia del contrato junto con el acta de recibo final, donde se pueda obtener la información requerida a manera de documentos aclaratorios de la certificación. Es importante aclarar que el Ministerio de Minas y Energía no aceptará como un nuevo contrato las adiciones o prorrogas. También es aceptado equivalente a la certificación de cumplimiento de los contratos ejecutados, copia de la respectiva acta de liquidación suscrita por las partes siempre y cuando de esta se pueda extraer la información requerida del presente numeral. Pepi = 29 * Ncepi/Ncepa Dónde: Pepi: Puntaje asignado a una propuesta i para la experiencia del Proponente Ncepi: Número certificaciones de experiencia válidas del proponente de una propuesta i Ncepa: Número certificaciones de experiencia válidas del proponente más alto entre las propuestas. Nota 1: Para efectos de facilitar la labor de evaluación del comité técnico, EL OFERENTE deberá, acompañar la propuesta del ANEXO 9 EXPERIENCIA ADICIONAL DE PROPONENTE debidamente diligenciado con la información solicitada para acreditar la experiencia adicional (Calificable), en formato editable preferiblemente.

Sheet 2. FACTORES_EVAL_A -P6
A1: =Generalidades!B1 -> MINISTERIO DE MINAS Y ENERGÍA
A2: =Generalidades!B2 -> CONCURSO DE MERITOS
A3: =Generalidades!B4 -> ANEXO. EXPERIENCIA ESPECÍFICA ADICIONAL DEL PROPONENTE (CALIFICABLE)
A4: =Generalidades!#REF! -> #REF!
A6: PROPONENTE | C6: =Generalidades!#REF! -> #REF!
A8: CRITERIOS PARA OTORGAR CALIFICACIÓN
A9: PROFESIONAL | D9: PROYECTOS ADICIONALES DE EXPERIENCIA PROFESIONAL RELACIONADA | H9: PUNTAJE OBTENIDO OFERENTE | I9: TOTALPUNTAJE OBTENIDO OFERENTE
D10: 1 a 3 | E10: 4 a 6 | F10: 7 +
A11: Calificación Director de Proyecto | D11: 9 | E11: 14 | F11: 20 | H11: =I19 -> 20 | I11: =SUM(H11:H14) -> 60
A12: Calificación Experto Senior | D12: 7 | E12: 10 | F12: 15 | H12: =I49 -> 15
A13: Calificación Consultor Funcional | D13: 7 | E13: 10 | F13: 15 | H13: =I79 -> 15
A14: Calificación Consultor Analítica de Datos | D14: 3 | E14: 8 | F14: 10 | H14: =I109 -> 10
A17: EVALUACIÓN DE CUMPLIMIENTO
A18: Cargo | C18: =A11 -> Calificación Director de Proyecto
A19: Profesional | C19: CLAUDIA MARCELA SANDOVAL CRIOLLO | D19: =D49 -> Total proyectos adicionales | G19: =D23+D26+D29+D32+D35+D38+D41 -> 7 | H19: Puntaje | I19: 20
A20: ACREDITACIÓN EXPERIENCIA ESPECÍFICA MÍNIMA
A21: No. | B21: Datos experiencia adicional | D21: CUMPLE CON LOS REQUISITOS: SI:1 NO:0 | G21: FECHA DE INICIO | H21: FECHA DE RETIRO | I21: ACREDITACIÓN
A23: 1 | B23: Contratante: CSI CONSULTORIAS Y SERVICIOS INTEGRADOS DE INGENIERÍA LTDA Número de contrato/cargo: No aplica | D23: 1 | G23: 36617 | H23: 36799 | I23: NO ACREDITADA Certificación aportada no detalla actividades
B24: FUNCIONES, OBLIGACIONES O ACTIVIDADES DESEMPEÑADAS
B25: Objeto: Asesora en proyectos de manejo de información técnica relacionados con organización, inventario, preservación de información y documentación de los respectivos procesos. Certificación No refiere actividades u obligaciones.
A26: 2 | B26: Contratante: Número de contrato/cargo: | D26: 1 | I26: ACREDITADA
B27: FUNCIONES, OBLIGACIONES O ACTIVIDADES DESEMPEÑADAS
A29: 3 | B29: Contratante: Número de contrato/cargo: | D29: 1
B30: FUNCIONES, OBLIGACIONES O ACTIVIDADES DESEMPEÑADAS
A32: 4 | B32: Contratante: Número de contrato/cargo: | D32: 1 | I32: ACREDITADA
B33: FUNCIONES, OBLIGACIONES O ACTIVIDADES DESEMPEÑADAS
A35: 5 | B35: Contratante: | D35: 1
B36: FUNCIONES, OBLIGACIONES O ACTIVIDADES DESEMPEÑADAS
A38: 6 | B38: Contratante: Número de contrato/cargo: | D38: 1
B39: FUNCIONES, OBLIGACIONES O ACTIVIDADES DESEMPEÑADAS
A41: 7 | B41: Contratante: Número de contrato/cargo: | D41: 1
B42: FUNCIONES, OBLIGACIONES O ACTIVIDADES DESEMPEÑADAS
A44: No. | B44: DOCUMENTOS REQUERIDOS COMO SOPORTE | E44: APORTADO | G44: ARCHIVO
A45: 1 | B45: Certificación laboral y/o acta de liquidación | E45: SI
A46: 2 | B46: Registro en Anexo 8 | E46: SI
A48: Cargo | C48: =A12 -> Calificación Experto Senior
A49: Profesional | D49: Total proyectos adicionales | G49: =D53+D56+D62+D59+D65+D68+D71 -> 7 | H49: Puntaje | I49: 15
A50: ACREDITACIÓN EXPERIENCIA ESPECÍFICA MÍNIMA
A51: No. | B51: Datos experiencia adicional | D51: CUMPLE CON LOS REQUISITOS: SI:1 NO:0 | G51: FECHA DE INICIO | H51: FECHA DE RETIRO | I51: CERTIFICADO LABORAL APORTADO
A53: 1 | B53: Contratante: Unidad Administrativa Especial Cuerpo Oficial de Bomberos de Bogotá D.C. Número de contrato/cargo: 086-2013 | D53: 1 | G53: 41317 | H53: 41466 | I53: ACREDITADA Se traslapa con la certificación No. 2
B54: FUNCIONES, OBLIGACIONES O ACTIVIDADES DESEMPEÑADAS
A56: 2 | B56: Contratante: Número de contrato/cargo: | D56: 1 | G56: 41467 | H56: 41656 | I56: ACREDITADA Se traslapa con la certificación No. 1, por tal motivo, para contabilizar la experiencia se tomo como fecha de inicio el día 12/07/2013
B57: FUNCIONES, OBLIGACIONES O ACTIVIDADES DESEMPEÑADAS
A59: 3 | B59: Contratante: Número de contrato/cargo: | D59: 1
B60: FUNCIONES, OBLIGACIONES O ACTIVIDADES DESEMPEÑADAS
A62: 4 | B62: Contratante: Número de contrato/cargo: | D62: 1 | I62: ACREDITADA
B63: FUNCIONES, OBLIGACIONES O ACTIVIDADES DESEMPEÑADAS
A65: 5 | B65: Contratante: Número de contrato/cargo: | D65: 1
B66: FUNCIONES, OBLIGACIONES O ACTIVIDADES DESEMPEÑADAS
A68: 6 | B68: Contratante: Número de contrato/cargo: | D68: 1
B69: FUNCIONES, OBLIGACIONES O ACTIVIDADES DESEMPEÑADAS
A71: 7 | B71: Contratante: Número de contrato/cargo: | D71: 1
B72: FUNCIONES, OBLIGACIONES O ACTIVIDADES DESEMPEÑADAS
A74: No. | B74: DOCUMENTOS REQUERIDOS COMO SOPORTE | E74: APORTADO | G74: ARCHIVO
A75: 1 | B75: Certificación laboral | E75: SI
A76: 2 | B76: Registro en Anexo 8 | E76: SI | G76: ANEXO 8. EXPERIENCIA PROFESIONAL EXPECIFICA ADICIONAL DEL EQUIPO DE TRABAJO.xls
A78: Cargo | C78: =A13 -> Calificación Consultor Funcional
A79: Profesional | D79: =D49 -> Total proyectos adicionales | G79: =D83+D86+D89+D92+D95+D98+D101 -> 7 | H79: Puntaje | I79: 15
A80: ACREDITACIÓN EXPERIENCIA ESPECÍFICA MÍNIMA
A81: No. | B81: Datos experiencia adicional | D81: =D51 -> CUMPLE CON LOS REQUISITOS: SI:1 NO:0 | G81: FECHA DE INICIO | H81: FECHA DE RETIRO | I81: CERTIFICADO LABORAL APORTADO
A83: 1 | B83: Contratante: Número de contrato/cargo: | D83: 1
B84: FUNCIONES, OBLIGACIONES O ACTIVIDADES DESEMPEÑADAS
A86: 2 | B86: Contratante: Número de contrato/cargo: | D86: 1
B87: FUNCIONES, OBLIGACIONES O ACTIVIDADES DESEMPEÑADAS
A89: 3 | B89: Contratante: Número de contrato/cargo: | D89: 1
B90: FUNCIONES, OBLIGACIONES O ACTIVIDADES DESEMPEÑADAS
A92: 4 | B92: Contratante: Número de contrato/cargo: | D92: 1
B93: FUNCIONES, OBLIGACIONES O ACTIVIDADES DESEMPEÑADAS
A95: 5 | B95: Contratante: Número de contrato/cargo: | D95: 1
B96: FUNCIONES, OBLIGACIONES O ACTIVIDADES DESEMPEÑADAS
A98: 6 | B98: Contratante: Número de contrato/cargo: | D98: 1
B99: FUNCIONES, OBLIGACIONES O ACTIVIDADES DESEMPEÑADAS
A101: 7 | B101: Contratante: Número de contrato/cargo: | D101: 1 | I101: NO ACREDITADA Las actividades relacionadas no refieren asociación explícita con la experiencia específica en los términos definidos en el Pliego de condiciones
B102: FUNCIONES, OBLIGACIONES O ACTIVIDADES DESEMPEÑADAS
A104: No. | B104: DOCUMENTOS REQUERIDOS COMO SOPORTE | E104: APORTADO | G104: ARCHIVO
A105: 1 | B105: Certificación laboral | E105: SI | G105: ANEXO 8C. CERTIFICACIONES EXPECIFICA ADICIONAL DEL EQUIPO DE TRABAJO.pdf
A106: 2 | B106: Registro en Anexo 8 | E106: SI | G106: ANEXO 8. EXPERIENCIA PROFESIONAL EXPECIFICA ADICIONAL DEL EQUIPO DE TRABAJO.xls
A108: Cargo | C108: =A14 -> Calificación Consultor Analítica de Datos
A109: Profesional | D109: Total proyectos adicionales | G109: =D113+D116+D119+D122+D125+D128+D131 -> 7 | H109: Puntaje | I109: 10
A110: ACREDITACIÓN EXPERIENCIA ESPECÍFICA MÍNIMA
A111: No. | B111: Datos experiencia adicional | D111: =D81 -> CUMPLE CON LOS REQUISITOS: SI:1 NO:0 | G111: FECHA DE INICIO | H111: FECHA DE RETIRO | I111: CERTIFICADO LABORAL APORTADO
A113: 1 | B113: Contratante: Número de contrato/cargo: | D113: 1
B114: FUNCIONES, OBLIGACIONES O ACTIVIDADES DESEMPEÑADAS
A116: 2 | B116: Contratante: Número de contrato/cargo: | D116: 1
B117: FUNCIONES, OBLIGACIONES O ACTIVIDADES DESEMPEÑADAS
A119: 3 | B119: Contratante: Número de contrato/cargo: | D119: 1
B120: FUNCIONES, OBLIGACIONES O ACTIVIDADES DESEMPEÑADAS
A122: 4 | B122: Contratante: Número de contrato/cargo: | D122: 1
B123: FUNCIONES, OBLIGACIONES O ACTIVIDADES DESEMPEÑADAS
A125: 5 | B125: Contratante: Número de contrato/cargo: | D125: 1
B126: FUNCIONES, OBLIGACIONES O ACTIVIDADES DESEMPEÑADAS
A128: 6 | B128: Contratante: Número de contrato/cargo: | D128: 1
B129: FUNCIONES, OBLIGACIONES O ACTIVIDADES DESEMPEÑADAS
A131: 7 | B131: Contratante: Número de contrato/cargo: | D131: 1
B132: FUNCIONES, OBLIGACIONES O ACTIVIDADES DESEMPEÑADAS
A134: No. | B134: DOCUMENTOS REQUERIDOS COMO SOPORTE | E134: APORTADO | G134: ARCHIVO
A135: 1 | B135: Certificación laboral | E135: SI | G135: ANEXO 8D. CERTIFICACIONES EXPECIFICA ADICIONAL DEL EQUIPO DE TRABAJO.pdf
A136: 2 | B136: Registro en Anexo 8 | E136: SI | G136: ANEXO B1038. EXPERIENCIA PROFESIONAL EXPECIFICA ADICIONAL DEL EQUIPO DE TRABAJO.xls
A139: =Generalidades!B23 -> El contrato y/o proyectos presentados para acreditar la experiencia adicional del proponente no deben tener una duración inferior a dos (2) meses. El Oferente deberá presentar certificaciones sobre dichos contratos, las cuales deberán contener, como mínimo, la siguiente información: • Nombre de la entidad contratante. • Nombre de la firma que llevó a cabo la ejecución del contrato. • Objeto del contrato y/o proyecto ejecutado • Obligaciones y/o actividades desarrolladas, donde se pueda evidenciar que cumple con la temática requerida. • Fecha de inicio y terminación del contrato (dd/mm/aa). • Nombre, cargo y firma de quien expide la certificación. Si la certificación no contiene la información solicitada puede presentarse fotocopia del contrato junto con el acta de recibo final, donde se pueda obtener la información requerida a manera de documentos aclaratorios de la certificación. Es importante aclarar que el Ministerio de Minas y Energía no aceptará como un nuevo contrato las adiciones o prorrogas. También es aceptado equivalente a la certificación de cumplimiento de los contratos ejecutados, copia de la respectiva acta de liquidación suscrita por las partes siempre y cuando de esta se pueda extraer la información requerida del presente numeral. Pepi = 29 * Ncepi/Ncepa Dónde: Pepi: Puntaje asignado a una propuesta i para la experiencia del Proponente Ncepi: Número certificaciones de experiencia válidas del proponente de una propuesta i Ncepa: Número certificaciones de experiencia válidas del proponente más alto entre las propuestas. Nota 1: Para efectos de facilitar la labor de evaluación del comité técnico, EL OFERENTE deberá, acompañar la propuesta del ANEXO 9 EXPERIENCIA ADICIONAL DE PROPONENTE debidamente diligenciado con la información solicitada para acreditar la experiencia adicional (Calificable), en formato editable preferiblemente.

Sheet Evaluación Experiencia Adiciona
A1: =Generalidades!B1 -> MINISTERIO DE MINAS Y ENERGÍA
A2: =Generalidades!B2 -> CONCURSO DE MERITOS
A3: =Generalidades!B4 -> ANEXO. EXPERIENCIA ESPECÍFICA ADICIONAL DEL PROPONENTE (CALIFICABLE)
A4: =Generalidades!#REF! -> #REF!
A6: TEMÁTICAS | I6: MÁXIMO PUNTAJE (Para diligenciar entidad contratante) | J6: Ncepa* (Para diligenciar entidad contratante) | K6: PROPONENTE | N6: Ncepi* | O6: PUNTAJE OTORGADO (Para diligenciar entidad contratante)
A7: =Generalidades!B11 -> - Diseño y/o construcción de herramientas de consolidación y/o cotejo de información del sector extractivo. | I7: =Generalidades!#REF! -> #REF! | N7: 11 | O7: =I7*(N7/J7) -> #REF!
A8: =Generalidades!B12 -> - Integración de información para el reporte y análisis en Entidades del Estado, como bodegas de datos o sistemas de inteligencia de negocios.
A9: =Generalidades!B13 -> - Actividades como administrador independiente en el marco de la iniciativa EITI en Colombia o a nivel internacional.
A10: =Generalidades!B14 -> - Proyectos de Transparencia[1].
A11: =Generalidades!B15 -> - implementación de iniciativas EITI.
A12: =Generalidades!B16 -> - Análisis de procesos de acceso a la información.
A13: =Generalidades!B17 -> - Minería de datos, o Análisis de datos”, o “análisis de datos contables”
A14: =Generalidades!B18 -> - “Consultorías y/o estudios relacionados con GRI (Global Reportan Iniciativa)”
A15: =Generalidades!B19 -> [1] Se entenderá por transparencia los lineamientos y recomendaciones desarrollados por organizaciones internacionales de cooperación estatal como la Organización de Estados Americanos OEA y la Organización para la Cooperación y el Desarrollo Económico OECD, y de organizaciones de la sociedad civil como Transparencia Internacional y Transparencia por Colombia; en temas como anticorrupción, lavado de activos, financiación del terrorismo y buenas prácticas empresariales.
A16: *Neapa: Máximo de número de años de experiencia del Proponente que presente mayor número de certificaciones adicionales
A17: *Neapi: Número de años de experiencia adicional válidos para el proponente
A19: PROPONENTE | B19: No. | C19: NUMERO O NOMBRE DEL CONTRATO | D19: ENTIDAD CONTRATANTE O EMPLEADORA | E19: EXPERIENCIA ASOCIADA A AL MENOS UNA DE LAS TEMÁTICAS | F19: REGISTRO DE EXPERIENCIA EN ANEXO 9 No. Pag. | G19: DOCUMENTACIÓN SOPORTE DE LA EXPERIENCIA | I19: FECHAS EXTREMAS | K19: EXPERIENCIA (meses) | L19: ACREDITACIÓN | M19: OBSERVACIÓN
G20: INFORMACIÓN SUFICIENTE PARA EVALUACIÓN | H20: No. Pag. | I20: FECHA INICIO | J20: FECHA FINAL
B21: 1 | E21: SI | F21: 1 | G21: SI | H21: 2 a 23 | I21: dd/mm/aa | J21: dd/mm/aa | K21: =(J21-I21)/30 -> #VALUE! | L21: ACREDITADA | M21: La experiencia relacionada cumple con la experiencia asociada de:
C22: OBJETO O FUNCIONES
B24: 2 | K24: =(J24-I24)/30 -> 0 | L24: ACREDITADA
C25: OBJETO O FUNCIONES
B27: 3 | K27: =(J27-I27)/30 -> 0 | L27: ACREDITADA
C28: OBJETO O FUNCIONES
B30: 4 | K30: =(J30-I30)/30 -> 0 | L30: ACREDITADA
C31: OBJETO O FUNCIONES
B33: 5 | K33: =(J33-I33)/30 -> 0 | L33: ACREDITADA
C34: OBJETO O FUNCIONES
B36: 6 | K36: =(J36-I36)/30 -> 0 | L36: NO ACREDITADA
C37: OBJETO O FUNCIONES
B39: 7 | K39: =(J39-I39)/30 -> 0 | L39: NO ACREDITADA
C40: OBJETO O FUNCIONES
B42: 8 | K42: =(J42-I42)/30 -> 0 | L42: NO ACREDITADA
C43: OBJETO O FUNCIONES
B45: 9 | L45: ACREDITADA
C46: OBJETO O FUNCIONES
B48: 10 | I48: 43252 | J48: 43465 | K48: =(J48-I48)/30 -> 7.1 | L48: NO ACREDITADA | M48: La experiencia relacionada no cumple con la experiencia asociada requerida.
C49: OBJETO O FUNCIONES
B51: 11 | I51: 43623 | J51: En Ejecución | L51: NO ACREDITADA | M51: El contrato que se pretende acreditar se encuentra vigente no ha terminado, por otra parte, no se adjunta certificación sino contrato y adición.
C52: OBJETO O FUNCIONES
C54: Naeap - Número de años de experiencia adicional válidos para el proponente | K54: =SUM(K21:K53) -> #VALUE!
C55: DOCUMENTACIÓN REQUERIDA | F55: APORTADA POR EL PROPONENTE | I55: ARCHIVO ANEXO
C56: Anexo 9. Experiencia Específica Adicional del Proponente | F56: SI | I56: ANEXO 9. EXPERIENCIA ESPECIFICA ADICIONAL DEL PROPONENTE.pdf
C57: Documentación soporte de la experiencia adicional | F57: SI | I57: ANEXO 9. EXPERIENCIA ESPECIFICA ADICIONAL DEL PROPONENTE.pdf
A59: =Generalidades!B23 -> El contrato y/o proyectos presentados para acreditar la experiencia adicional del proponente no deben tener una duración inferior a dos (2) meses. El Oferente deberá presentar certificaciones sobre dichos contratos, las cuales deberán contener, como mínimo, la siguiente información: • Nombre de la entidad contratante. • Nombre de la firma que llevó a cabo la ejecución del contrato. • Objeto del contrato y/o proyecto ejecutado • Obligaciones y/o actividades desarrolladas, donde se pueda evidenciar que cumple con la temática requerida. • Fecha de inicio y terminación del contrato (dd/mm/aa). • Nombre, cargo y firma de quien expide la certificación. Si la certificación no contiene la información solicitada puede presentarse fotocopia del contrato junto con el acta de recibo final, donde se pueda obtener la información requerida a manera de documentos aclaratorios de la certificación. Es importante aclarar que el Ministerio de Minas y Energía no aceptará como un nuevo contrato las adiciones o prorrogas. También es aceptado equivalente a la certificación de cumplimiento de los contratos ejecutados, copia de la respectiva acta de liquidación suscrita por las partes siempre y cuando de esta se pueda extraer la información requerida del presente numeral. Pepi = 29 * Ncepi/Ncepa Dónde: Pepi: Puntaje asignado a una propuesta i para la experiencia del Proponente Ncepi: Número certificaciones de experiencia válidas del proponente de una propuesta i Ncepa: Número certificaciones de experiencia válidas del proponente más alto entre las propuestas. Nota 1: Para efectos de facilitar la labor de evaluación del comité técnico, EL OFERENTE deberá, acompañar la propuesta del ANEXO 9 EXPERIENCIA ADICIONAL DE PROPONENTE debidamente diligenciado con la información solicitada para acreditar la experiencia adicional (Calificable), en formato editable preferiblemente.

Sheet 2. FACTORES_EVAL_B P2
A1: =Generalidades!B1 -> MINISTERIO DE MINAS Y ENERGÍA
A2: =Generalidades!B2 -> CONCURSO DE MERITOS
A3: =Generalidades!B4 -> ANEXO. EXPERIENCIA ESPECÍFICA ADICIONAL DEL PROPONENTE (CALIFICABLE)
A4: =Generalidades!#REF! -> #REF!
A6: TEMÁTICAS | I6: MÁXIMO PUNTAJE | J6: Ncepa* | K6: PROPONENTE | N6: Ncepi* | O6: PUNTAJE OTORGADO
A7: Diseño y/o construcción de herramientas de consolidación y/o cotejo de información del sector extractivo. | I7: =Generalidades!#REF! -> #REF! | J7: 10 | K7: =Generalidades!#REF! -> #REF! | N7: 8 | O7: =I7*(N7/J7) -> #REF!
A8: Integración de información para el reporte y análisis en Entidades del Estado, como bodegas de datos o sistemas de inteligencia de negocios.
A9: Actividades como administrador independiente en el marco de la iniciativa EITI en Colombia o a nivel internacional.
A10: Proyectos de Transparencia4.
A11: “Consultorías y/o estudios relacionados con GRI (Global Reportan Iniciativa)”
A12: implementación de iniciativas EITI.
A13: Análisis de procesos de acceso a la información.
A14: Minería de datos, o Análisis de datos”, o “análisis de datos contables”
A15: *Neapa: Máximo de número de años de experiencia del Proponente que presente mayor número de certificaciones adicionales
A16: *Neapi: Número de años de experiencia adicional válidos para el proponente
A18: PROPONENTE | B18: No. | C18: NUMERO O NOMBRE DEL CONTRATO | D18: ENTIDAD D19CONTRATANTE O EMPLEADORA | E18: EXPERIENCIA ASOCIADA A AL MENOS UNA DE LAS TEMÁTICAS | F18: REGISTRO DE EXPERIENCIA EN ANEXO 9 No. Pag. | G18: DOCUMENTACIÓN SOPORTE DE LA EXPERIENCIA | I18: FECHAS EXTREMAS | K18: EXPERIENCIA (meses) | L18: ACREDITACIÓN | M18: OBSERVACIÓN
G19: INFORMACIÓN SUFICIENTE PARA EVALUACIÓN | H19: No. Pag. | I19: FECHA INICIO | J19: FECHA FINAL
A20: SOFT Y DI LTDA | B20: 1 | C20: Contrato 0832 de 2010 | D20: Gobernación de Casanare | E20: SI | F20: 1 | G20: SI | H20: 2 | I20: 40399 | J20: 40444 | K20: =(J20-I20)/30 -> 1.5 | L20: ACREDITADA
C21: OBJETO O FUNCIONES
C22: Desarrollo e implementación del módulo de consulta en ambiente web para la serie documental contratos de la Oficina Asesora Jurídica en desarrollo de la Gestión Documental del Departamento de Casanare
B23: 2
C24: OBJETO O FUNCIONES
B26: 3
C27: OBJETO O FUNCIONES
B29: 4
C30: OBJETO O FUNCIONES
B32: 5
C33: OBJETO O FUNCIONES
B35: 6
C36: OBJETO O FUNCIONES
B38: 7
C39: OBJETO O FUNCIONES
B41: 8
C42: OBJETO O FUNCIONES
C44: Naeap - Número de años de experiencia adicional válidos para el proponente | K44: =SUM(K20:K41) -> 1.5
C45: DOCUMENTACIÓN REQUERIDA | F45: APORTADA POR EL PROPONENTE | I45: ARCHIVO ANEXO
C46: Anexo 9. Experiencia Específica Adicional del Proponente | F46: SI | I46: ANEXO 9. EXPERIENCIA ESPECIFICA ADICIONAL DEL PROPONENTE.pdf
C47: Documentación soporte de la experiencia adicional | F47: SI | I47: ANEXO 9. EXPERIENCIA ESPECIFICA ADICIONAL DEL PROPONENTE.pdf
A49: =Generalidades!B23 -> El contrato y/o proyectos presentados para acreditar la experiencia adicional del proponente no deben tener una duración inferior a dos (2) meses. El Oferente deberá presentar certificaciones sobre dichos contratos, las cuales deberán contener, como mínimo, la siguiente información: • Nombre de la entidad contratante. • Nombre de la firma que llevó a cabo la ejecución del contrato. • Objeto del contrato y/o proyecto ejecutado • Obligaciones y/o actividades desarrolladas, donde se pueda evidenciar que cumple con la temática requerida. • Fecha de inicio y terminación del contrato (dd/mm/aa). • Nombre, cargo y firma de quien expide la certificación. Si la certificación no contiene la información solicitada puede presentarse fotocopia del contrato junto con el acta de recibo final, donde se pueda obtener la información requerida a manera de documentos aclaratorios de la certificación. Es importante aclarar que el Ministerio de Minas y Energía no aceptará como un nuevo contrato las adiciones o prorrogas. También es aceptado equivalente a la certificación de cumplimiento de los contratos ejecutados, copia de la respectiva acta de liquidación suscrita por las partes siempre y cuando de esta se pueda extraer la información requerida del presente numeral. Pepi = 29 * Ncepi/Ncepa Dónde: Pepi: Puntaje asignado a una propuesta i para la experiencia del Proponente Ncepi: Número certificaciones de experiencia válidas del proponente de una propuesta i Ncepa: Número certificaciones de experiencia válidas del proponente más alto entre las propuestas. Nota 1: Para efectos de facilitar la labor de evaluación del comité técnico, EL OFERENTE deberá, acompañar la propuesta del ANEXO 9 EXPERIENCIA ADICIONAL DE PROPONENTE debidamente diligenciado con la información solicitada para acreditar la experiencia adicional (Calificable), en formato editable preferiblemente.

Sheet 2. FACTORES_EVAL_B P3 
A1: =Generalidades!B1 -> MINISTERIO DE MINAS Y ENERGÍA
A2: =Generalidades!B2 -> CONCURSO DE MERITOS
A3: =Generalidades!B4 -> ANEXO. EXPERIENCIA ESPECÍFICA ADICIONAL DEL PROPONENTE (CALIFICABLE)
A4: =Generalidades!#REF! -> #REF!
A6: TEMÁTICAS | I6: MÁXIMO PUNTAJE | J6: Ncepa* | K6: PROPONENTE | N6: Ncepi* | O6: PUNTAJE OTORGADO
A7: Diseño y/o construcción de herramientas de consolidación y/o cotejo de información del sector extractivo. | I7: =Generalidades!#REF! -> #REF! | J7: 10 | K7: =Generalidades!#REF! -> #REF! | N7: 8 | O7: =I7*(N7/J7) -> #REF!
A8: Integración de información para el reporte y análisis en Entidades del Estado, como bodegas de datos o sistemas de inteligencia de negocios.
A9: Actividades como administrador independiente en el marco de la iniciativa EITI en Colombia o a nivel internacional.
A10: Proyectos de Transparencia4.
A11: “Consultorías y/o estudios relacionados con GRI (Global Reportan Iniciativa)”
A12: implementación de iniciativas EITI.
A13: Análisis de procesos de acceso a la información.
A14: Minería de datos, o Análisis de datos”, o “análisis de datos contables”
A15: *Neapa: Máximo de número de años de experiencia del Proponente que presente mayor número de certificaciones adicionales
A16: *Neapi: Número de años de experiencia adicional válidos para el proponente
A18: PROPONENTE | B18: No. | C18: NUMERO O NOMBRE DEL CONTRATO | D18: ENTIDAD D19CONTRATANTE O EMPLEADORA | E18: EXPERIENCIA ASOCIADA A AL MENOS UNA DE LAS TEMÁTICAS | F18: REGISTRO DE EXPERIENCIA EN ANEXO 9 No. Pag. | G18: DOCUMENTACIÓN SOPORTE DE LA EXPERIENCIA | I18: FECHAS EXTREMAS | K18: EXPERIENCIA (meses) | L18: ACREDITACIÓN | M18: OBSERVACIÓN
G19: INFORMACIÓN SUFICIENTE PARA EVALUACIÓN | H19: No. Pag. | I19: FECHA INICIO | J19: FECHA FINAL
A20: SOFT Y DI LTDA | B20: 1 | C20: Contrato 0832 de 2010 | D20: Gobernación de Casanare | E20: SI | F20: 1 | G20: SI | H20: 2 | I20: 40399 | J20: 40444 | K20: =(J20-I20)/30 -> 1.5 | L20: ACREDITADA
C21: OBJETO O FUNCIONES
C22: Desarrollo e implementación del módulo de consulta en ambiente web para la serie documental contratos de la Oficina Asesora Jurídica en desarrollo de la Gestión Documental del Departamento de Casanare
B23: 2
C24: OBJETO O FUNCIONES
B26: 3
C27: OBJETO O FUNCIONES
B29: 4
C30: OBJETO O FUNCIONES
B32: 5
C33: OBJETO O FUNCIONES
B35: 6
C36: OBJETO O FUNCIONES
B38: 7
C39: OBJETO O FUNCIONES
B41: 8
C42: OBJETO O FUNCIONES
C44: Naeap - Número de años de experiencia adicional válidos para el proponente | K44: =SUM(K20:K41) -> 1.5
C45: DOCUMENTACIÓN REQUERIDA | F45: APORTADA POR EL PROPONENTE | I45: ARCHIVO ANEXO
C46: Anexo 9. Experiencia Específica Adicional del Proponente | F46: SI | I46: ANEXO 9. EXPERIENCIA ESPECIFICA ADICIONAL DEL PROPONENTE.pdf
C47: Documentación soporte de la experiencia adicional | F47: SI | I47: ANEXO 9. EXPERIENCIA ESPECIFICA ADICIONAL DEL PROPONENTE.pdf
A49: =Generalidades!B23 -> El contrato y/o proyectos presentados para acreditar la experiencia adicional del proponente no deben tener una duración inferior a dos (2) meses. El Oferente deberá presentar certificaciones sobre dichos contratos, las cuales deberán contener, como mínimo, la siguiente información: • Nombre de la entidad contratante. • Nombre de la firma que llevó a cabo la ejecución del contrato. • Objeto del contrato y/o proyecto ejecutado • Obligaciones y/o actividades desarrolladas, donde se pueda evidenciar que cumple con la temática requerida. • Fecha de inicio y terminación del contrato (dd/mm/aa). • Nombre, cargo y firma de quien expide la certificación. Si la certificación no contiene la información solicitada puede presentarse fotocopia del contrato junto con el acta de recibo final, donde se pueda obtener la información requerida a manera de documentos aclaratorios de la certificación. Es importante aclarar que el Ministerio de Minas y Energía no aceptará como un nuevo contrato las adiciones o prorrogas. También es aceptado equivalente a la certificación de cumplimiento de los contratos ejecutados, copia de la respectiva acta de liquidación suscrita por las partes siempre y cuando de esta se pueda extraer la información requerida del presente numeral. Pepi = 29 * Ncepi/Ncepa Dónde: Pepi: Puntaje asignado a una propuesta i para la experiencia del Proponente Ncepi: Número certificaciones de experiencia válidas del proponente de una propuesta i Ncepa: Número certificaciones de experiencia válidas del proponente más alto entre las propuestas. Nota 1: Para efectos de facilitar la labor de evaluación del comité técnico, EL OFERENTE deberá, acompañar la propuesta del ANEXO 9 EXPERIENCIA ADICIONAL DE PROPONENTE debidamente diligenciado con la información solicitada para acreditar la experiencia adicional (Calificable), en formato editable preferiblemente.

Sheet 2. FACTORES_EVAL_B P4
A1: =Generalidades!B1 -> MINISTERIO DE MINAS Y ENERGÍA
A2: =Generalidades!B2 -> CONCURSO DE MERITOS
A3: =Generalidades!B4 -> ANEXO. EXPERIENCIA ESPECÍFICA ADICIONAL DEL PROPONENTE (CALIFICABLE)
A4: =Generalidades!#REF! -> #REF!
A6: TEMÁTICAS | I6: MÁXIMO PUNTAJE | J6: Ncepa* | K6: PROPONENTE | N6: Ncepi* | O6: PUNTAJE OTORGADO
A7: Diseño y/o construcción de herramientas de consolidación y/o cotejo de información del sector extractivo. | I7: =Generalidades!#REF! -> #REF! | J7: 10 | K7: =Generalidades!#REF! -> #REF! | N7: 8 | O7: =I7*(N7/J7) -> #REF!
A8: Integración de información para el reporte y análisis en Entidades del Estado, como bodegas de datos o sistemas de inteligencia de negocios.
A9: Actividades como administrador independiente en el marco de la iniciativa EITI en Colombia o a nivel internacional.
A10: Proyectos de Transparencia4.
A11: “Consultorías y/o estudios relacionados con GRI (Global Reportan Iniciativa)”
A12: implementación de iniciativas EITI.
A13: Análisis de procesos de acceso a la información.
A14: Minería de datos, o Análisis de datos”, o “análisis de datos contables”
A15: *Neapa: Máximo de número de años de experiencia del Proponente que presente mayor número de certificaciones adicionales
A16: *Neapi: Número de años de experiencia adicional válidos para el proponente
A18: PROPONENTE | B18: No. | C18: NUMERO O NOMBRE DEL CONTRATO | D18: ENTIDAD D19CONTRATANTE O EMPLEADORA | E18: EXPERIENCIA ASOCIADA A AL MENOS UNA DE LAS TEMÁTICAS | F18: REGISTRO DE EXPERIENCIA EN ANEXO 9 No. Pag. | G18: DOCUMENTACIÓN SOPORTE DE LA EXPERIENCIA | I18: FECHAS EXTREMAS | K18: EXPERIENCIA (meses) | L18: ACREDITACIÓN | M18: OBSERVACIÓN
G19: INFORMACIÓN SUFICIENTE PARA EVALUACIÓN | H19: No. Pag. | I19: FECHA INICIO | J19: FECHA FINAL
A20: SOFT Y DI LTDA | B20: 1 | C20: Contrato 0832 de 2010 | D20: Gobernación de Casanare | E20: SI | F20: 1 | G20: SI | H20: 2 | I20: 40399 | J20: 40444 | K20: =(J20-I20)/30 -> 1.5 | L20: ACREDITADA
C21: OBJETO O FUNCIONES
C22: Desarrollo e implementación del módulo de consulta en ambiente web para la serie documental contratos de la Oficina Asesora Jurídica en desarrollo de la Gestión Documental del Departamento de Casanare
B23: 2
C24: OBJETO O FUNCIONES
B26: 3
C27: OBJETO O FUNCIONES
B29: 4
C30: OBJETO O FUNCIONES
B32: 5
C33: OBJETO O FUNCIONES
B35: 6
C36: OBJETO O FUNCIONES
B38: 7
C39: OBJETO O FUNCIONES
B41: 8
C42: OBJETO O FUNCIONES
C44: Naeap - Número de años de experiencia adicional válidos para el proponente | K44: =SUM(K20:K41) -> 1.5
C45: DOCUMENTACIÓN REQUERIDA | F45: APORTADA POR EL PROPONENTE | I45: ARCHIVO ANEXO
C46: Anexo 9. Experiencia Específica Adicional del Proponente | F46: SI | I46: ANEXO 9. EXPERIENCIA ESPECIFICA ADICIONAL DEL PROPONENTE.pdf
C47: Documentación soporte de la experiencia adicional | F47: SI | I47: ANEXO 9. EXPERIENCIA ESPECIFICA ADICIONAL DEL PROPONENTE.pdf
A49: =Generalidades!B23 -> El contrato y/o proyectos presentados para acreditar la experiencia adicional del proponente no deben tener una duración inferior a dos (2) meses. El Oferente deberá presentar certificaciones sobre dichos contratos, las cuales deberán contener, como mínimo, la siguiente información: • Nombre de la entidad contratante. • Nombre de la firma que llevó a cabo la ejecución del contrato. • Objeto del contrato y/o proyecto ejecutado • Obligaciones y/o actividades desarrolladas, donde se pueda evidenciar que cumple con la temática requerida. • Fecha de inicio y terminación del contrato (dd/mm/aa). • Nombre, cargo y firma de quien expide la certificación. Si la certificación no contiene la información solicitada puede presentarse fotocopia del contrato junto con el acta de recibo final, donde se pueda obtener la información requerida a manera de documentos aclaratorios de la certificación. Es importante aclarar que el Ministerio de Minas y Energía no aceptará como un nuevo contrato las adiciones o prorrogas. También es aceptado equivalente a la certificación de cumplimiento de los contratos ejecutados, copia de la respectiva acta de liquidación suscrita por las partes siempre y cuando de esta se pueda extraer la información requerida del presente numeral. Pepi = 29 * Ncepi/Ncepa Dónde: Pepi: Puntaje asignado a una propuesta i para la experiencia del Proponente Ncepi: Número certificaciones de experiencia válidas del proponente de una propuesta i Ncepa: Número certificaciones de experiencia válidas del proponente más alto entre las propuestas. Nota 1: Para efectos de facilitar la labor de evaluación del comité técnico, EL OFERENTE deberá, acompañar la propuesta del ANEXO 9 EXPERIENCIA ADICIONAL DE PROPONENTE debidamente diligenciado con la información solicitada para acreditar la experiencia adicional (Calificable), en formato editable preferiblemente.

Sheet 2. FACTORES_EVAL_B P6
A1: =Generalidades!B1 -> MINISTERIO DE MINAS Y ENERGÍA
A2: =Generalidades!B2 -> CONCURSO DE MERITOS
A3: =Generalidades!B4 -> ANEXO. EXPERIENCIA ESPECÍFICA ADICIONAL DEL PROPONENTE (CALIFICABLE)
A4: =Generalidades!#REF! -> #REF!
A6: TEMÁTICAS | I6: MÁXIMO PUNTAJE | J6: Ncepa* | K6: PROPONENTE | N6: Ncepi* | O6: PUNTAJE OTORGADO
A7: Diseño y/o construcción de herramientas de consolidación y/o cotejo de información del sector extractivo. | I7: =Generalidades!#REF! -> #REF! | J7: 10 | K7: =Generalidades!#REF! -> #REF! | N7: 8 | O7: =I7*(N7/J7) -> #REF!
A8: Integración de información para el reporte y análisis en Entidades del Estado, como bodegas de datos o sistemas de inteligencia de negocios.
A9: Actividades como administrador independiente en el marco de la iniciativa EITI en Colombia o a nivel internacional.
A10: Proyectos de Transparencia4.
A11: “Consultorías y/o estudios relacionados con GRI (Global Reportan Iniciativa)”
A12: implementación de iniciativas EITI.
A13: Análisis de procesos de acceso a la información.
A14: Minería de datos, o Análisis de datos”, o “análisis de datos contables”
A15: *Neapa: Máximo de número de años de experiencia del Proponente que presente mayor número de certificaciones adicionales
A16: *Neapi: Número de años de experiencia adicional válidos para el proponente
A18: PROPONENTE | B18: No. | C18: NUMERO O NOMBRE DEL CONTRATO | D18: ENTIDAD D19CONTRATANTE O EMPLEADORA | E18: EXPERIENCIA ASOCIADA A AL MENOS UNA DE LAS TEMÁTICAS | F18: REGISTRO DE EXPERIENCIA EN ANEXO 9 No. Pag. | G18: DOCUMENTACIÓN SOPORTE DE LA EXPERIENCIA | I18: FECHAS EXTREMAS | K18: EXPERIENCIA (meses) | L18: ACREDITACIÓN | M18: OBSERVACIÓN
G19: INFORMACIÓN SUFICIENTE PARA EVALUACIÓN | H19: No. Pag. | I19: FECHA INICIO | J19: FECHA FINAL
A20: SOFT Y DI LTDA | B20: 1 | C20: Contrato 0832 de 2010 | D20: Gobernación de Casanare | E20: SI | F20: 1 | G20: SI | H20: 2 | I20: 40399 | J20: 40444 | K20: =(J20-I20)/30 -> 1.5 | L20: ACREDITADA
C21: OBJETO O FUNCIONES
C22: Desarrollo e implementación del módulo de consulta en ambiente web para la serie documental contratos de la Oficina Asesora Jurídica en desarrollo de la Gestión Documental del Departamento de Casanare
B23: 2
C24: OBJETO O FUNCIONES
B26: 3
C27: OBJETO O FUNCIONES
B29: 4
C30: OBJETO O FUNCIONES
B32: 5
C33: OBJETO O FUNCIONES
B35: 6
C36: OBJETO O FUNCIONES
B38: 7
C39: OBJETO O FUNCIONES
B41: 8
C42: OBJETO O FUNCIONES
C44: Naeap - Número de años de experiencia adicional válidos para el proponente | K44: =SUM(K20:K41) -> 1.5
C45: DOCUMENTACIÓN REQUERIDA | F45: APORTADA POR EL PROPONENTE | I45: ARCHIVO ANEXO
C46: Anexo 9. Experiencia Específica Adicional del Proponente | F46: SI | I46: ANEXO 9. EXPERIENCIA ESPECIFICA ADICIONAL DEL PROPONENTE.pdf
C47: Documentación soporte de la experiencia adicional | F47: SI | I47: ANEXO 9. EXPERIENCIA ESPECIFICA ADICIONAL DEL PROPONENTE.pdf
A49: =Generalidades!B23 -> El contrato y/o proyectos presentados para acreditar la experiencia adicional del proponente no deben tener una duración inferior a dos (2) meses. El Oferente deberá presentar certificaciones sobre dichos contratos, las cuales deberán contener, como mínimo, la siguiente información: • Nombre de la entidad contratante. • Nombre de la firma que llevó a cabo la ejecución del contrato. • Objeto del contrato y/o proyecto ejecutado • Obligaciones y/o actividades desarrolladas, donde se pueda evidenciar que cumple con la temática requerida. • Fecha de inicio y terminación del contrato (dd/mm/aa). • Nombre, cargo y firma de quien expide la certificación. Si la certificación no contiene la información solicitada puede presentarse fotocopia del contrato junto con el acta de recibo final, donde se pueda obtener la información requerida a manera de documentos aclaratorios de la certificación. Es importante aclarar que el Ministerio de Minas y Energía no aceptará como un nuevo contrato las adiciones o prorrogas. También es aceptado equivalente a la certificación de cumplimiento de los contratos ejecutados, copia de la respectiva acta de liquidación suscrita por las partes siempre y cuando de esta se pueda extraer la información requerida del presente numeral. Pepi = 29 * Ncepi/Ncepa Dónde: Pepi: Puntaje asignado a una propuesta i para la experiencia del Proponente Ncepi: Número certificaciones de experiencia válidas del proponente de una propuesta i Ncepa: Número certificaciones de experiencia válidas del proponente más alto entre las propuestas. Nota 1: Para efectos de facilitar la labor de evaluación del comité técnico, EL OFERENTE deberá, acompañar la propuesta del ANEXO 9 EXPERIENCIA ADICIONAL DE PROPONENTE debidamente diligenciado con la información solicitada para acreditar la experiencia adicional (Calificable), en formato editable preferiblemente.
