Workbook

Sheet RESUMEN
A1: REQUISTO TÉCNICO HABILITANTE
A2: CONCEPTO | B2: ÍTEM | C2: BETA GROUP SERVICES S.A.S. | D2: AIAP CONSULTORES S.A.S.
A3: REQUISTO TÉCNICO HABILITANTE | B3: Experiencia mínima del proponente | C3: Cumple | D3: No cumple
B4: Personal mínimo requerido | C4: Cumple | D4: No cumple
A6: CRITERIOS DE EVALUACIÓN PARA LA PUNTUACIÓN
A7: CONCEPTO | B7: ÍTEM | C7: BETA GROUP SERVICES S.A.S. | D7: AIAP CONSULTORES S.A.S.
A8: Factor Técnico | B8: Experiencia y condiciones adicionales del proponente | C8: =+'EVALUACIÓN BETA GROUP SERVI.'!D24*5 -> 15 | D8: No se asigna puntajes
B9: Experiencia y Condiciones adicionales del equipo de trabajo | C9: =+ROUND(SUM('EVALUACIÓN BETA GROUP SERVI.'!B43:C43),0) -> 11 | D9: No se asigna puntajes
B10: Propuesta de horas adicionales para la implementación del modelo de gobierno de dato | C10: =+'EVALUACIÓN BETA GROUP SERVI.'!F54 -> 29 | D10: No se asigna puntajes
A11: Apoyo a la industria nacional | B11: Servicios de origen nacional | C11: =+'EVALUACIÓN BETA GROUP SERVI.'!E67 -> 10 | D11: No se asigna puntajes
A12: Personal con discapacidad. | B12: Trabajadores en condición de discapacidad | C12: =+'EVALUACIÓN BETA GROUP SERVI.'!E71 -> 1 | D12: No se asigna puntajes
B13: TOTAL PUNTOS | C13: =SUM(C8:C12) -> 66 | D13: No se asigna puntajes

Sheet HABILITANTES BETA GROUP SERVI.
A1: DATOS DEL PROPONENTE
A2: Nombre: | B2: BETA GROUP SERVICES S.A.S.
A3: NIT: | B3: 900.883.191-1
A4: Nombre del representante Legal: | B4: JORGE MAURICIO GARCIA BETANCUR
A5: Identificación RL | B5: 1020757540
A9: Requisitos | B9: ítem | C9: Contrato 1 | D9: RESULTADO DE LA VERIFICACIÓN CONTRATO 1 | E9: Contrato 2 | F9: RESULTADO DE LA VERIFICACIÓN CONTRATO 2 | G9: Contrato 3 | H9: RESULTADO DE LA VERIFICACIÓN CONTRATO 3 | I9: RESULTADO VALIDACIÓN
A10: Experiencia Mínima Habilitante | B10: Número de contrato | C10: 1253-2020 | E10: 308-2017 | G10: 309-2017
B11: Fecha del inicio del contrato | C11: 43944 | D11: CUMPLE | E11: 42927 | F11: CUMPLE | G11: 42927 | H11: CUMPLE | I11: CUMPLE
B12: Fecha de finalización | C12: 44165 | E12: 43100 | G12: 43100
B13: Código RUP en la oferta | C13: 80101500 23 de marzo de 2021 | D13: CUMPLE | E13: 80101500 23 de marzo de 2021 | F13: CUMPLE | G13: 80101500 23 de marzo de 2021 | H13: CUMPLE | I13: =+IF(AND(D13="CUMPLE",F13="CUMPLE",H13="CUMPLE"),"CUMPLE","NO CUMPLE") -> CUMPLE
B14: Nombre del archivo y número del pdf de evidencia RUP | C14: RUP BG SERVICES_3.pdf / Página 50 | E14: RUP BG SERVICES_2.pdf/ Página 31 | G14: RUP BG SERVICES_2.pdf / Página 35 | I14: N/A
B15: Descripción objeto/alcance/ obligaciones principales | C15: Objetivo: Realizar estudios de análisis y propuesta de modelo de negocio de los procesos de supervisión, interventoría, producción, desarrollo de nuevos productos y distribución de alimentos de alto valor nutricional utilizados por el ICBF. Obligaciones: 1. Desarrollar y emitir el correspondiente documento con el planteamiento de posibles mejoras al proceso de producción, distribución y desarrollo de nuevos productos de AAVN que incluya lo literales discriminados en los requerimientos de la consultoría. 2. Planteamiento de posibles mejoras al proceso de producción, distribución y desarrollo de nuevos productos de AAVN que incluya lo literales discriminados en los requerimientos de la consultoría. | D15: CUMPLE | E15: Objetivo: Implementar metodologías de aumento de la productividad en 100 empresas de los sectores de industria gráfica y transformación de papel y cartón; calzado y marroquinería; palma, acuicultura; y muebles. Alcance del objeto: Implememtar metodologías de mejora de la productividad en 100 empresas: Diagnóstico inicial, identificación de oportunidades de la productividad, formulación de un plan de acción para atender las oportunidades encontradas a inmediato, corto y largo plazo, acompañamiento a la implementación de las acciones de inmedito plazo y consolidación de resultados obtenidos. | F15: CUMPLE | G15: Objetivo: Por medio del cual se seleccionará el contratista que se comprometa con el ministerio a implementar metodologías de aumento de la productividad en 200 empresas pertenecientes a las rutas competitivas de los sectores de fique, palma, cárnico, hortofrutícola, piscícola y turismo Alcance del objeto: Implememtar metodologías de mejora de la productividad en 200 empresas: Diagnóstico inicial, identificación de oportunidades de la productividad, formulación de un plan de acción para atender las oportunidades encontradas a inmediato, corto y largo plazo, acompañamiento a la implementación de las acciones de inmedito plazo y consolidación de resultados obtenidos. | H15: CUMPLE | I15: =+IF(AND(D15="CUMPLE",F15="CUMPLE",H15="CUMPLE"),"CUMPLE","NO CUMPLE") -> CUMPLE
B16: Nombre del cliente | C16: ICBF | E16: MINISTERIO COMERCIO, INDUSTRIA Y TURISMO | G16: MINISTERIO COMERCIO, INDUSTRIA Y TURISMO | I16: N/A
B17: Naturaleza del cliente | C17: PÚBLICO | D17: CUMPLE | E17: PÚBLICO | F17: CUMPLE | G17: PÚBLICO | H17: CUMPLE
B18: SMMLV (Según RUP) | C18: 1416.56 | E18: 1545.25 | F18: CUMPLE | G18: 3832.04 | H18: CUMPLE | I18: N/A
B19: Cumplimiento del requisito sumantoria cuantía (100% cumple) | C19: =C18/706.8 -> 2.0041879 | E19: =E18/706.8 -> 2.186262 | G19: =G18/706.8 -> 5.4216752 | H19: =SUM(C19:G19) -> 9.6121251 | I19: CUMPLE
B20: Nombre del archivo y página del pdf de la certicación | C20: 1. ICBF.pdf páginas: 4, 9, 22, 30, 31, 38 | E20: 2. 308-2017.pdf Páginas: 12,16,17 | G20: 3. 309-2017.pdf Páginas: 5, 17, 25, 26, 27, 29
B21: Observaciones
B22: Resultado validación contrato | C22: CUMPLE | E22: CUMPLE | G22: CUMPLE | I22: N/A
B31: ítem | C31: Director del proyecto | D31: Consultor Senior | E31: Consultor Junior (antisoborno) | F31: Consultor Junior | G31: Consultor de Gestión de Cambio y Capacitación
A32: Equipo mínimo | B32: Nombre | C32: Diana María Sierra Franco | D32: Mónica Isaza Jaramillo | E32: Angela RaqueL Henker Atxury | F32: Luis Enrique Mejía Turizo | G32: Janneth del Pilar Murcia Salazar
B33: Título profesional obtenido | C33: Ingeniera Industrial | D33: Ingeniera Industrial | E33: Abogada | F33: Contador Público | G33: Ingeniera de producción
B34: Fecha de grado | C34: 40795 | D34: 36707 | E34: 39794 | F34: 41032 | G34: 39941
B35: Título de posgrado | C35: Especialista en sistemas gerenciales de ingenería | D35: Especialista en Gestión y Control de Calidad | E35: Especialista en Gerencia de Proyectos y especialista en Contratación Estatal | F35: Maestría MBA – Administración y Finanzas - Valoración de Negocios | G35: Gerencia en Riesgos Laborales, Seguridad y Salud en el Trabajo
B36: Formación complementaria | C36: Auditor Sistemas Integrados de Gestión | D36: Auditor lider Sistemas Gestión de Calidad ISO 9001:2015 | E36: Auditor Líder ISO 9001:2015 e ISO/IEC 27000:2013 y Auditor Interno en ISO 37001:2016. | F36: Diplomado - Sistemas de gestión integrados HSEQ, NTC ISO9001:2015, NTC ISO14001:2015 Y OHSAS 18001:2007, ICONTEC; 2016. Diplomado - Auditor Interno en Sistemas de Gestión Integrados HSEQ, NTC ISO9001:2015, NTC ISO14001:2015 Y OHSAS 18001:2007, ICONTEC – 2016. | G36: Auditor Interno en Sistemas de Gestión Integrados HSEQ-ISO 9001:2015, ISOo 14001:2015 e ISO 45001:2018
B37: Acreditación de homologación de requisito | C37: N/A | D37: N/A | E37: N/A | F37: N/A | G37: N/A
B38: Experiencia total | C38: 74 | D38: 72 | E38: 46 | F38: 33 | G38: 83
B39: Tiempo experiencia en meses como Director de proyecto | C39: 74 | D39: N/A | E39: N/A | F39: N/A | G39: N/A
B40: Experiencia consultor en implementación en negocios y administración | C40: N/A | D40: N/A | E40: N/A | F40: N/A | G40: N/A
B41: Experiencia consultor en implementación de Sistemas de Gestión y/o mejora de procesos | C41: N/A | D41: 72 | E41: N/A | F41: 33 | G41: N/A
B42: Experiencia consultor en implementación en sistemas de Gestión Antisoborno. | C42: N/A | D42: N/A | E42: 46 | F42: N/A | G42: N/A
B43: Experiencia Consultor en implementación en Gestión del Cambio o Cultura o Formación | C43: N/A | D43: N/A | E43: N/A | F43: N/A | G43: 83
B44: No. de la página de la evidencia de los hoja de vida y sus sportes | C44: HV.pdf / Página 5 y 6 1. EXP HAB - HOMOLOGACION ISO.pdf / Página 2 y 3 | D44: HV.pdf 1.EXP HAB.pdf, 2.EXP HAB ADIC.pdf, 3.EXP ADIC.pdf, 4.EXP ADIC.pdf | E44: 3_HV.pdf 1. EXP HAB - ADIC.pdf | F44: 3._HV.pdf 1-EXP HAB.pdf | G44: 3._HV.pdf 1.EXP HAB.pdf
B45: Observaciones
A46: RESULTADO DE LA VERIFICACACIÓN | C46: CUMPLE | D46: CUMPLE | E46: CUMPLE | F46: CUMPLE | G46: CUMPLE

Sheet EVALUACIÓN  BETA GROUP SERVI.
A1: DATOS DEL PROPONENTE
A2: Nombre: | B2: BETA GROUP SERVICES S.A.S.
A3: NIT: | B3: 900.883.191-1
A4: Nombre del representante Legal: | B4: JORGE MAURICIO GARCIA BETANCUR
A5: Identificación RL | B5: 1020757540
A8: 1. Experiencia adicional del proponente
A10: Factor de evaluación | B10: ítem | C10: Contrato adicicional Antisoborno 1 | D10: Resultado verificación contrato adicicional Antisoborno 1 | E10: Contrato adicicional Antisoborno 2 | F10: Resultado verificación contrato adicicional Antisoborno 2 | G10: Contrato adicicional optimización 1 | H10: Resultado verificación contrato adicicional optimización 1 | I10: Contrato adicicional optimización 2 | J10: Resultado verificación contrato adicicional optimización 2 | K10: Contrato adicicional acompañamiento 1 | L10: Resultado verificación contrato adicicional acompañamiento 1 | M10: Contrato adicicional acompañamiento 2 | N10: Resultado verificación contrato adicicional acompañamiento 2
A11: Experiencia adicional | B11: Número de contrato | C11: GGC 471-2019 | D11: N/A | E11: GGC 373-2020 | G11: SJD-CM-02-2017 | K11: 936 DE 2016 | M11: 002 DE 2016
B12: Fecha del inicio del contrato | C12: 43689 | D12: CUMPLE | E12: 43983 | F12: CUMPLE | G12: 43160 | H12: CUMPLE | K12: 42691 | L12: CUMPLE | M12: 42724 | N12: CUMPLE
B13: Fecha de finalización | C13: 43830 | E13: 44196 | G13: 43388 | K13: 43250 | M13: 43230
B14: Código RUP en la oferta | C14: 80101500 | D14: CUMPLE | E14: 80101500 | F14: CUMPLE | G14: 80101500 | H14: CUMPLE | K14: 80101500 | L14: CUMPLE | M14: 80101500 | N14: CUMPLE
B15: Nombre del archivo y número del pdf de evidencia RUP | C15: RUP BG SERVICES_3.pdf Página 44 | D15: CUMPLE | E15: RUP BG SERVICES_3.pdf Páginas 52 y 53 | F15: CUMPLE | G15: RUP BG SERVICES_1.pdf Página 38 | H15: CUMPLE | K15: RUP BG SERVICES_1.pdf Página 24 | M15: RUP BG SERVICES_1.pdf Página 26
B16: Descripción objeto/alcance/ obligaciones principales | C16: Objetivo: Contratar los servicios de una consultoría para desarrollar las funciones de "administrador independiente" del reporte de cotejo EITI Colombia año fiscal 2018, de acuerdo con los parámetros y requerimientos establecidos por el CTN, la secretaría técnica y el estándar EITI | D16: NO CUMPLE | E16: Objetivo: Contratar los servicios de un consultor que realice el informe EITI Colombia del año fiscal 2019 y los reportes parciales del año fiscal 2020, en cumplimiento del estándar internacional, las disposiciones del comité tripartito nacional y la secretaría técnica del EITI | F16: NO CUMPLE | G16: Objeto: Realizar la interventoría del contrato resultante del concurso de méritos cm-001-2017 que tiene por objeto” elaborar el análisis y diseño del sistema de información integrado de la Secretaria Jurídica Distrital. | H16: CUMPLE | K16: Objetivo: Servicio de consultoría que asesore y asista técnicamente al Municipio de Ipiales, en el proceso de convergencia de la información financiera pública bajo el régimen de contabilidad pública (RGCP) hacia las normas internacionales de contabilidad del sector público (NICSP) y el proceso de sostenibilidad del sistema de contabilidad | L16: CUMPLE | M16: Objetivo: Asesoría, acompañamiento y seguimiento al periodo de aplicación de las normas internacionales de información financiera NIIF, bajo el nuevo marco normativo de la Contaduría | N16: CUMPLE
B17: Nombre del cliente | C17: Ministerio de Minas y Energía - Auditoría externa y normas | D17: CUMPLE | E17: Ministerio de Minas y Energía - Auditoría externa y normas | F17: CUMPLE | G17: Secretaria Jurídica Distrital | H17: CUMPLE | K17: Alcaldía Municipal de Ipiales | L17: CUMPLE | M17: Alcaldía Municipal de Cravonorte | N17: CUMPLE
B18: Naturaleza del cliente | C18: PÚBLICO | D18: CUMPLE | E18: PÚBLICO | F18: CUMPLE | G18: PÚBLICO | H18: CUMPLE | K18: PÚBLICO | L18: CUMPLE | M18: PÚBLICO | N18: CUMPLE
B19: SMMLV (Según RUP) | C19: 482.94 | D19: CUMPLE | E19: 662.65 | F19: CUMPLE | G19: 795.68 | H19: CUMPLE | K19: 266.22 | L19: CUMPLE | M19: 89.46 | N19: CUMPLE
B20: % Con relación a presupuesto (sumatoria de las cuantías superior al 25% por cada frente) | C20: =+(C19+E19)/708 -> 1.618065 | G20: =+(G19+I19)/708 -> 1.1238418 | K20: =+(K19+M19)/708 -> 0.50237288
B21: Nombre del archivo y página del pdf certificado | C21: 2. EITI 19 ADIC.pdf Página 7 Y 8 | D21: NO CUMPLE | E21: 3. EITI 20 ADIC.pdf Páginas 6,8 y 9 | F21: NO CUMPLE | G21: 1. SJD ADIC.pdf Páginas 6, 21, 24, 25, 39 | H21: CUMPLE | K21: 4. IPIALES.pdf Páginas 15, 16, 17, 18, 19 | L21: CUMPLE | M21: 5. CRAVONORTE.pdf Páginas 13, 14 | N21: CUMPLE
A22: VERIFICACIÓN DEL CONTRATO | C22: El objeto, ni las obligaciones de los dos contratos presentados (1 y 2) se relacionan con la norma antisoborno | D22: NO CUMPLE | E22: El objeto, ni las obligaciones de los dos contratos presentados (1 y 2) se relacionan con la norma antisoborno | F22: NO CUMPLE | H22: CUMPLE | L22: CUMPLE | N22: CUMPLE
D24: =+COUNTIF(D22:N22,"CUMPLE") -> 3
A27: 2. Experiencia y Condiciones adicionales del equipo de trabajo
A30: ítem | B30: Consultor Senior | C30: Consultor Junior 1 (antisoborno)
A31: Nombre | B31: =+'HABILITANTES BETA GROUP SERVI.'!D32 -> Mónica Isaza Jaramillo | C31: =+'HABILITANTES BETA GROUP SERVI.'!E32 -> Angela RaqueL Henker Atxury
A32: Título profesional obtenido | B32: =+'HABILITANTES BETA GROUP SERVI.'!D33 -> Ingeniera Industrial | C32: =+'HABILITANTES BETA GROUP SERVI.'!E33 -> Abogada
A33: Experiencia total acreditada en meses | B33: =+'HABILITANTES BETA GROUP SERVI.'!D38 -> 72 | C33: =+'HABILITANTES BETA GROUP SERVI.'!E38 -> 46
A34: Experiencia total requerida en meses | B34: 36 | C34: 24
A35: Experiencia como consultor en implementación en negocios y administración | B35: 0 | C35: =(C33-C37) -> 0
A36: Experiencia base como consultor | B36: 36 | C36: 18
A37: Experiencia total acreditada en Sistemas de Gestión Antisoborno | B37: =+'HABILITANTES BETA GROUP SERVI.'!D42 -> N/A | C37: =+'HABILITANTES BETA GROUP SERVI.'!E42 -> 46
A38: Experiencia mínima requerida Sistemas de Gestión Antisoborno | B38: 0 | C38: 6 | D38: ç
A39: Experiencia adicional en implementación de Sistemas de Gestión y/o mejora | B39: =(B33-B34) -> 36 | C39: No aplica
A40: Experiencia adicional Sistemas de Gestión Antisoborno | B40: {=IFERROR(_xlfn.IFS(B33>=B34,IF(B38>=B37,0,(B37-B38))),0)} -> 0 | C40: =+C33-C36-C38 -> 22
A41: Puntaje por experiencia adicional en implementación de Sistemas de Gestión y/o mejora | B41: =+IF(((B39/12)*2)>6,6,((B39/12)*2)) -> 6 | C41: No aplica
A42: Puntaje por experiencia adicional Experiencia adicional Sistemas de Gestión Antisoborno | B42: =+IF(((B40/12)*2)>4,4,((B40/12)*2)) -> 0 | C42: =+IF(C40>5,5,C40*1) -> 5
A43: Total puntaje | B43: =SUM(B41:B42) -> 6 | C43: =SUM(C41:C42) -> 5
A51: 3. Propuesta de horas adicionales para la implementación del modelo de gobierno de datos
A53: Ítem | B53: Descripción | C53: Verificación | D53: Puntos asignados | E53: Puntaje Total
A54: Horas ofertadas | B54: Cantidad de horas ofertadas, señaladas en el formato | C54: 100 | E54: =+SUM(D55:D58) -> 29 | F54: =+E54 -> 29
A55: Completitud | B55: El documento técnico relaciona todos los capítulos señalados y presenta los elementos descritos para cada apartado. | C55: NO CUMPLE | D55: =+IF(C55="CUMPLE",2,0) -> 0
A56: Innovación | B56: Las metodologías y herramientas propuestas, para la implementación de la propuesta, son como mínimo de tercera generación (ver análisis del sector) | C56: CUMPLE | D56: {=IFERROR(_xlfn.IFS(C56="CUMPLE",IF(C54=100,16,IF(C54=60,11,IF(C54=30,5,IF(C54=0,0))))),0)} -> 16
...

Sheet HABILITANTES AIAP CONSULTORES
A1: DATOS DEL PROPONENTE
A2: Nombre: | B2: AIAP CONSULTORES S.A.S.
A3: NIT: | B3: 900804676-4
A4: Nombre del representante Legal: | B4: AIDA IVONNE AGUDELO PULIDO
A5: Identificación RL | B5: 51872061
A9: Requisitos | B9: ítem | C9: Contrato 1 | D9: RESULTADO DE LA VERIFICACIÓN CONTRATO 1 | E9: Contrato 2 | F9: RESULTADO DE LA VERIFICACIÓN CONTRATO 2 | G9: Contrato 3 | H9: RESULTADO DE LA VERIFICACIÓN CONTRATO 3 | I9: RESULTADO VALIDACIÓN
A10: Experiencia Mínima Habilitante | B10: Número de contrato | C10: 036-ARC-DIABA-2016 | D10: NA | E10: 1301 de 2017 | F10: NA | G10: CO1.PCCNTR.1059928-117 DE 2019 | H10: NA
B11: Fecha del inicio del contrato | C11: 42471 | D11: CUMPLE | E11: 43033 | F11: CUMPLE | G11: 43703 | H11: CUMPLE | I11: CUMPLE
B12: Fecha de finalización | C12: 42685 | E12: 43100 | G12: 43814
B13: Código RUP en la oferta | C13: 801015 | D13: CUMPLE | E13: 801015 | F13: CUMPLE | G13: 801015 | H13: CUMPLE | I13: =+IF(AND(D13="CUMPLE",F13="CUMPLE",H13="CUMPLE"),"CUMPLE","NO CUMPLE") -> CUMPLE
B14: Nombre del archivo y número del pdf de evidencia RUP | C14: 1.1.2,1 RUP anterior y en tramite LOS DOS_1 Consecutivo 62 página 32 08 de abril de 2021 | D14: NA | E14: 1.1.2,1 RUP anterior y en tramite LOS DOS_1 Consecutivo 74 página 37 08 de abril de 2021 | F14: NA | G14: 1.1.2,1 RUP anterior y en tramite LOS DOS_1 Consecutivo 85 página 42 08 de abril de 2021 | H14: NA | I14: N/A
B15: Descripción objeto/alcance/ obligaciones principales | C15: Prestación de servicios profesionales para asesorar a la Dirección del Sistema de Gestión de la Calidad de la Armada Nacional bajo las nuevas directrices y exigencias de la norma NTC ISO 9001:2015 | D15: CUMPLE | E15: Prestación de servicios profesionales para acompañar y apoyar a la Subdirección de Desarrollo Organizacional en el ajuste, reorganización y migración documental de los procesos del sistema integrado de gestión SIG de acuerdo con la NTC ISO 9001:2015, NTC 14001:2015, el modelo integrado de planeación y gestión y de los modelos referenciales del Ministerio de Educación Nacional. | F15: CUMPLE | G15: Realizar sensibilización de la plataforma estratégica del sistema de gestión ambiental | H15: CUMPLE | I15: =+IF(AND(D15="CUMPLE",F15="CUMPLE",H15="CUMPLE"),"CUMPLE","NO CUMPLE") -> CUMPLE
B16: Nombre del cliente | C16: Armada Nacional | D16: NA | E16: Ministerio de Educación Nacional | F16: NA | G16: Rama Judicial - Consejo Superior de la Judicatura | H16: NA | I16: N/A
B17: Naturaleza del cliente | C17: PÚBLICO | D17: NA | E17: PÚBLICO | F17: N/A | G17: PÚBLICO | H17: N/A
B18: SMMLV (Según RUP) | C18: 195.81 | D18: NA | E18: 162.66 | F18: N/A | G18: 481.39 | H18: N/A | I18: N/A
B19: Cumplimiento del requisito sumantoria cuantía (100% cumple) | C19: =C18/706.8 -> 0.27703735 | E19: =E18/706.8 -> 0.23013582 | G19: =G18/706.8 -> 0.68108376 | H19: =+SUM(C19:G19) -> 1.1882569 | I19: CUMPLE
B20: Nombre del archivo y página del pdf. | C20: T1 FORMATO 5 Experiencia Habilitante y soportes Página 2 | D20: NA | E20: T1 FORMATO 5 Experiencia Habilitante y soportes Página 11 | F20: NA | G20: T1 FORMATO 5 Experiencia Habilitante y soportes Página 19 | H20: NA
B21: Observaciones | C21: La certificación no incluye indicación de las actividades realizadas de acuerdo con lo señalado en el pliego. | F21: NA
B22: Resultado validación contrato | C22: NO CUMPLE | E22: CUMPLE | G22: CUMPLE | I22: CUMPLE
B31: ítem | C31: Director del proyecto | D31: Consultor Senior | E31: Consultor Junior (antisoborno) | F31: Consultor Junior | G31: Consultor de Gestión de Cambio y Capacitación
A32: Equipo mínimo | B32: Nombre | C32: Deyanira Eliana Briceño Mateus | D32: RUBEN FABIAN MARTIN VELANDIA | E32: Steven Warwick Koegler Sarmiento | F32: Sandra Jaramillo Arias | G32: Aida Ivonne Agudelo Pulido
B33: Título profesional obtenido | C33: Administradora de empresas | D33: Ingeniero Electrónico | E33: Ingeniero industrial | F33: ARQUITECTA | G33: Ingeniera Química
B34: Fecha de grado | C34: 35405 | D34: 38883 | E34: 36610 | F34: 35650 | G34: 33515
B35: Título de posgrado | C35: Especialista en Gerencia de Proyectos | D35: 1. Especialista en gestión y control de calidad 2. MAGISTER EN ADMINISTRACIÓN DE EMPRESAS CON ESPECIALIDAD EN GESTIÓN INTEGRADA DE LA CALIDAD, SEGURIDAD Y MEDIO AMBIENTE | F35: MBA en Gestión Integrada de la Calidad, Seguridad y Medio Ambiente | G35: 1. Especialista en Ingeniería de la Calidad y el Comportamiento 2. Magister en Calidad y Sistemas Integrados
B36: Formación complementaria | C36: 1. Curso de auditor interno - ISO 9001:2008 2. Curso de actualización como auditor ISO 9001:2015 | D36: AUDITOR LÍDER DE SISTEMAS DE GESTIÓN ANTISOBORNO CON REQUISITOS DE LA NORMA ISO 37001:2016 - Certificado No. CMD-L-0019 - CMD LEARNING | E36: Auditor Lider de Sistemas de Gestión Antisoborno ISO 37001:2017 ICONTEC | F36: LEADING MANAGEMENT SYSTEMS AUDIT TEAMS (ISO 9001:2008; ISO 14:001:2004 ANS OHSAS 18001:2007) - COTECNA | G36: Formación de Auditores HQSE: NTC ISO 9001:2015, NTC ISO 14001:2015 y NTC ISO 45001:2018 - ICONTEC QMS Auditor Transition ISO 9001:2015 - BVC
B37: Acreditación de homologación de requisito | C37: NA | D37: N/A | E37: N/A | F37: N/A | G37: N/A
B38: Experiencia total | C38: =+SUM(C39) -> 140 | D38: =+SUM(D39:D42) -> 104 | E38: =+SUM(E39:E42) -> 6 | F38: =+SUM(F39:F42) -> 45 | G38: =+SUM(G43) -> 230
B39: Tiempo experiencia en meses como Director de proyecto | C39: 140 | D39: N/A | E39: N/A | F39: N/A | G39: N/A
B40: Experiencia consultor en implementación en negocios y administración | G40: N/A
B41: Experiencia consultor en implementación de Sistemas de Gestión y/o mejora de procesos | D41: 104 | F41: 45 | G41: N/A
B42: Experiencia consultor en implementación en sistemas de Gestión Antisoborno. | D42: 0 | E42: 6 | G42: N/A
B43: Experiencia Consultor en implementación en Gestión del Cambio o Cultura o Formación | C43: N/A | D43: N/A | E43: N/A | F43: N/A | G43: 230
B44: No. de la página de la evidencia de los hoja de vida y sus sportes | C44: 1 Profesional Director de Proyecto Deyanira.pdf pagina 10 -11 | D44: 2 Profesional Senior Ruben FAbian.pdf - 22 - 48 | E44: 3 Profesional Junior Antisoborno Steven K - Pag 21 y 25 | F44: 4 Profesional Junior Sandra Jaramillo SIG - Página 15 - 36 | G44: 5 Profesional Gestion de Cambio AIAPPágina 12 - 105
B45: Observaciones | C45: 1. En la certificación "Neotropicos" no hay diferencia de funciones por cada cargo 2. En la certificación de "Gestión y auditoría especializada" no hay dia de inicio y día de finalización | D45: Las certificaciones del Conservatorio del Tolima, CECONTEC, Empresa de acueducto, alcantarillado y aseo del Tolima, CENTRAL DE ESPECIALISTAS DE COLOMBIA S.A.S, CSJ y CMD tienen objeto (implementación), pero no tienen funciones. Las certificaciones de CENTRAL DE ESPECIALISTAS DE COLOMBIA S.A.S. La certificación de CMD no tienen no indica que el profesional haya ejercicido o haya estado vinculado como auditor. | E45: *Las certificaciones no contempladas se encuentran expedidas a nombre de la empresa RISKSTRAT CONSULTING S.A.S. y no a nombre del profesional *La certificación de RISKSTRAT CONSULTING S.A.S. a nombre del profesional esta firmada por el mismo consultor como representante legal de la empresa - Autocertificación * las certificaciones de Icontec estan asociadas en temas de capacitación y formación. | F45: No se tuvo en cuenta el certificado de GSPROGRESS porque es como instructora y no como se pide "consultora" La certificación de los contratos: 180SP2018 y 271SG2018 no se tuvo en cuenta porque no se identifican fecha de inicio ni de finalización
A46: RESULTADO DE LA VERIFICACACIÓN | C46: CUMPLE | D46: CUMPLE | E46: NO CUMPLE | F46: CUMPLE | G46: CUMPLE
