Workbook
Name _: #REF!
Name _: #REF!
Name _: #REF!
Name _: #REF!
Name _: #REF!
Name ___AFC1: [1]INV!$A$25:$D$28
Name ___AFC3: [1]INV!$F$25:$I$28
Name ___AFC5: [1]INV!$K$25:$N$28
Name ___BGC1: [1]INV!$A$5:$D$8
Name ___BGC3: [1]INV!$F$5:$I$8
Name ___BGC5: [1]INV!$K$5:$N$8
Name ___CAC1: [1]INV!$A$19:$D$22
Name ___CAC3: [1]INV!$F$19:$I$22
Name ___CAC5: [1]INV!$K$19:$N$22
Name ___EST1: #REF!
Name ___EST1: #REF!
Name ___EST1: #REF!
Name ___EST1: #REF!
Name ___EST1: #REF!
Name ___EST10: #REF!
Name ___EST10: #REF!
Name ___EST10: #REF!
Name ___EST10: #REF!
Name ___EST10: #REF!
Name ___EST11: #REF!
Name ___EST11: #REF!
Name ___EST11: #REF!
Name ___EST11: #REF!
Name ___EST11: #REF!
Name ___EST12: #REF!
Name ___EST12: #REF!
Name ___EST12: #REF!
Name ___EST12: #REF!
Name ___EST12: #REF!
Name ___EST13: #REF!
Name ___EST13: #REF!
Name ___EST13: #REF!
Name ___EST13: #REF!
Name ___EST13: #REF!
Name ___EST14: #REF!
Name ___EST14: #REF!
Name ___EST14: #REF!
Name ___EST14: #REF!
Name ___EST14: #REF!
Name ___EST15: #REF!
Name ___EST15: #REF!
Name ___EST15: #REF!
Name ___EST15: #REF!
Name ___EST15: #REF!
Name ___EST16: #REF!
Name ___EST16: #REF!
Name ___EST16: #REF!
Name ___EST16: #REF!
Name ___EST16: #REF!
Name ___EST17: #REF!
Name ___EST17: #REF!
Name ___EST17: #REF!
Name ___EST17: #REF!
Name ___EST17: #REF!
Name ___EST18: #REF!

Sheet Conformación
A1: EMPRESA NACIONAL PROMOTORA DEL DESARROLLO TERRITORIAL – ENTerritorio OBJETO: “ACTUALIZACIÓN, CONFIGURACIÓN, SOPORTE, ACOMPAÑAMIENTO TÉCNICO Y TRANSFERENCIA DE CONOCIMIENTO, PARA EL LICENCIAMIENTO FUJITSU DE ENTERRITORIO” MODALIDAD DE CONTRATACIÓN: CONTRATACIÓN EXPEDITA ESPECIAL CEE-005-2021
A3: No. | B3: NOMBRE DEL OFERENTE | C3: REPRESENTANTE LEGAL | D3: INTEGRANTES | E3: INTEGRANTE 1 | F3: Identificación Int. 1 | G3: % Int. 1 | H3: INTEGRANTE 2 | I3: Identificación Int. 2 | J3: % Int. 2 | K3: INTEGRANTE 3 | L3: Identificación Int. 3 | M3: % Int. 3 | N3: INTEGRANTE 4 | O3: Identificación Int. 4 | P3: % Int. 4 | Q3: INTEGRANTE 5 | R3: Identificación Int. 5 | S3: % Int. 5 | T3: Telefono | U3: FAX | V3: Direccion | W3: Email | X3: Ciudad | Y3: ANTICIPO | Z3: GRUPOS
Z4: 1 | AA4: 2 | AB4: 3 | AC4: 4 | AD4: 5
A5: 1 | B5: BPENNOVA CONSULTORÍA S.A.S. | C5: NELSON GILDARDO PRIETO C.C. 7.300.332 | D5: ="("&E5&" "&TEXT(G5,"##0%")&" - "&H5&" "&TEXT(J5,"##0%")&" - "&K5&" "&TEXT(M5,"##0%")&"-"&N5&" "&TEXT(P5,"##0%")&"-"&Q5&" "&TEXT(S5,"##0%")&") " -> (BPENNOVA CONSULTORÍA S.A.S. 100% - 0% - 0%- 0%- 0%) | E5: BPENNOVA CONSULTORÍA S.A.S. | F5: NIT 900.738.865-7 | G5: 1 | O5: NIT o C.C. | R5: NIT o C.C. | T5: 3135481128 | V5: Carrera 54D No. 135-95, Torre 2, Ofic. 203 | W5: info@bp-ennova.com | X5: BOGOTA D.C | Y5: N/A | Z5: X | AA5: X | AB5: X | AC5: X | AD5: X
A6: 2 | Z6: X | AA6: X | AB6: X | AC6: X | AD6: X
A7: 3 | Z7: X
A8: 4
A9: 5
A10: 6

Sheet Exp. oferente
B1: =Conformación!A1 -> EMPRESA NACIONAL PROMOTORA DEL DESARROLLO TERRITORIAL – ENTerritorio OBJETO: “ACTUALIZACIÓN, CONFIGURACIÓN, SOPORTE, ACOMPAÑAMIENTO TÉCNICO Y TRANSFERENCIA DE CONOCIMIENTO, PARA EL LICENCIAMIENTO FUJITSU DE ENTERRITORIO” MODALIDAD DE CONTRATACIÓN: CONTRATACIÓN EXPEDITA ESPECIAL CEE-005-2021
V2: AÑO | W2: SMMLV
B3: EXPERIENCIA TÉCNICA DEL OFERENTE | V3: 1984 | W3: 11298
V4: 1985 | W4: 13557.6
B5: El oferente debe acreditar en su oferta, que cuenta con experiencia específica en: | V5: 1986 | W5: 16811.4
B6: * Suministro o instalación o configuración o renovación de licenciamiento FUJITSU. * Parametrizaciones entre documentos Excel y los esquemas de reporte de la Superintendencia Financiera de Colombia usando software de FUJITSU. * Construcción de taxonomías XBRL donde se haya elaborado extensiones de la taxonomía IFRS y la construcción de link bases de presentación, definición, cálculo y etiquetas usando software de FUJITSU. * Desarrollo de fórmulas XBRL usando software de FUJITSU. | V6: 1987 | W6: 20509.8
B7: La experiencia deberá ser acreditada con la ejecución de MÁXIMO CINCO (5) CONTRATOS terminados.
B8: Los contratos aportados deberán sumar, en su conjunto, un valor igual o superior a una (1) vez el valor del POE, expresado en SMMLV a la fecha de su terminación.
V11: 1988 | W11: 25637.4
K12: POE SMMLV | L12: (1 VEZ EL POE) SMMLV | V12: 1989 | W12: 32559.6
G13: =B8 -> Los contratos aportados deberán sumar, en su conjunto, un valor igual o superior a una (1) vez el valor del POE, expresado en SMMLV a la fecha de su terminación. | H13: =K13 -> 24.999108 | I13: presupuesto oficial | J13: 22712340 | K13: =J13/$J$14 -> 24.999108 | L13: =+K13 -> 24.999108 | V13: 1990 | W13: 41025
I14: SMMLV 2021 | J14: 908526 | V14: 1991 | W14: 51716.1
V15: 1992 | W15: 65190
V16: 1993 | W16: 81510
V17: 1994 | W17: 98700
C18: Oferente | D18: 1 | G18: =VLOOKUP(D18,Conformación!$A$5:$S$125,2,FALSE) -> BPENNOVA CONSULTORÍA S.A.S. | V18: 1995 | W18: 118933.5
G19: =VLOOKUP(D18,Conformación!$A$5:$S$125,4,FALSE) -> (BPENNOVA CONSULTORÍA S.A.S. 100% - 0% - 0%- 0%- 0%) | V19: 1996 | W19: 142125
V20: 1997 | W20: 172005
V21: 1998 | W21: 203826
B22: No | C22: PROPIETARIO O ENTIDAD CONTRATANTE | D22: APORTADA POR | E22: % en Cto | F22: CONSECUTIVO RUP | G22: OBJETO | H22: Fecha de Terminación | I22: Archivo | J22: VALOR | K22: =+K$12 -> POE SMMLV | L22: OBSERVACIONES | V22: 1999 | W22: 236460
B23: 1 | C23: SUPERINTENDENCIA DE INFUSTRIA Y COMERCIO | D23: BPENNOVA CONSULTORÍA S.A.S. | E23: 1 | F23: N/A | G23: * Venta de derechos de actualizaciones y prestación de soporte técnico en software Fujitsu Interstage XWand Toolkit. * Generación de Taxonomía SIC-XBRL y linkbases como extensión a la Taxonomía IFRS XBRL. * Generación de reglas de negocio mediante Especificación Formulas XBRL 1.0. | H23: 44037 | J23: =23.7748*877803 -> 20869591 | K23: =IF(H23=0,0,IF(H23<0,"FUERA DE TIEMPO",J23*E23/VLOOKUP(YEAR(H23),$V$3:$W$43,2,0))) -> 23.7748 | L23: CUMPLE | M23: =+IF(K23>=$H$13,1,0) -> 0 | P23: INTEGRANTES | V23: 2000 | W23: 260100
B24: 2 | C24: GRUPO ARGOS S.A. | D24: BPENNOVA CONSULTORÍA S.A.S. | E24: 1 | F24: N/A | G24: Soporte técnico y funcional en la generación de reportes electrónicos en formato xbrl mediante el desarrollo de parametrizaciones entre Excel y la Taxonomía XBRL de la Superintendencia Financiera a través del módulo Sheet Mapping Designer del software Fujitsu Interstage XWand Toolkit | H24: 43646 | J24: =29.7185*828116 -> 24610365 | K24: =IF(H24=0,0,IF(H24<0,"FUERA DE TIEMPO",J24*E24/VLOOKUP(YEAR(H24),$V$3:$W$43,2,0))) -> 29.7185 | L24: Debe corregir certificación | M24: =+IF(K24>=$H$13,1,0) -> 1 | P24: =+H36 -> BPENNOVA CONSULTORÍA S.A.S. | Q24: =+H37 -> 0 | R24: =+H38 -> 0 | S24: =+H39 -> 0 | T24: =+H40 -> 0 | V24: 2001 | W24: 286000
B25: 3 | C25: BOLSA DE VALORES DE COLOMBIA | D25: BPENNOVA CONSULTORÍA S.A.S. | E25: 1 | F25: N/A | G25: Implementación y capacitación en los modelos de datos XBRL con base en las Normas Internacionales de Información Financiera (IFRS) y su aplicación con el software Fujitsu Interstage XWand Toolkit. | H25: 42356 | J25: =644350*62.4672 -> 40250740 | K25: =IF(H25=0,0,IF(H25<0,"FUERA DE TIEMPO",J25*E25/VLOOKUP(YEAR(H25),$V$3:$W$43,2,0))) -> 62.4672 | L25: CUMPLE | M25: =+IF(K25>=$H$13,1,0) -> 1 | P25: =+IF(D23=$P$24,K23,0) -> 23.7748 | Q25: =+IF(D23=$Q$24,K23,0) -> 0 | R25: =+IF(D23=$R$24,K23,0) -> 0 | S25: =+IF(D23=$S$24,K23,0) -> 0 | T25: =+IF(D23=$T$24,K23,0) -> 0 | V25: 2002 | W25: 309000
B26: 4 | C26: BOLSA DE VALORES DE MÉXICO | D26: BPENNOVA CONSULTORÍA S.A.S. | E26: 1 | F26: N/A | G26: Desarrollar los servicios de consultoría para la conceptualización de los modelos de datos XBRL con base en las NIIF para la digitalización de la información financiera a través de la Plataforma EMISNET. | H26: 41425 | J26: =218.6018*589500 -> 1.2886576e+08 | K26: =IF(H26=0,0,IF(H26<0,"FUERA DE TIEMPO",J26*E26/VLOOKUP(YEAR(H26),$V$3:$W$43,2,0))) -> 218.6018 | L26: CUMPLE | M26: =+IF(K26>=$H$13,1,0) -> 1 | P26: =+IF(D24=$P$24,K24,0) -> 29.7185 | Q26: =+IF(D24=$Q$24,K24,0) -> 0 | R26: =+IF(D24=$R$24,K24,0) -> 0 | S26: =+IF(D24=$S$24,K24,0) -> 0 | T26: =+IF(D24=$T$24,K24,0) -> 0 | V26: 2003 | W26: 332000
K27: =IF(H27=0,0,IF(H27<0,"FUERA DE TIEMPO",J27*E27/VLOOKUP(YEAR(H27),$V$3:$W$43,2,0))) -> 0 | M27: =+IF(K27>=$H$13,1,0) -> 0 | P27: =+IF(D25=$P$24,K25,0) -> 62.4672 | Q27: =+IF(D25=$Q$24,K25,0) -> 0 | R27: =+IF(D25=$R$24,K25,0) -> 0 | S27: =+IF(D25=$S$24,K25,0) -> 0 | T27: =+IF(D25=$T$24,K25,0) -> 0 | V27: 2004 | W27: 358000
B28: 6 | K28: =IF(H28=0,0,IF(H28<0,"FUERA DE TIEMPO",J28*E28/VLOOKUP(YEAR(H28),$V$3:$W$43,2,0))) -> 0 | P28: =+IF(D26=$P$24,K26,0) -> 218.6018 | Q28: =+IF(D26=$Q$24,K26,0) -> 0 | R28: =+IF(D26=$R$24,K26,0) -> 0 | S28: =+IF(D26=$S$24,K26,0) -> 0 | T28: =+IF(D26=$T$24,K26,0) -> 0 | V28: 2005 | W28: 381500
B29: 7 | K29: =IF(H29=0,0,IF(H29<0,"FUERA DE TIEMPO",J29*E29/VLOOKUP(YEAR(H29),$V$3:$W$43,2,0))) -> 0 | P29: =+IF(D27=$P$24,K27,0) -> 0 | Q29: =+IF(D27=$Q$24,K27,0) -> 0 | R29: =+IF(D27=$R$24,K27,0) -> 0 | S29: =+IF(D27=$S$24,K27,0) -> 0 | T29: =+IF(D27=$T$24,K27,0) -> 0 | V29: 2006 | W29: 408000
B30: 8 | K30: =IF(H30=0,0,IF(H30<0,"FUERA DE TIEMPO",J30*E30/VLOOKUP(YEAR(H30),$V$3:$W$43,2,0))) -> 0 | P30: =+IF(D29=$P$24,K29,0) -> 0 | Q30: =+IF(D29=$Q$24,K29,0) -> 0 | R30: =+IF(D29=$R$24,K29,0) -> 0 | S30: =+IF(D29=$S$24,K29,0) -> 0 | T30: =+IF(D29=$T$24,K29,0) -> 0 | V30: 2007 | W30: 433700
B31: 8 | K31: =IF(H31=0,0,IF(H31<0,"FUERA DE TIEMPO",J31*E31/VLOOKUP(YEAR(H31),$V$3:$W$43,2,0))) -> 0 | P31: =+IF(D30=$P$24,K30,0) -> 0 | Q31: =+IF(D30=$Q$24,K30,0) -> 0 | R31: =+IF(D30=$R$24,K30,0) -> 0 | S31: =+IF(D30=$S$24,K30,0) -> 0 | T31: =+IF(D30=$T$24,K30,0) -> 0 | V31: 2008 | W31: 461500
B32: 10 | K32: =IF(H32=0,0,IF(H32<0,"FUERA DE TIEMPO",J32*E32/VLOOKUP(YEAR(H32),$V$3:$W$43,2,0))) -> 0 | P32: =+IF(D31=$P$24,K31,0) -> 0 | Q32: =+IF(D31=$Q$24,K31,0) -> 0 | R32: =+IF(D31=$R$24,K31,0) -> 0 | S32: =+IF(D31=$S$24,K31,0) -> 0 | T32: =+IF(D31=$T$24,K31,0) -> 0 | V32: 2009 | W32: 496900
B33: 10 | K33: =IF(H33=0,0,IF(H33<0,"FUERA DE TIEMPO",J33*E33/VLOOKUP(YEAR(H33),$V$3:$W$43,2,0))) -> 0 | P33: =+IF(D32=$P$24,K32,0) -> 0 | Q33: =+IF(D32=$Q$24,K32,0) -> 0 | R33: =+IF(D32=$R$24,K32,0) -> 0 | S33: =+IF(D32=$S$24,K32,0) -> 0 | T33: =+IF(D32=$T$24,K32,0) -> 0 | V33: 2010 | W33: 515000
J34: TOTAL | K34: =SUM(K23:K33) -> 334.5623 | P34: =SUM(P25:P33) -> 334.5623 | Q34: =SUM(Q25:Q33) -> 0 | R34: =SUM(R25:R33) -> 0 | S34: =SUM(S25:S33) -> 0 | T34: =SUM(T25:T33) -> 0 | V34: 2011 | W34: 535600
K35: =+IF(OR(M37=0,K41>=1),"NO CUMPLE","CUMPLE") -> CUMPLE | L35: =IF(K35="NO CUMPLE","0",IF(K34>=L13,"CUMPLE SUMATORIA DE TODOS 1,0 DEL POE",IF(K34<L13,"NO CUMPLE SUMATORIA DE TODOS 1,0 DEL POE"))) -> CUMPLE SUMATORIA DE TODOS 1,0 DEL POE | V35: 2012 | W35: 566700
H36: =VLOOKUP(D18,Conformación!$A$5:$S$125,5,FALSE) -> BPENNOVA CONSULTORÍA S.A.S. | I36: =VLOOKUP(D18,Conformación!$A$5:$S$125,7,FALSE) -> 1 | J36: =+P34 -> 334.5623 | K36: =+IF(J36<MAX($J$36:$J$40),"",IF(J36=MAX($J$36:$J$40)*AND(SUM($J$36:$J$40)>MAX($J$36:$J$40))*AND((I36>=0.34)),"V.Bo.",IF(J36=MAX($J$36:$J$40)*AND(J36=SUM($J$36:$J$40))*AND(I36>=0.51),"V.Bo.","NO CUMPLE"))) -> V.Bo. | V36: 2013 | W36: 589500
H37: =VLOOKUP(D18,Conformación!$A$5:$S$125,8,FALSE) -> 0 | I37: =VLOOKUP(D18,Conformación!$A$5:$S$125,10,FALSE) -> 0 | J37: =+Q34 -> 0 | K37: =+IF(J37<MAX($J$36:$J$40),"",IF(J37=MAX($J$36:$J$40)*AND(SUM($J$36:$J$40)>MAX($J$36:$J$40))*AND((I37>=0.34)),"V.Bo.",IF(J37=MAX($J$36:$J$40)*AND(J37=SUM($J$36:$J$40))*AND(I37>=0.51),"V.Bo.","NO CUMPLE"))) | M37: =M23+M24+M25+M26+M27 -> 3 | V37: 2014 | W37: 616000
H38: =VLOOKUP(D18,Conformación!$A$5:$S$125,11,FALSE) -> 0 | I38: =VLOOKUP(D18,Conformación!$A$5:$S$125,13,FALSE) -> 0 | J38: =+R34 -> 0 | K38: =+IF(J38<MAX($J$36:$J$40),"",IF(J38=MAX($J$36:$J$40)*AND(SUM($J$36:$J$40)>MAX($J$36:$J$40))*AND((I38>=0.34)),"V.Bo.",IF(J38=MAX($J$36:$J$40)*AND(J38=SUM($J$36:$J$40))*AND(I38>=0.51),"V.Bo.","NO CUMPLE"))) | V38: 2015 | W38: 644350
H39: =VLOOKUP(D18,Conformación!$A$5:$S$125,14,FALSE) -> 0 | I39: =VLOOKUP(D18,Conformación!$A$5:$S$125,16,FALSE) -> 0 | J39: =+S34 -> 0 | K39: =+IF(J39<MAX($J$36:$J$40),"",IF(J39=MAX($J$36:$J$40)*AND(SUM($J$36:$J$40)>MAX($J$36:$J$40))*AND((I39>=0.34)),"V.Bo.",IF(J39=MAX($J$36:$J$40)*AND(J39=SUM($J$36:$J$40))*AND(I39>=0.51),"V.Bo.","NO CUMPLE"))) | V39: 2016 | W39: 689454
H40: =VLOOKUP(D18,Conformación!$A$5:$S$125,17,FALSE) -> 0 | I40: =VLOOKUP(D18,Conformación!$A$5:$S$125,19,FALSE) -> 0 | J40: =+T34 -> 0 | K40: =+IF(J40<MAX($J$36:$J$40),"",IF(J40=MAX($J$36:$J$40)*AND(SUM($J$36:$J$40)>MAX($J$36:$J$40))*AND((I40>=0.34)),"V.Bo.",IF(J40=MAX($J$36:$J$40)*AND(J40=SUM($J$36:$J$40))*AND(I40>=0.51),"V.Bo.","NO CUMPLE"))) | V40: 2017 | W40: 737717
K41: =+COUNTIF(K36:K40,"NO CUMPLE") -> 0 | V41: 2018 | W41: 781242
V42: 2019 | W42: 828116
...

Sheet Ofertas economicas
A1: EVALUACIONES CEE-001-2021
A3: No. | B3: Oferente | C3: Tipo de exámen | D3: Valor por cada exámen | E3: Sumatoria examenes | F3: Jurídico | G3: Técnico | H3: Observaciones | I3: Conclusión
A4: 1 | B4: =Conformación!B5 -> BPENNOVA CONSULTORÍA S.A.S. | C4: EXAMEN CLÍNICO GENERAL: INCLUYE EVALUACIÓN CARDIOVASCULAR, RESPIRATORIA Y NEUROLÓGICAS BÁSICAS, ÉNFASIS OSTEO MUSCULAR, ÉNFASIS EN PIEL Y FANERAS, GLUCOSA, PERFIL LIPIDICO (CT, TG, HDLC, LDLC), AUDIOMETRÍA Y OPTOMETRÍA | D4: 97000 | E4: =SUM(D4:D6) -> 254000 | F4: REQUERIDO
C5: ='Oferta Económica'!$D$4 -> EXAMEN CLÍNICO GENERAL CON ÉNFASIS OSTEO MUSCULAR, AUDIOMETRÍA Y OPTOMETRÍA | D5: 56000
C6: ='Oferta Económica'!$D$5 -> EXAMEN CLÍNICO GENERAL: INCLUYE EVALUACIÓN CARDIOVASCULAR, RESPIRATORIA Y NEUROLÓGICAS BÁSICAS, ÉNFASIS OSTEO MUSCULAR, ÉNFASIS EN PIEL Y FANERAS, AUDIOMETRÍA, OPTOMETRÍA, PERFIL LIPÍCO CT, CLDL, CHDL, TG Y GLUCEMIA | D6: 101000
A7: 2 | B7: =Conformación!B6 -> 0 | C7: EXAMEN CLÍNICO GENERAL: INCLUYE EVALUACIÓN CARDIOVASCULAR, RESPIRATORIA Y NEUROLÓGICAS BÁSICAS, ÉNFASIS OSTEO MUSCULAR, ÉNFASIS EN PIEL Y FANERAS, GLUCOSA, PERFIL LIPIDICO (CT, TG, HDLC, LDLC), AUDIOMETRÍA Y OPTOMETRÍA | D7: 98000 | E7: =SUM(D7:D9) -> 254000 | F7: REQUERIDO
C8: ='Oferta Económica'!$D$4 -> EXAMEN CLÍNICO GENERAL CON ÉNFASIS OSTEO MUSCULAR, AUDIOMETRÍA Y OPTOMETRÍA | D8: 58000
C9: ='Oferta Económica'!$D$5 -> EXAMEN CLÍNICO GENERAL: INCLUYE EVALUACIÓN CARDIOVASCULAR, RESPIRATORIA Y NEUROLÓGICAS BÁSICAS, ÉNFASIS OSTEO MUSCULAR, ÉNFASIS EN PIEL Y FANERAS, AUDIOMETRÍA, OPTOMETRÍA, PERFIL LIPÍCO CT, CLDL, CHDL, TG Y GLUCEMIA | D9: 98000
A10: 3 | B10: =Conformación!B7 -> 0 | C10: EXAMEN CLÍNICO GENERAL: INCLUYE EVALUACIÓN CARDIOVASCULAR, RESPIRATORIA Y NEUROLÓGICAS BÁSICAS, ÉNFASIS OSTEO MUSCULAR, ÉNFASIS EN PIEL Y FANERAS, GLUCOSA, PERFIL LIPIDICO (CT, TG, HDLC, LDLC), AUDIOMETRÍA Y OPTOMETRÍA | D10: 90000 | E10: =SUM(D10:D12) -> 240000 | F10: REQUERIDO
C11: ='Oferta Económica'!$D$4 -> EXAMEN CLÍNICO GENERAL CON ÉNFASIS OSTEO MUSCULAR, AUDIOMETRÍA Y OPTOMETRÍA | D11: 55000
C12: ='Oferta Económica'!$D$5 -> EXAMEN CLÍNICO GENERAL: INCLUYE EVALUACIÓN CARDIOVASCULAR, RESPIRATORIA Y NEUROLÓGICAS BÁSICAS, ÉNFASIS OSTEO MUSCULAR, ÉNFASIS EN PIEL Y FANERAS, AUDIOMETRÍA, OPTOMETRÍA, PERFIL LIPÍCO CT, CLDL, CHDL, TG Y GLUCEMIA | D12: 95000
A13: 4 | B13: =Conformación!B8 -> 0 | C13: EXAMEN CLÍNICO GENERAL: INCLUYE EVALUACIÓN CARDIOVASCULAR, RESPIRATORIA Y NEUROLÓGICAS BÁSICAS, ÉNFASIS OSTEO MUSCULAR, ÉNFASIS EN PIEL Y FANERAS, GLUCOSA, PERFIL LIPIDICO (CT, TG, HDLC, LDLC), AUDIOMETRÍA Y OPTOMETRÍA | D13: 83198 | E13: =SUM(D13:D15) -> 204282 | F13: REQUERIDO | H13: No entrego información jurídica, tampoco entregó información técnica.
C14: ='Oferta Económica'!$D$4 -> EXAMEN CLÍNICO GENERAL CON ÉNFASIS OSTEO MUSCULAR, AUDIOMETRÍA Y OPTOMETRÍA | D14: 36886
C15: ='Oferta Económica'!$D$5 -> EXAMEN CLÍNICO GENERAL: INCLUYE EVALUACIÓN CARDIOVASCULAR, RESPIRATORIA Y NEUROLÓGICAS BÁSICAS, ÉNFASIS OSTEO MUSCULAR, ÉNFASIS EN PIEL Y FANERAS, AUDIOMETRÍA, OPTOMETRÍA, PERFIL LIPÍCO CT, CLDL, CHDL, TG Y GLUCEMIA | D15: 84198
A16: 5 | B16: =Conformación!B9 -> 0 | C16: EXAMEN CLÍNICO GENERAL: INCLUYE EVALUACIÓN CARDIOVASCULAR, RESPIRATORIA Y NEUROLÓGICAS BÁSICAS, ÉNFASIS OSTEO MUSCULAR, ÉNFASIS EN PIEL Y FANERAS, GLUCOSA, PERFIL LIPIDICO (CT, TG, HDLC, LDLC), AUDIOMETRÍA Y OPTOMETRÍA | D16: 138333 | E16: =SUM(D16:D18) -> 347994 | F16: REQUERIDO
C17: ='Oferta Económica'!$D$4 -> EXAMEN CLÍNICO GENERAL CON ÉNFASIS OSTEO MUSCULAR, AUDIOMETRÍA Y OPTOMETRÍA | D17: 70133
C18: ='Oferta Económica'!$D$5 -> EXAMEN CLÍNICO GENERAL: INCLUYE EVALUACIÓN CARDIOVASCULAR, RESPIRATORIA Y NEUROLÓGICAS BÁSICAS, ÉNFASIS OSTEO MUSCULAR, ÉNFASIS EN PIEL Y FANERAS, AUDIOMETRÍA, OPTOMETRÍA, PERFIL LIPÍCO CT, CLDL, CHDL, TG Y GLUCEMIA | D18: 139528

Sheet Oferta Económica
A1: EL OFERENTE DEBERÁ OFERTAR LOS ÍTEMS SEÑALADOS
A2: Nivel | B2: Ref. Artículo | C2: Código UNSPSC | D2: Descripción | E2: Cantidad | F2: Unidad | G2: Precio unitario estimado | H2: Precio unitario | I2: Precio total estimado | J2: Incluya el precio como lo indique la Entidad Estatal | K2: Alternativo a: (indicar cód. Id). | L2: El bien o servicio hace parte del precio total? (indicar Sí / No) | M2: VERIFICACIÓN COTIZACIÓN ITEMS | N2: VALOR UNITARIO NO SUPERE 100% POE
A3: 0 | B3: 1 | C3: N/A | D3: EXAMEN CLÍNICO GENERAL: INCLUYE EVALUACIÓN CARDIOVASCULAR, RESPIRATORIA Y NEUROLÓGICAS BÁSICAS, ÉNFASIS OSTEO MUSCULAR, ÉNFASIS EN PIEL Y FANERAS, GLUCOSA, PERFIL LIPIDICO (CT, TG, HDLC, LDLC), AUDIOMETRÍA Y OPTOMETRÍA | E3: 1,00 | F3: UN | G3: 138333 | H3: =G3 -> 138333 | I3: 12000000 | J3: 12000000 | M3: =+IF(J3<=0,"REVISAR","OK") -> OK | N3: =+IF(OR(H3>(G3*1.1),H3<(G3*0.9)),"NO CUMPLE","CUMPLE") -> CUMPLE
A4: 0 | B4: 2 | C4: N/A | D4: EXAMEN CLÍNICO GENERAL CON ÉNFASIS OSTEO MUSCULAR, AUDIOMETRÍA Y OPTOMETRÍA | E4: 1 | F4: UN | G4: 70133 | H4: =G4 -> 70133
A5: 0 | B5: 3 | C5: N/A | D5: EXAMEN CLÍNICO GENERAL: INCLUYE EVALUACIÓN CARDIOVASCULAR, RESPIRATORIA Y NEUROLÓGICAS BÁSICAS, ÉNFASIS OSTEO MUSCULAR, ÉNFASIS EN PIEL Y FANERAS, AUDIOMETRÍA, OPTOMETRÍA, PERFIL LIPÍCO CT, CLDL, CHDL, TG Y GLUCEMIA | E5: 1 | F5: UN | G5: 139528 | H5: =G5 -> 139528
H6: TOTAL PRESUPUESTO OFICIAL ESTIMADO | I6: =SUM(I3:I3) -> 12000000 | J6: =SUM(J3:J3) -> 12000000 | M6: COSTOS TOTAL OFERTA PRESENTADA
I8: VALOR TOTAL OFERTA ECONÓMICA | J8: =J6 -> 12000000 | M8: VERIFICADO

Sheet Resumen Evaluación
A1: =Conformación!A1 -> EMPRESA NACIONAL PROMOTORA DEL DESARROLLO TERRITORIAL – ENTerritorio OBJETO: “ACTUALIZACIÓN, CONFIGURACIÓN, SOPORTE, ACOMPAÑAMIENTO TÉCNICO Y TRANSFERENCIA DE CONOCIMIENTO, PARA EL LICENCIAMIENTO FUJITSU DE ENTERRITORIO” MODALIDAD DE CONTRATACIÓN: CONTRATACIÓN EXPEDITA ESPECIAL CEE-005-2021 | G1: =Conformación!A1 -> EMPRESA NACIONAL PROMOTORA DEL DESARROLLO TERRITORIAL – ENTerritorio OBJETO: “ACTUALIZACIÓN, CONFIGURACIÓN, SOPORTE, ACOMPAÑAMIENTO TÉCNICO Y TRANSFERENCIA DE CONOCIMIENTO, PARA EL LICENCIAMIENTO FUJITSU DE ENTERRITORIO” MODALIDAD DE CONTRATACIÓN: CONTRATACIÓN EXPEDITA ESPECIAL CEE-005-2021 | M1: =Conformación!A1 -> EMPRESA NACIONAL PROMOTORA DEL DESARROLLO TERRITORIAL – ENTerritorio OBJETO: “ACTUALIZACIÓN, CONFIGURACIÓN, SOPORTE, ACOMPAÑAMIENTO TÉCNICO Y TRANSFERENCIA DE CONOCIMIENTO, PARA EL LICENCIAMIENTO FUJITSU DE ENTERRITORIO” MODALIDAD DE CONTRATACIÓN: CONTRATACIÓN EXPEDITA ESPECIAL CEE-005-2021 | S1: =Conformación!A1 -> EMPRESA NACIONAL PROMOTORA DEL DESARROLLO TERRITORIAL – ENTerritorio OBJETO: “ACTUALIZACIÓN, CONFIGURACIÓN, SOPORTE, ACOMPAÑAMIENTO TÉCNICO Y TRANSFERENCIA DE CONOCIMIENTO, PARA EL LICENCIAMIENTO FUJITSU DE ENTERRITORIO” MODALIDAD DE CONTRATACIÓN: CONTRATACIÓN EXPEDITA ESPECIAL CEE-005-2021 | Y1: =Conformación!A1 -> EMPRESA NACIONAL PROMOTORA DEL DESARROLLO TERRITORIAL – ENTerritorio OBJETO: “ACTUALIZACIÓN, CONFIGURACIÓN, SOPORTE, ACOMPAÑAMIENTO TÉCNICO Y TRANSFERENCIA DE CONOCIMIENTO, PARA EL LICENCIAMIENTO FUJITSU DE ENTERRITORIO” MODALIDAD DE CONTRATACIÓN: CONTRATACIÓN EXPEDITA ESPECIAL CEE-005-2021 | AE1: =Conformación!A1 -> EMPRESA NACIONAL PROMOTORA DEL DESARROLLO TERRITORIAL – ENTerritorio OBJETO: “ACTUALIZACIÓN, CONFIGURACIÓN, SOPORTE, ACOMPAÑAMIENTO TÉCNICO Y TRANSFERENCIA DE CONOCIMIENTO, PARA EL LICENCIAMIENTO FUJITSU DE ENTERRITORIO” MODALIDAD DE CONTRATACIÓN: CONTRATACIÓN EXPEDITA ESPECIAL CEE-005-2021
B2: OFERENTE : | C2: 1 | D2: =VLOOKUP(C2,Conformación!$A$5:$S$125,2,FALSE) -> BPENNOVA CONSULTORÍA S.A.S. | H2: OFERENTE : | I2: 2 | J2: =VLOOKUP(I2,Conformación!$A$5:$S$125,2,FALSE) -> 0 | N2: OFERENTE : | O2: 3 | P2: =VLOOKUP(O2,Conformación!$A$5:$S$125,2,FALSE) -> 0 | T2: OFERENTE : | U2: 4 | V2: =VLOOKUP(U2,Conformación!$A$5:$S$125,2,FALSE) -> 0 | Z2: OFERENTE : | AA2: 5 | AB2: =VLOOKUP(AA2,Conformación!$A$5:$S$125,2,FALSE) -> 0 | AF2: OFERENTE : | AG2: 6 | AH2: =VLOOKUP(AG2,Conformación!$A$5:$S$125,2,FALSE) -> 0
C3: =VLOOKUP(C2,Conformación!$A$5:$S$125,4,FALSE) -> (BPENNOVA CONSULTORÍA S.A.S. 100% - 0% - 0%- 0%- 0%) | I3: =VLOOKUP(I2,Conformación!$A$5:$S$125,4,FALSE) -> 0 | O3: =VLOOKUP(O2,Conformación!$A$5:$S$125,4,FALSE) -> 0 | U3: =VLOOKUP(U2,Conformación!$A$5:$S$125,4,FALSE) -> 0 | AA3: =VLOOKUP(AA2,Conformación!$A$5:$S$125,4,FALSE) -> 0 | AG3: =VLOOKUP(AG2,Conformación!$A$5:$S$125,4,FALSE) -> 0
A6: DOCUMENTO | C6: SI | D6: NO | E6: Folio/fecha/valor/M2/SMMLV | F6: OBSERVACIONES | G6: DOCUMENTO | I6: SI | J6: NO | K6: Folio/fecha/valor/M2/SMMLV | L6: OBSERVACIONES | M6: DOCUMENTO | O6: SI | P6: NO | Q6: Folio/fecha/valor/M2/SMMLV | R6: OBSERVACIONES | S6: DOCUMENTO | U6: SI | V6: NO | W6: Folio/fecha/valor/M2/SMMLV | X6: OBSERVACIONES | Y6: DOCUMENTO | AA6: SI | AB6: NO | AC6: Folio/fecha/valor/M2/SMMLV | AD6: OBSERVACIONES | AE6: DOCUMENTO | AG6: SI | AH6: NO | AI6: Folio/fecha/valor/M2/SMMLV | AJ6: OBSERVACIONES
A7: REQUISITOS MÍNIMOS EXIGIDOS | C7: X | G7: REQUISITOS MÍNIMOS EXIGIDOS | I7: X | M7: REQUISITOS MÍNIMOS EXIGIDOS | O7: X | S7: REQUISITOS MÍNIMOS EXIGIDOS | V7: X | X7: NO ENTREGA INFORMACIÓN RELACIONADA A EXPERIENCIA | Y7: REQUISITOS MÍNIMOS EXIGIDOS | AA7: X | AE7: REQUISITOS MÍNIMOS EXIGIDOS | AG7: X
A8: 5,1,1 | B8: ASPECTOS JURIDICOS | G8: 5,1,1 | H8: ASPECTOS JURIDICOS | M8: 5,1,1 | N8: ASPECTOS JURIDICOS | S8: 5,1,1 | T8: ASPECTOS JURIDICOS | Y8: 5,1,1 | Z8: ASPECTOS JURIDICOS | AE8: 5,1,1 | AF8: ASPECTOS JURIDICOS
A9: 5.1.1.1 | B9: Carta de Presentación de la Oferta | C9: X | E9: 2 A 4 | F9: =IF(C9="X","CUMPLE","NO CUMPLE") -> CUMPLE | G9: 5.1.1.1 | H9: Carta de Presentación de la Oferta | I9: X | K9: 1 A 3 | L9: =IF(I9="X","CUMPLE","NO CUMPLE") -> CUMPLE | M9: 5.1.1.1 | N9: Carta de Presentación de la Oferta | R9: =IF(O9="X","CUMPLE","NO CUMPLE") -> NO CUMPLE | S9: 5.1.1.1 | T9: Carta de Presentación de la Oferta | X9: =IF(U9="X","CUMPLE","NO CUMPLE") -> NO CUMPLE | Y9: 5.1.1.1 | Z9: Carta de Presentación de la Oferta | AD9: =IF(AA9="X","CUMPLE","NO CUMPLE") -> NO CUMPLE | AE9: 5.1.1.1 | AF9: Carta de Presentación de la Oferta | AJ9: =IF(AG9="X","CUMPLE","NO CUMPLE") -> NO CUMPLE
A10: 5.1.1.2 | B10: Acreditación de la Existencia y Representación Legal | C10: X | E10: 10 A 21 | F10: =IF(C10="X","CUMPLE","NO CUMPLE") -> CUMPLE | G10: 5.1.1.2 | H10: Acreditación de la Existencia y Representación Legal | I10: X | K10: 8 A 12 | L10: =IF(I10="X","CUMPLE","NO CUMPLE") -> CUMPLE | M10: 5.1.1.2 | N10: Acreditación de la Existencia y Representación Legal | R10: =IF(O10="X","CUMPLE","NO CUMPLE") -> NO CUMPLE | S10: 5.1.1.2 | T10: Acreditación de la Existencia y Representación Legal | X10: =IF(U10="X","CUMPLE","NO CUMPLE") -> NO CUMPLE | Y10: 5.1.1.2 | Z10: Acreditación de la Existencia y Representación Legal | AD10: =IF(AA10="X","CUMPLE","NO CUMPLE") -> NO CUMPLE | AE10: 5.1.1.2 | AF10: Acreditación de la Existencia y Representación Legal | AJ10: =IF(AG10="X","CUMPLE","NO CUMPLE") -> NO CUMPLE
A11: 5.1.1.3 | B11: Documento de Constitución del Consorcio o Unión Temporal | C11: X | E11: 22 A 23 | F11: =IF(C11="X","CUMPLE","NO CUMPLE") -> CUMPLE | G11: 5.1.1.3 | H11: Documento de Constitución del Consorcio o Unión Temporal | I11: X | K11: 13 A 14 | L11: =IF(I11="X","CUMPLE","NO CUMPLE") -> CUMPLE | M11: 5.1.1.3 | N11: Documento de Constitución del Consorcio o Unión Temporal | R11: =IF(O11="X","CUMPLE","NO CUMPLE") -> NO CUMPLE | S11: 5.1.1.3 | T11: Documento de Constitución del Consorcio o Unión Temporal | X11: =IF(U11="X","CUMPLE","NO CUMPLE") -> NO CUMPLE | Y11: 5.1.1.3 | Z11: Documento de Constitución del Consorcio o Unión Temporal | AD11: =IF(AA11="X","CUMPLE","NO CUMPLE") -> NO CUMPLE | AE11: 5.1.1.3 | AF11: Documento de Constitución del Consorcio o Unión Temporal | AJ11: =IF(AG11="X","CUMPLE","NO CUMPLE") -> NO CUMPLE
A12: 5.1.1.4 | B12: RUP Registro Único del Proponente (30 Días) | C12: X | E12: 24 A 82 | F12: =IF(C12="X","CUMPLE","NO CUMPLE") -> CUMPLE | G12: 5.1.1.4 | H12: RUP Registro Único del Proponente (30 Días) | I12: X | K12: 15 A 39 | L12: =IF(I12="X","CUMPLE","NO CUMPLE") -> CUMPLE | M12: 5.1.1.4 | N12: RUP Registro Único del Proponente (30 Días) | R12: =IF(O12="X","CUMPLE","NO CUMPLE") -> NO CUMPLE | S12: 5.1.1.4 | T12: RUP Registro Único del Proponente (30 Días) | X12: =IF(U12="X","CUMPLE","NO CUMPLE") -> NO CUMPLE | Y12: 5.1.1.4 | Z12: RUP Registro Único del Proponente (30 Días) | AD12: =IF(AA12="X","CUMPLE","NO CUMPLE") -> NO CUMPLE | AE12: 5.1.1.4 | AF12: RUP Registro Único del Proponente (30 Días) | AJ12: =IF(AG12="X","CUMPLE","NO CUMPLE") -> NO CUMPLE
A13: 5.1.1.5 | B13: Garantia de Seriedad de la oferta | C13: X | E13: 84 A 90 | F13: =IF(C13="X","CUMPLE","NO CUMPLE") -> CUMPLE | G13: 5.1.1.5 | H13: Garantia de Seriedad de la oferta | I13: X | K13: 44 A 47 | L13: =IF(I13="X","CUMPLE","NO CUMPLE") -> CUMPLE | M13: 5.1.1.5 | N13: Garantia de Seriedad de la oferta | R13: =IF(O13="X","CUMPLE","NO CUMPLE") -> NO CUMPLE | S13: 5.1.1.5 | T13: Garantia de Seriedad de la oferta | X13: =IF(U13="X","CUMPLE","NO CUMPLE") -> NO CUMPLE | Y13: 5.1.1.5 | Z13: Garantia de Seriedad de la oferta | AD13: =IF(AA13="X","CUMPLE","NO CUMPLE") -> NO CUMPLE | AE13: 5.1.1.5 | AF13: Garantia de Seriedad de la oferta | AJ13: =IF(AG13="X","CUMPLE","NO CUMPLE") -> NO CUMPLE
A14: 5.1.1.6 | B14: Certificación de Pagos al Sistema de Seguridad Social y de Aportes Parafiscales | C14: X | E14: 92 A 96 | F14: =IF(C14="X","CUMPLE","NO CUMPLE") -> CUMPLE | G14: 5.1.1.6 | H14: Certificación de Pagos al Sistema de Seguridad Social y de Aportes Parafiscales | I14: X | K14: 40 A 43 | L14: =IF(I14="X","CUMPLE","NO CUMPLE") -> CUMPLE | M14: 5.1.1.6 | N14: Certificación de Pagos al Sistema de Seguridad Social y de Aportes Parafiscales | R14: =IF(O14="X","CUMPLE","NO CUMPLE") -> NO CUMPLE | S14: 5.1.1.6 | T14: Certificación de Pagos al Sistema de Seguridad Social y de Aportes Parafiscales | X14: =IF(U14="X","CUMPLE","NO CUMPLE") -> NO CUMPLE | Y14: 5.1.1.6 | Z14: Certificación de Pagos al Sistema de Seguridad Social y de Aportes Parafiscales | AD14: =IF(AA14="X","CUMPLE","NO CUMPLE") -> NO CUMPLE | AE14: 5.1.1.6 | AF14: Certificación de Pagos al Sistema de Seguridad Social y de Aportes Parafiscales | AJ14: =IF(AG14="X","CUMPLE","NO CUMPLE") -> NO CUMPLE
A15: 5.1.1.8 | B15: Verificación de no inclusión en el boletín de responsables fiscales | C15: X | E15: 98 A 104 | F15: =IF(C15="X","CUMPLE","NO CUMPLE") -> CUMPLE | G15: 5.1.1.8 | H15: Verificación de no inclusión en el boletín de responsables fiscales | I15: X | K15: 48 A 49 | L15: =IF(I15="X","CUMPLE","NO CUMPLE") -> CUMPLE | M15: 5.1.1.8 | N15: Verificación de no inclusión en el boletín de responsables fiscales | R15: =IF(O15="X","CUMPLE","NO CUMPLE") -> NO CUMPLE | S15: 5.1.1.8 | T15: Verificación de no inclusión en el boletín de responsables fiscales | X15: =IF(U15="X","CUMPLE","NO CUMPLE") -> NO CUMPLE | Y15: 5.1.1.8 | Z15: Verificación de no inclusión en el boletín de responsables fiscales | AD15: =IF(AA15="X","CUMPLE","NO CUMPLE") -> NO CUMPLE | AE15: 5.1.1.8 | AF15: Verificación de no inclusión en el boletín de responsables fiscales | AJ15: =IF(AG15="X","CUMPLE","NO CUMPLE") -> NO CUMPLE
A16: 5.1.1.9 | B16: Verificación del sistema de información de registro de sanciones y causas de inhabilidad (SIRI) de la Procuraduría General De La Nación | C16: X | F16: =IF(C16="X","CUMPLE","NO CUMPLE") -> CUMPLE | G16: 5.1.1.9 | H16: Verificación del sistema de información de registro de sanciones y causas de inhabilidad (SIRI) de la Procuraduría General De La Nación | I16: X | L16: =IF(I16="X","CUMPLE","NO CUMPLE") -> CUMPLE | M16: 5.1.1.9 | N16: Verificación del sistema de información de registro de sanciones y causas de inhabilidad (SIRI) de la Procuraduría General De La Nación | R16: =IF(O16="X","CUMPLE","NO CUMPLE") -> NO CUMPLE | S16: 5.1.1.9 | T16: Verificación del sistema de información de registro de sanciones y causas de inhabilidad (SIRI) de la Procuraduría General De La Nación | X16: =IF(U16="X","CUMPLE","NO CUMPLE") -> NO CUMPLE | Y16: 5.1.1.9 | Z16: Verificación del sistema de información de registro de sanciones y causas de inhabilidad (SIRI) de la Procuraduría General De La Nación | AD16: =IF(AA16="X","CUMPLE","NO CUMPLE") -> NO CUMPLE | AE16: 5.1.1.9 | AF16: Verificación del sistema de información de registro de sanciones y causas de inhabilidad (SIRI) de la Procuraduría General De La Nación | AJ16: =IF(AG16="X","CUMPLE","NO CUMPLE") -> NO CUMPLE
A17: 5.1.1.10 | B17: Verificación de antecedentes judiciales del Ministerio De Defensa Nacional – Policía Nacional. | C17: X | F17: =IF(C17="X","CUMPLE","NO CUMPLE") -> CUMPLE | G17: 5.1.1.10 | H17: Verificación de antecedentes judiciales del Ministerio De Defensa Nacional – Policía Nacional. | I17: X | L17: =IF(I17="X","CUMPLE","NO CUMPLE") -> CUMPLE | M17: 5.1.1.10 | N17: Verificación de antecedentes judiciales del Ministerio De Defensa Nacional – Policía Nacional. | R17: =IF(O17="X","CUMPLE","NO CUMPLE") -> NO CUMPLE | S17: 5.1.1.10 | T17: Verificación de antecedentes judiciales del Ministerio De Defensa Nacional – Policía Nacional. | X17: =IF(U17="X","CUMPLE","NO CUMPLE") -> NO CUMPLE | Y17: 5.1.1.10 | Z17: Verificación de antecedentes judiciales del Ministerio De Defensa Nacional – Policía Nacional. | AD17: =IF(AA17="X","CUMPLE","NO CUMPLE") -> NO CUMPLE | AE17: 5.1.1.10 | AF17: Verificación de antecedentes judiciales del Ministerio De Defensa Nacional – Policía Nacional. | AJ17: =IF(AG17="X","CUMPLE","NO CUMPLE") -> NO CUMPLE
A18: DOCUMENTACIÓN ACLARATORIA ENTREGADA POR LOS OFERENTES DE LOS ASPECTOS JURÍDICOS | G18: DOCUMENTACIÓN ACLARATORIA ENTREGADA POR LOS OFERENTES DE LOS ASPECTOS JURÍDICOS | M18: DOCUMENTACIÓN ACLARATORIA ENTREGADA POR LOS OFERENTES DE LOS ASPECTOS JURÍDICOS | S18: DOCUMENTACIÓN ACLARATORIA ENTREGADA POR LOS OFERENTES DE LOS ASPECTOS JURÍDICOS | Y18: DOCUMENTACIÓN ACLARATORIA ENTREGADA POR LOS OFERENTES DE LOS ASPECTOS JURÍDICOS | AE18: DOCUMENTACIÓN ACLARATORIA ENTREGADA POR LOS OFERENTES DE LOS ASPECTOS JURÍDICOS
A19: CONCLUSIÓN EVALUACION ASPECTOS JURÍDICOS | C19: =+IF(AND(F9="CUMPLE",F10="CUMPLE",F11="CUMPLE",F12="CUMPLE",F13="CUMPLE",F14="CUMPLE",F15="CUMPLE",F16="CUMPLE",F17="CUMPLE"),"CUMPLE","NO CUMPLE") -> CUMPLE | G19: CONCLUSIÓN EVALUACION ASPECTOS JURÍDICOS | I19: =+IF(AND(L9="CUMPLE",L10="CUMPLE",L11="CUMPLE",L12="CUMPLE",L13="CUMPLE",L14="CUMPLE",L15="CUMPLE",L16="CUMPLE",L17="CUMPLE"),"CUMPLE","NO CUMPLE") -> CUMPLE | M19: CONCLUSIÓN EVALUACION ASPECTOS JURÍDICOS | O19: =+IF(AND(R9="CUMPLE",R10="CUMPLE",R11="CUMPLE",R12="CUMPLE",R13="CUMPLE",R14="CUMPLE",R15="CUMPLE",R16="CUMPLE",R17="CUMPLE"),"CUMPLE","NO CUMPLE") -> NO CUMPLE | S19: CONCLUSIÓN EVALUACION ASPECTOS JURÍDICOS | U19: =+IF(AND(X9="CUMPLE",X10="CUMPLE",X11="CUMPLE",X12="CUMPLE",X13="CUMPLE",X14="CUMPLE",X15="CUMPLE",X16="CUMPLE",X17="CUMPLE"),"CUMPLE","NO CUMPLE") -> NO CUMPLE | Y19: CONCLUSIÓN EVALUACION ASPECTOS JURÍDICOS | AA19: =+IF(AND(AD9="CUMPLE",AD10="CUMPLE",AD11="CUMPLE",AD12="CUMPLE",AD13="CUMPLE",AD14="CUMPLE",AD15="CUMPLE",AD16="CUMPLE",AD17="CUMPLE"),"CUMPLE","NO CUMPLE") -> NO CUMPLE | AE19: CONCLUSIÓN EVALUACION ASPECTOS JURÍDICOS | AG19: =+IF(AND(AJ9="CUMPLE",AJ10="CUMPLE",AJ11="CUMPLE",AJ12="CUMPLE",AJ13="CUMPLE",AJ14="CUMPLE",AJ15="CUMPLE",AJ16="CUMPLE",AJ17="CUMPLE"),"CUMPLE","NO CUMPLE") -> NO CUMPLE
A21: 5.1.2 | B21: REQUISITOS HABILITANTES FINANCIEROS | G21: 3.2.2. | H21: CAPACIDAD FINANCIERA | M21: 3.2.2. | N21: CAPACIDAD FINANCIERA | S21: 3.2.2. | T21: CAPACIDAD FINANCIERA | Y21: 3.2.2. | Z21: CAPACIDAD FINANCIERA | AE21: 3.2.2. | AF21: CAPACIDAD FINANCIERA
B22: RUP Registro Único del Proponente (30 Días) (FECHA DE CADA UNO DE LOS INTEGRANTES) | C22: X | E22: 42607 | F22: =IF(C22="X","CUMPLE","NO CUMPLE") -> CUMPLE | H22: RUP Registro Único del Proponente (30 Días) (FECHA DE CADA UNO DE LOS INTEGRANTES) | I22: X | K22: 03/08/2016 10/08/2016 | L22: =IF(I22="X","CUMPLE","NO CUMPLE") -> CUMPLE | N22: RUP Registro Único del Proponente (30 Días) (FECHA DE CADA UNO DE LOS INTEGRANTES) | R22: =IF(O22="X","CUMPLE","NO CUMPLE") -> NO CUMPLE | T22: RUP Registro Único del Proponente (30 Días) (FECHA DE CADA UNO DE LOS INTEGRANTES) | X22: =IF(U22="X","CUMPLE","NO CUMPLE") -> NO CUMPLE | Z22: RUP Registro Único del Proponente (30 Días) (FECHA DE CADA UNO DE LOS INTEGRANTES) | AD22: =IF(AA22="X","CUMPLE","NO CUMPLE") -> NO CUMPLE | AF22: RUP Registro Único del Proponente (30 Días) (FECHA DE CADA UNO DE LOS INTEGRANTES) | AJ22: =IF(AG22="X","CUMPLE","NO CUMPLE") -> NO CUMPLE
B23: CT = ≥ 50% PEE (60% PEE SIN ANTICIPO) | C23: X | E23: SI | F23: =IF(E23="SI","CUMPLE","NO CUMPLE") -> CUMPLE | H23: CT = ≥ 50% PEE (60% PEE SIN ANTICIPO) | I23: x | K23: SI | L23: =IF(K23="SI","CUMPLE","NO CUMPLE") -> CUMPLE | N23: CT = ≥ 50% PEE (60% PEE SIN ANTICIPO) | O23: X | R23: =IF(Q23="SI","CUMPLE","NO CUMPLE") -> NO CUMPLE | T23: CT = ≥ 50% PEE (60% PEE SIN ANTICIPO) | U23: X | X23: =IF(W23="SI","CUMPLE","NO CUMPLE") -> NO CUMPLE | Z23: CT = ≥ 50% PEE (60% PEE SIN ANTICIPO) | AA23: X | AD23: =IF(AC23="SI","CUMPLE","NO CUMPLE") -> NO CUMPLE | AF23: CT = ≥ 50% PEE (60% PEE SIN ANTICIPO) | AG23: X | AJ23: =IF(AI23="SI","CUMPLE","NO CUMPLE") -> NO CUMPLE
B24: LIQ = AC / PC ≥ 2.0 | C24: X | E24: SI | F24: =IF(E24="SI","CUMPLE","NO CUMPLE") -> CUMPLE | H24: LIQ = AC / PC ≥ 2.0 | I24: x | K24: SI | L24: =IF(K24="SI","CUMPLE","NO CUMPLE") -> CUMPLE | N24: LIQ = AC / PC ≥ 2.0 | O24: X | R24: =IF(Q24="SI","CUMPLE","NO CUMPLE") -> NO CUMPLE | T24: LIQ = AC / PC ≥ 2.0 | U24: X | X24: =IF(W24="SI","CUMPLE","NO CUMPLE") -> NO CUMPLE | Z24: LIQ = AC / PC ≥ 1,0 | AA24: X | AD24: =IF(AC24="SI","CUMPLE","NO CUMPLE") -> NO CUMPLE | AF24: LIQ = AC / PC ≥ 1,0 | AG24: X | AJ24: =IF(AI24="SI","CUMPLE","NO CUMPLE") -> NO CUMPLE
B25: NE = PT / AT ≤ 0.50 | C25: X | E25: SI | F25: =IF(E25="SI","CUMPLE","NO CUMPLE") -> CUMPLE | H25: NE = PT / AT ≤ 0.50 | I25: x | K25: SI | L25: =IF(K25="SI","CUMPLE","NO CUMPLE") -> CUMPLE | N25: NE = PT / AT ≤ 0.50 | O25: X | R25: =IF(Q25="SI","CUMPLE","NO CUMPLE") -> NO CUMPLE | T25: NE = PT / AT ≤ 0.50 | U25: X | X25: =IF(W25="SI","CUMPLE","NO CUMPLE") -> NO CUMPLE | Z25: NE = PT / AT ≤ 0,70 | AA25: X | AD25: =IF(AC25="SI","CUMPLE","NO CUMPLE") -> NO CUMPLE | AF25: NE = PT / AT ≤ 0,70 | AG25: X | AJ25: =IF(AI25="SI","CUMPLE","NO CUMPLE") -> NO CUMPLE
B26: RCI = UO/GI ≥ 2.0 | C26: X | E26: SI | F26: =IF(E26="SI","CUMPLE","NO CUMPLE") -> CUMPLE | H26: RCI = UO/GI ≥ 2.0 | I26: x | K26: SI | L26: =IF(K26="SI","CUMPLE","NO CUMPLE") -> CUMPLE | N26: RCI = UO/GI ≥ 2.0 | O26: X | R26: =IF(Q26="SI","CUMPLE","NO CUMPLE") -> NO CUMPLE | T26: RCI = UO/GI ≥ 2.0 | U26: X | X26: =IF(W26="SI","CUMPLE","NO CUMPLE") -> NO CUMPLE | Z26: RCI = UO/GI ≥ 2.0 | AA26: X | AD26: =IF(AC26="SI","CUMPLE","NO CUMPLE") -> NO CUMPLE | AF26: RCI = UO/GI ≥ 2.0 | AG26: X | AJ26: =IF(AI26="SI","CUMPLE","NO CUMPLE") -> NO CUMPLE
B27: RP = UO/P ≥ 8% | C27: X | E27: SI | F27: =IF(E27="SI","CUMPLE","NO CUMPLE") -> CUMPLE | H27: RP = UO/P ≥ 8% | I27: x | K27: SI | L27: =IF(K27="SI","CUMPLE","NO CUMPLE") -> CUMPLE | N27: RP = UO/P ≥ 8% | O27: X | R27: =IF(Q27="SI","CUMPLE","NO CUMPLE") -> NO CUMPLE | T27: RP = UO/P ≥ 8% | U27: X | X27: =IF(W27="SI","CUMPLE","NO CUMPLE") -> NO CUMPLE | Z27: RP = UO/P ≥ 8% | AA27: X | AD27: =IF(AC27="SI","CUMPLE","NO CUMPLE") -> NO CUMPLE | AF27: RP = UO/P ≥ 8% | AG27: X | AJ27: =IF(AI27="SI","CUMPLE","NO CUMPLE") -> NO CUMPLE
B28: RA = UO/AT ≥ 5% | C28: X | E28: SI | F28: =IF(E28="SI","CUMPLE","NO CUMPLE") -> CUMPLE | H28: RA = UO/AT ≥ 5% | I28: x | K28: SI | L28: =IF(K28="SI","CUMPLE","NO CUMPLE") -> CUMPLE | N28: RA = UO/AT ≥ 5% | O28: X | R28: =IF(Q28="SI","CUMPLE","NO CUMPLE") -> NO CUMPLE | T28: RA = UO/AT ≥ 5% | U28: X | X28: =IF(W28="SI","CUMPLE","NO CUMPLE") -> NO CUMPLE | Z28: RA = UO/AT ≥ 5% | AA28: X | AD28: =IF(AC28="SI","CUMPLE","NO CUMPLE") -> NO CUMPLE | AF28: RA = UO/AT ≥ 5% | AG28: X | AJ28: =IF(AI28="SI","CUMPLE","NO CUMPLE") -> NO CUMPLE
A29: DOCUMENTACIÓN ACLARATORIA ENTREGADA POR LOS OFERENTES DE LA CAPACIDAD FINANCIERA | C29: NO SE REQUIRIO | G29: DOCUMENTACIÓN ACLARATORIA ENTREGADA POR LOS OFERENTES DE LA CAPACIDAD FINANCIERA | M29: DOCUMENTACIÓN ACLARATORIA ENTREGADA POR LOS OFERENTES DE LA CAPACIDAD FINANCIERA | S29: DOCUMENTACIÓN ACLARATORIA ENTREGADA POR LOS OFERENTES DE LA CAPACIDAD FINANCIERA | Y29: DOCUMENTACIÓN ACLARATORIA ENTREGADA POR LOS OFERENTES DE LA CAPACIDAD FINANCIERA | AE29: DOCUMENTACIÓN ACLARATORIA ENTREGADA POR LOS OFERENTES DE LA CAPACIDAD FINANCIERA
A30: CONCLUSIÓN EVALUACION CAPACIDAD FINANCIERA | C30: =+IF(AND(F22="CUMPLE",F23="CUMPLE",F24="CUMPLE",F25="CUMPLE",F26="CUMPLE",F27="CUMPLE",F28="CUMPLE"),"CUMPLE","NO CUMPLE") -> CUMPLE | G30: CONCLUSIÓN EVALUACION CAPACIDAD FINANCIERA | I30: =+IF(AND(L22="CUMPLE",L23="CUMPLE",L24="CUMPLE",L25="CUMPLE",L26="CUMPLE",L27="CUMPLE",L28="CUMPLE"),"CUMPLE","NO CUMPLE") -> CUMPLE | M30: CONCLUSIÓN EVALUACION CAPACIDAD FINANCIERA | O30: =+IF(AND(R22="CUMPLE",R23="CUMPLE",R24="CUMPLE",R25="CUMPLE",R26="CUMPLE",R27="CUMPLE",R28="CUMPLE"),"CUMPLE","NO CUMPLE") -> NO CUMPLE | S30: CONCLUSIÓN EVALUACION CAPACIDAD FINANCIERA | U30: =+IF(AND(X22="CUMPLE",X23="CUMPLE",X24="CUMPLE",X25="CUMPLE",X26="CUMPLE",X27="CUMPLE",X28="CUMPLE"),"CUMPLE","NO CUMPLE") -> NO CUMPLE | Y30: CONCLUSIÓN EVALUACION CAPACIDAD FINANCIERA | AA30: =+IF(AND(AD22="CUMPLE",AD23="CUMPLE",AD24="CUMPLE",AD25="CUMPLE",AD26="CUMPLE",AD27="CUMPLE",AD28="CUMPLE"),"CUMPLE","NO CUMPLE") -> NO CUMPLE | AE30: CONCLUSIÓN EVALUACION CAPACIDAD FINANCIERA | AG30: =+IF(AND(AJ22="CUMPLE",AJ23="CUMPLE",AJ24="CUMPLE",AJ25="CUMPLE",AJ26="CUMPLE",AJ27="CUMPLE",AJ28="CUMPLE"),"CUMPLE","NO CUMPLE") -> NO CUMPLE
A32: 4.2 | B32: EXPERIENCIA ESPECÍFICA | G32: 4.2 | H32: EXPERIENCIA ESPECÍFICA | M32: 4.2 | N32: EXPERIENCIA ESPECÍFICA | S32: 4.2 | T32: EXPERIENCIA ESPECÍFICA | Y32: 4.2 | Z32: EXPERIENCIA ESPECÍFICA | AE32: 4.2 | AF32: EXPERIENCIA ESPECÍFICA
A34: 3.2.3.3. | B34: Capacidad de contratación (K) y capacidad residual (Kr) – Formato 06 | G34: 3.2.3.3. | H34: Capacidad de contratación (K) y capacidad residual (Kr) – Formato 06 | M34: 3.2.3.3. | N34: Capacidad de contratación (K) y capacidad residual (Kr) – Formato 06 | S34: 3.2.3.3. | T34: Capacidad de contratación (K) y capacidad residual (Kr) – Formato 06 | Y34: 3.2.3.3. | Z34: Capacidad de contratación (K) y capacidad residual (Kr) – Formato 06 | AE34: 3.2.3.3. | AF34: Capacidad de contratación (K) y capacidad residual (Kr) – Formato 06
B35: 80% del valor del PEE (Para el caso que el oferente acepte el anticipo) 100% del valor del PEE (Para el caso que el oferente prescinda del anticipo) | C35: X | F35: =IF(C35="X","CUMPLE","NO CUMPLE") -> CUMPLE | H35: 80% del valor del PEE (Para el caso que el oferente acepte el anticipo) 100% del valor del PEE (Para el caso que el oferente prescinda del anticipo) | I35: X | L35: =IF(I35="X","CUMPLE","NO CUMPLE") -> CUMPLE | N35: 80% del valor del PEE (Para el caso que el oferente acepte el anticipo) 100% del valor del PEE (Para el caso que el oferente prescinda del anticipo) | R35: =IF(O35="X","CUMPLE","NO CUMPLE") -> NO CUMPLE | T35: 80% del valor del PEE (Para el caso que el oferente acepte el anticipo) 100% del valor del PEE (Para el caso que el oferente prescinda del anticipo) | X35: =IF(U35="X","CUMPLE","NO CUMPLE") -> NO CUMPLE | Z35: 80% del valor del PEE (Para el caso que el oferente acepte el anticipo) 100% del valor del PEE (Para el caso que el oferente prescinda del anticipo) | AD35: =IF(AA35="X","CUMPLE","NO CUMPLE") -> NO CUMPLE | AF35: 80% del valor del PEE (Para el caso que el oferente acepte el anticipo) 100% del valor del PEE (Para el caso que el oferente prescinda del anticipo) | AJ35: =IF(AG35="X","CUMPLE","NO CUMPLE") -> NO CUMPLE
A36: 4.2 | B36: EXPERIENCIA ESPECÍFICA DEL OFERENTE | G36: 4.2 | H36: EXPERIENCIA ESPECÍFICA DEL OFERENTE | M36: 4.2 | N36: EXPERIENCIA ESPECÍFICA DEL OFERENTE | S36: 4.2 | T36: EXPERIENCIA ESPECÍFICA DEL OFERENTE | Y36: 4.2 | Z36: EXPERIENCIA ESPECÍFICA DEL OFERENTE | AE36: 4.2 | AF36: EXPERIENCIA ESPECÍFICA DEL OFERENTE
B37: =+'Exp. oferente'!B6 -> * Suministro o instalación o configuración o renovación de licenciamiento FUJITSU. * Parametrizaciones entre documentos Excel y los esquemas de reporte de la Superintendencia Financiera de Colombia usando software de FUJITSU. * Construcción de taxonomías XBRL donde se haya elaborado extensiones de la taxonomía IFRS y la construcción de link bases de presentación, definición, cálculo y etiquetas usando software de FUJITSU. * Desarrollo de fórmulas XBRL usando software de FUJITSU. | F37: =+IF(AND(C38="X",C39="X",C40="X",C41="X",C42="X"),"CUMPLE","NO CUMPLE") -> NO CUMPLE | H37: =+'Exp. oferente'!B6 -> * Suministro o instalación o configuración o renovación de licenciamiento FUJITSU. * Parametrizaciones entre documentos Excel y los esquemas de reporte de la Superintendencia Financiera de Colombia usando software de FUJITSU. * Construcción de taxonomías XBRL donde se haya elaborado extensiones de la taxonomía IFRS y la construcción de link bases de presentación, definición, cálculo y etiquetas usando software de FUJITSU. * Desarrollo de fórmulas XBRL usando software de FUJITSU. | L37: =+IF(AND(I38="X",I39="X",I40="X",I41="X",I42="X"),"CUMPLE","NO CUMPLE") -> NO CUMPLE | N37: =+'Exp. oferente'!B6 -> * Suministro o instalación o configuración o renovación de licenciamiento FUJITSU. * Parametrizaciones entre documentos Excel y los esquemas de reporte de la Superintendencia Financiera de Colombia usando software de FUJITSU. * Construcción de taxonomías XBRL donde se haya elaborado extensiones de la taxonomía IFRS y la construcción de link bases de presentación, definición, cálculo y etiquetas usando software de FUJITSU. * Desarrollo de fórmulas XBRL usando software de FUJITSU. | R37: =+IF(AND(O38="X",O39="X",O40="X",O41="X",O42="X"),"CUMPLE","NO CUMPLE") -> NO CUMPLE | T37: =+'Exp. oferente'!B6 -> * Suministro o instalación o configuración o renovación de licenciamiento FUJITSU. * Parametrizaciones entre documentos Excel y los esquemas de reporte de la Superintendencia Financiera de Colombia usando software de FUJITSU. * Construcción de taxonomías XBRL donde se haya elaborado extensiones de la taxonomía IFRS y la construcción de link bases de presentación, definición, cálculo y etiquetas usando software de FUJITSU. * Desarrollo de fórmulas XBRL usando software de FUJITSU. | U37: X | X37: =+IF(AND(U38="X",U39="X",U40="X",U41="X",U42="X"),"CUMPLE","NO CUMPLE") -> CUMPLE | Z37: =+'Exp. oferente'!B6 -> * Suministro o instalación o configuración o renovación de licenciamiento FUJITSU. * Parametrizaciones entre documentos Excel y los esquemas de reporte de la Superintendencia Financiera de Colombia usando software de FUJITSU. * Construcción de taxonomías XBRL donde se haya elaborado extensiones de la taxonomía IFRS y la construcción de link bases de presentación, definición, cálculo y etiquetas usando software de FUJITSU. * Desarrollo de fórmulas XBRL usando software de FUJITSU. | AD37: =+IF(AND(AA38="X",AA39="X",AA40="X",AA41="X",AA42="X"),"CUMPLE","NO CUMPLE") -> CUMPLE | AF37: =+'Exp. oferente'!B6 -> * Suministro o instalación o configuración o renovación de licenciamiento FUJITSU. * Parametrizaciones entre documentos Excel y los esquemas de reporte de la Superintendencia Financiera de Colombia usando software de FUJITSU. * Construcción de taxonomías XBRL donde se haya elaborado extensiones de la taxonomía IFRS y la construcción de link bases de presentación, definición, cálculo y etiquetas usando software de FUJITSU. * Desarrollo de fórmulas XBRL usando software de FUJITSU. | AJ37: =+IF(AND(AG38="X",AG39="X",AG40="X",AG41="X",AG42="X"),"CUMPLE","NO CUMPLE") -> CUMPLE
B38: =+'Exp. oferente'!G23 -> * Venta de derechos de actualizaciones y prestación de soporte técnico en software Fujitsu Interstage XWand Toolkit. * Generación de Taxonomía SIC-XBRL y linkbases como extensión a la Taxonomía IFRS XBRL. * Generación de reglas de negocio mediante Especificación Formulas XBRL 1.0. | C38: X | E38: =+CONCATENATE('Exp. oferente'!I23,CHAR(10),TEXT('Exp. oferente'!H23,"DD"),"/",TEXT('Exp. oferente'!H23,"MMMM"),"/",TEXT('Exp. oferente'!H23,"YYYY"), CHAR(10),DOLLAR('Exp. oferente'!J23)) -> 25/julio/2020 $ 20.869.590,76 | H38: ='Exp. oferente'!G49 -> 0 | K38: =+CONCATENATE('Exp. oferente'!I49,CHAR(10),TEXT('Exp. oferente'!H49,"DD"),"/",TEXT('Exp. oferente'!H49,"MMMM"),"/",TEXT('Exp. oferente'!H49,"YYYY"), CHAR(10),DOLLAR('Exp. oferente'!J49)) -> 00/enero/1900 $ 0,00 | N38: =+'Exp. oferente'!G74 -> 0 | O38: x | Q38: =+CONCATENATE('Exp. oferente'!I74,CHAR(10),TEXT('Exp. oferente'!H74,"DD"),"/",TEXT('Exp. oferente'!H74,"MMMM"),"/",TEXT('Exp. oferente'!H74,"YYYY"), CHAR(10),DOLLAR('Exp. oferente'!J74)) -> 00/enero/1900 $ 0,00 | T38: =+'Exp. oferente'!G99 -> 0 | U38: X | W38: =+CONCATENATE('Exp. oferente'!I99,CHAR(10),TEXT('Exp. oferente'!H99,"DD"),"/",TEXT('Exp. oferente'!H99,"MMMM"),"/",TEXT('Exp. oferente'!H99,"YYYY"), CHAR(10),DOLLAR('Exp. oferente'!J99)) -> 00/enero/1900 $ 0,00 | Z38: =+'Exp. oferente'!G122 -> 0 | AA38: x | AC38: =+CONCATENATE('Exp. oferente'!I122,CHAR(10),TEXT('Exp. oferente'!H122,"DD"),"/",TEXT('Exp. oferente'!H122,"MMMM"),"/",TEXT('Exp. oferente'!H122,"YYYY"), CHAR(10),DOLLAR('Exp. oferente'!J122)) -> 00/enero/1900 $ 0,00 | AF38: =+'Exp. oferente'!G145 -> 0 | AG38: x | AI38: =+CONCATENATE('Exp. oferente'!O122,CHAR(10),TEXT('Exp. oferente'!H145,"DD"),"/",TEXT('Exp. oferente'!H145,"MMMM"),"/",TEXT('Exp. oferente'!H145,"YYYY"), CHAR(10),DOLLAR('Exp. oferente'!J145)) -> 00/enero/1900 $ 0,00
B39: =+'Exp. oferente'!G24 -> Soporte técnico y funcional en la generación de reportes electrónicos en formato xbrl mediante el desarrollo de parametrizaciones entre Excel y la Taxonomía XBRL de la Superintendencia Financiera a través del módulo Sheet Mapping Designer del software Fujitsu Interstage XWand Toolkit | D39: X | E39: =+CONCATENATE('Exp. oferente'!I24,CHAR(10),TEXT('Exp. oferente'!H24,"DD"),"/",TEXT('Exp. oferente'!H24,"MMMM"),"/",TEXT('Exp. oferente'!H24,"YYYY"), CHAR(10),DOLLAR('Exp. oferente'!J24)) -> 30/junio/2019 $ 24.610.365,35 | H39: ='Exp. oferente'!G50 -> 0 | I39: X | K39: =+CONCATENATE('Exp. oferente'!I50,CHAR(10),TEXT('Exp. oferente'!H50,"DD"),"/",TEXT('Exp. oferente'!H50,"MMMM"),"/",TEXT('Exp. oferente'!H50,"YYYY"), CHAR(10),DOLLAR('Exp. oferente'!J50)) -> 00/enero/1900 $ 0,00 | N39: =+'Exp. oferente'!G75 -> 0 | P39: X | Q39: =+CONCATENATE('Exp. oferente'!I75,CHAR(10),TEXT('Exp. oferente'!H75,"DD"),"/",TEXT('Exp. oferente'!H75,"MMMM"),"/",TEXT('Exp. oferente'!H75,"YYYY"), CHAR(10),DOLLAR('Exp. oferente'!J75)) -> 00/enero/1900 $ 0,00 | R39: Valor en SMMLV no coincide con valor en pesos reportados en RUP y formato de experiencia. Corregir valor en SMMLV. | T39: =+'Exp. oferente'!G100 -> 0 | U39: X | W39: =+CONCATENATE('Exp. oferente'!I100,CHAR(10),TEXT('Exp. oferente'!H100,"DD"),"/",TEXT('Exp. oferente'!H100,"MMMM"),"/",TEXT('Exp. oferente'!H100,"YYYY"), CHAR(10),DOLLAR('Exp. oferente'!J100)) -> 00/enero/1900 $ 0,00 | Z39: =+'Exp. oferente'!G123 -> 0 | AA39: x | AC39: =+CONCATENATE('Exp. oferente'!I123,CHAR(10),TEXT('Exp. oferente'!H123,"DD"),"/",TEXT('Exp. oferente'!H123,"MMMM"),"/",TEXT('Exp. oferente'!H123,"YYYY"), CHAR(10),DOLLAR('Exp. oferente'!J123)) -> 00/enero/1900 $ 0,00 | AF39: =+'Exp. oferente'!G146 -> 0 | AG39: x | AI39: =+CONCATENATE('Exp. oferente'!O123,CHAR(10),TEXT('Exp. oferente'!H146,"DD"),"/",TEXT('Exp. oferente'!H146,"MMMM"),"/",TEXT('Exp. oferente'!H146,"YYYY"), CHAR(10),DOLLAR('Exp. oferente'!J146)) -> 00/enero/1900 $ 0,00
B40: =+'Exp. oferente'!G25 -> Implementación y capacitación en los modelos de datos XBRL con base en las Normas Internacionales de Información Financiera (IFRS) y su aplicación con el software Fujitsu Interstage XWand Toolkit. | C40: X | E40: =+CONCATENATE('Exp. oferente'!I25,CHAR(10),TEXT('Exp. oferente'!H25,"DD"),"/",TEXT('Exp. oferente'!H25,"MMMM"),"/",TEXT('Exp. oferente'!H25,"YYYY"), CHAR(10),DOLLAR('Exp. oferente'!J25)) -> 18/diciembre/2015 $ 40.250.740,32 | H40: ='Exp. oferente'!G51 -> 0 | K40: =+CONCATENATE('Exp. oferente'!I51,CHAR(10),TEXT('Exp. oferente'!H51,"DD"),"/",TEXT('Exp. oferente'!H51,"MMMM"),"/",TEXT('Exp. oferente'!H51,"YYYY"), CHAR(10),DOLLAR('Exp. oferente'!J51)) -> 00/enero/1900 $ 0,00 | N40: =+'Exp. oferente'!G76 -> 0 | O40: x | Q40: =+CONCATENATE('Exp. oferente'!I76,CHAR(10),TEXT('Exp. oferente'!H76,"DD"),"/",TEXT('Exp. oferente'!H76,"MMMM"),"/",TEXT('Exp. oferente'!H76,"YYYY"), CHAR(10),DOLLAR('Exp. oferente'!J76)) -> 00/enero/1900 $ 0,00 | T40: =+'Exp. oferente'!G101 -> 0 | U40: X | W40: =+CONCATENATE('Exp. oferente'!I101,CHAR(10),TEXT('Exp. oferente'!H101,"DD"),"/",TEXT('Exp. oferente'!H101,"MMMM"),"/",TEXT('Exp. oferente'!H101,"YYYY"), CHAR(10),DOLLAR('Exp. oferente'!J101)) -> 00/enero/1900 $ 0,00 | Z40: =+'Exp. oferente'!G124 -> 0 | AA40: x | AC40: =+CONCATENATE('Exp. oferente'!I124,CHAR(10),TEXT('Exp. oferente'!H124,"DD"),"/",TEXT('Exp. oferente'!H124,"MMMM"),"/",TEXT('Exp. oferente'!H124,"YYYY"), CHAR(10),DOLLAR('Exp. oferente'!J124)) -> 00/enero/1900 $ 0,00 | AF40: =+'Exp. oferente'!G147 -> 0 | AG40: X | AI40: =+CONCATENATE('Exp. oferente'!O124,CHAR(10),TEXT('Exp. oferente'!H147,"DD"),"/",TEXT('Exp. oferente'!H147,"MMMM"),"/",TEXT('Exp. oferente'!H147,"YYYY"), CHAR(10),DOLLAR('Exp. oferente'!J147)) -> 00/enero/1900 $ 0,00
B41: =+'Exp. oferente'!G26 -> Desarrollar los servicios de consultoría para la conceptualización de los modelos de datos XBRL con base en las NIIF para la digitalización de la información financiera a través de la Plataforma EMISNET. | C41: X | E41: =+CONCATENATE('Exp. oferente'!I26,CHAR(10),TEXT('Exp. oferente'!H26,"DD"),"/",TEXT('Exp. oferente'!H26,"MMMM"),"/",TEXT('Exp. oferente'!H26,"YYYY"), CHAR(10),DOLLAR('Exp. oferente'!J26)) -> 31/mayo/2013 $ 128.865.761,10 | H41: ='Exp. oferente'!G52 -> 0 | I41: X | K41: =+CONCATENATE('Exp. oferente'!I52,CHAR(10),TEXT('Exp. oferente'!H52,"DD"),"/",TEXT('Exp. oferente'!H52,"MMMM"),"/",TEXT('Exp. oferente'!H52,"YYYY"), CHAR(10),DOLLAR('Exp. oferente'!J52)) -> 00/enero/1900 $ 0,00 | N41: =+'Exp. oferente'!G77 -> 0 | O41: x | Q41: =+CONCATENATE('Exp. oferente'!I77,CHAR(10),TEXT('Exp. oferente'!H77,"DD"),"/",TEXT('Exp. oferente'!H77,"MMMM"),"/",TEXT('Exp. oferente'!H77,"YYYY"), CHAR(10),DOLLAR('Exp. oferente'!J77)) -> 00/enero/1900 $ 0,00 | T41: =+'Exp. oferente'!G102 -> 0 | U41: X | W41: =+CONCATENATE('Exp. oferente'!I102,CHAR(10),TEXT('Exp. oferente'!H102,"DD"),"/",TEXT('Exp. oferente'!H102,"MMMM"),"/",TEXT('Exp. oferente'!H102,"YYYY"), CHAR(10),DOLLAR('Exp. oferente'!J102)) -> 00/enero/1900 $ 0,00 | Z41: =+'Exp. oferente'!G125 -> 0 | AA41: x | AC41: =+CONCATENATE('Exp. oferente'!I125,CHAR(10),TEXT('Exp. oferente'!H125,"DD"),"/",TEXT('Exp. oferente'!H125,"MMMM"),"/",TEXT('Exp. oferente'!H125,"YYYY"),CHAR(10),DOLLAR('Exp. oferente'!J125)) -> 00/enero/1900 $ 0,00 | AF41: =+'Exp. oferente'!G148 -> 0 | AG41: X | AI41: =+CONCATENATE('Exp. oferente'!O125,CHAR(10),TEXT('Exp. oferente'!H148,"DD"),"/",TEXT('Exp. oferente'!H148,"MMMM"),"/",TEXT('Exp. oferente'!H148,"YYYY"), CHAR(10),DOLLAR('Exp. oferente'!J148)) -> 00/enero/1900 $ 0,00
B42: =+'Exp. oferente'!G27 -> 0 | C42: X | E42: =+CONCATENATE('Exp. oferente'!I27,CHAR(10),TEXT('Exp. oferente'!H27,"DD"),"/",TEXT('Exp. oferente'!H27,"MMMM"),"/",TEXT('Exp. oferente'!H27,"YYYY"), CHAR(10),DOLLAR('Exp. oferente'!J27)) -> 00/enero/1900 $ 0,00 | H42: ='Exp. oferente'!G53 -> 0 | I42: X | K42: =+CONCATENATE('Exp. oferente'!I53,CHAR(10),TEXT('Exp. oferente'!H53,"DD"),"/",TEXT('Exp. oferente'!H53,"MMMM"),"/",TEXT('Exp. oferente'!H53,"YYYY"), CHAR(10),DOLLAR('Exp. oferente'!J53)) -> 00/enero/1900 $ 0,00 | N42: =+'Exp. oferente'!G78 -> 0 | O42: x | Q42: =+CONCATENATE('Exp. oferente'!I78,CHAR(10),TEXT('Exp. oferente'!H78,"DD"),"/",TEXT('Exp. oferente'!H78,"MMMM"),"/",TEXT('Exp. oferente'!H78,"YYYY"), CHAR(10),DOLLAR('Exp. oferente'!J78)) -> 00/enero/1900 $ 0,00 | T42: =+'Exp. oferente'!G103 -> 0 | U42: X | W42: =+CONCATENATE('Exp. oferente'!I103,CHAR(10),TEXT('Exp. oferente'!H103,"DD"),"/",TEXT('Exp. oferente'!H103,"MMMM"),"/",TEXT('Exp. oferente'!H103,"YYYY"), CHAR(10),DOLLAR('Exp. oferente'!J103)) -> 00/enero/1900 $ 0,00 | Z42: =+'Exp. oferente'!G126 -> 0 | AA42: x | AC42: =+CONCATENATE('Exp. oferente'!I126,CHAR(10),TEXT('Exp. oferente'!H126,"DD"),"/",TEXT('Exp. oferente'!H126,"MMMM"),"/",TEXT('Exp. oferente'!H126,"YYYY"), CHAR(10),DOLLAR('Exp. oferente'!J126)) -> 00/enero/1900 $ 0,00 | AF42: =+'Exp. oferente'!G149 -> 0 | AG42: X | AI42: =+CONCATENATE('Exp. oferente'!O126,CHAR(10),TEXT('Exp. oferente'!H149,"DD"),"/",TEXT('Exp. oferente'!H149,"MMMM"),"/",TEXT('Exp. oferente'!H149,"YYYY"), CHAR(10),DOLLAR('Exp. oferente'!J149)) -> 00/enero/1900 $ 0,00
B43: =+'Exp. oferente'!#REF! -> #REF! | F43: =+IF(AND(C44="X"),"CUMPLE","NO CUMPLE") -> CUMPLE | H43: =+'Exp. oferente'!#REF! -> #REF! | L43: =+IF(AND(I44="X"),"CUMPLE","NO CUMPLE") -> CUMPLE | N43: =+'Exp. oferente'!#REF! -> #REF! | O43: x | R43: =+IF(AND(O44="X"),"CUMPLE","NO CUMPLE") -> CUMPLE | T43: =+'Exp. oferente'!#REF! -> #REF! | U43: X | X43: =+IF(AND(U44="X"),"CUMPLE","NO CUMPLE") -> CUMPLE | Z43: =+'Exp. oferente'!#REF! -> #REF! | AA43: x | AD43: =+IF(AND(AA44="X"),"CUMPLE","NO CUMPLE") -> CUMPLE | AF43: =+'Exp. oferente'!#REF! -> #REF! | AG43: x | AJ43: =+IF(AND(AG44="X"),"CUMPLE","NO CUMPLE") -> CUMPLE
C44: X | I44: X | O44: x | U44: X | AA44: x | AG44: x
B45: =+'Exp. oferente'!#REF! -> #REF! | F45: =+IF(AND(C46="X"),"CUMPLE","NO CUMPLE") -> CUMPLE | H45: =+'Exp. oferente'!#REF! -> #REF! | L45: =+IF(AND(I46="X"),"CUMPLE","NO CUMPLE") -> CUMPLE | N45: =+'Exp. oferente'!#REF! -> #REF! | O45: x | R45: =+IF(AND(O46="X"),"CUMPLE","NO CUMPLE") -> CUMPLE | T45: =+'Exp. oferente'!#REF! -> #REF! | U45: X | X45: =+IF(AND(U46="X"),"CUMPLE","NO CUMPLE") -> CUMPLE | Z45: =+'Exp. oferente'!#REF! -> #REF! | AA45: x | AD45: =+IF(AND(AA46="X"),"CUMPLE","NO CUMPLE") -> CUMPLE | AF45: =+'Exp. oferente'!#REF! -> #REF! | AG45: x | AJ45: =+IF(AND(AG46="X"),"CUMPLE","NO CUMPLE") -> CUMPLE
...

Sheet Exp. profesionales
A1: =+#REF! -> #REF! | Q1: 1957 | R1: 155.4
Q2: 1958 | R2: 155.4
Q3: 1959 | R3: 155.4
A4: REQUISITOS MINIMOS - PERSONAL PRINCIPAL REQUERIDO - CUMPLE/ NO CUMPLE | Q4: 1960 | R4: 198
Q5: 1961
A6: CARGO A DESEMPEÑAR | B6: FORMACIÓN ACADÉMICA | C6: TIEMPO MÍNIMO REQUERIDO DE HABER TERMINADO Y APROBADO ESTUDIOS (EN AÑOS) | E6: NUMERO DE PROYECTOS A ACREDITAR | F6: EXPERIENCIA ESPECÍFICA | I6: REQUERIMIENTO PARTICULAR | K6: REQUISITO MINIMO EN SMMLV | Q6: 1962 | R6: 300
A7: Residente de Obra | B7: Arquitecto Diseñador o Ingeniero Civil | C7: 3 | D7: 41805 | E7: 2 | F7: Residente de obra para la construcción y/o ampliación de parques y/o construcción y/o ampliación de canchas en pasto sintético y/o natural y/o escenarios deportivos | I7: El valor de uno de los proyectos aportados deberá ser mayor o igual al 100% del valor de presupuesto indicado en el numeral 4.2 etapa 2. Ejecución de la obra sin incluir costos de fiducia y prima de manejo de anticipo expresado en SMMLV | K7: 1252.89 | Q7: 1963 | R7: 420
Q8: 1964 | R8: 420
Q9: 1965 | R9: 420
Q10: 1966 | R10: 420
Q11: 1967 | R11: 420
Q12: 1968 | R12: 420
Q13: 1969 | R13: 519
Q14: 1970 | R14: 519
Q15: 1971 | R15: 519
Q16: 1972 | R16: 660
Q17: 1973 | R17: 660
Q18: 1974 | R18: 900
A19: OFERENTE | B19: 1 | C19: =VLOOKUP(B19,Conformación!$A$5:$S$125,2,FALSE) -> BPENNOVA CONSULTORÍA S.A.S. | Q19: 1975 | R19: 1200
C20: =VLOOKUP(B19,Conformación!$A$5:$S$125,4,FALSE) -> (BPENNOVA CONSULTORÍA S.A.S. 100% - 0% - 0%- 0%- 0%) | Q20: 1976 | R20: 1560
Q21: 1977 | R21: 1770
Q22: 1978 | R22: 2580
A23: CARGO | B23: NOMBRE | C23: TARJETA PROFESIONAL | D23: FECHA EXPEDICIÓN | F23: PROFESION | G23: POSGRADO | H23: OBJETO | I23: FECHA TERMINACIÓN PROYECTO | J23: VALOR | K23: SMMLV | L23: REQUERIMIENTO PARTICULAR QUE ACREDITA | M23: ARCHIVO | N23: OBSERVACIONES | Q23: 1979 | R23: 3450
A24: =+A7 -> Residente de Obra | E24: =IF(D24=0,0,IF(D24<D$7,"CUMPLE EL TIEMPO MÍNIMO REQUERIDO DE HABER TERMINADO Y APROBADO ESTUDIOS","NO CUMPLE EL TIEMPO MÍNIMO REQUERIDO DE HABER TERMINADO Y APROBADO ESTUDIOS")) -> 0 | K24: =IF(J24=0,0,IF(I24<D$24,"EXPERIENCIA ADQUIRIDA ANTES DEL GRADO",J24/VLOOKUP(YEAR(I24),$Q$1:$R$64,2,0))) -> 0 | L24: =IF(K24>=K$7,"cumple",0) -> 0 | Q24: 1980 | R24: 4500
K25: =IF(J25=0,0,IF(I25<D$24,"EXPERIENCIA ADQUIRIDA ANTES DEL GRADO",J25/VLOOKUP(YEAR(I25),$Q$1:$R$64,2,0))) -> 0 | L25: =IF(K25>=K$7,"cumple",0) -> 0 | Q25: 1981 | R25: 5700
K26: =IF(J26=0,0,IF(I26<D$24,"EXPERIENCIA ADQUIRIDA ANTES DEL GRADO",J26/VLOOKUP(YEAR(I26),$Q$1:$R$64,2,0))) -> 0 | L26: =IF(K26>=K$7,"cumple",0) -> 0 | Q26: 1982 | R26: 7410
K27: =IF(J27=0,0,IF(I27<D$24,"EXPERIENCIA ADQUIRIDA ANTES DEL GRADO",J27/VLOOKUP(YEAR(I27),$Q$1:$R$64,2,0))) -> 0 | L27: =IF(K27>=K$7,"cumple",0) -> 0 | Q27: 1983 | R27: 9261
K28: =IF(J28=0,0,IF(I28<D$24,"EXPERIENCIA ADQUIRIDA ANTES DEL GRADO",J28/VLOOKUP(YEAR(I28),$Q$1:$R$64,2,0))) -> 0 | L28: =IF(K28>=K$7,"cumple",0) -> 0 | Q28: 1984 | R28: 11298
H29: TOTAL | K29: =SUM(K24:K28) -> 0 | Q29: 1985 | R29: 13557
Q30: 1986 | R30: 16811.4
Q31: 1987 | R31: 20510
A32: OFERENTE | B32: 2 | C32: =VLOOKUP(B32,Conformación!$A$5:$S$125,2,FALSE) -> 0 | Q32: 1988 | R32: 25637.4
C33: =VLOOKUP(B32,Conformación!$A$5:$S$125,4,FALSE) -> 0 | Q33: 1989 | R33: 32559.6
Q34: 1990 | R34: 41025
A35: CARGO | B35: NOMBRE | C35: TARJETA PROFESIONAL | D35: FECHA EXPEDICIÓN | F35: PROFESION | G35: POSGRADO | H35: OBJETO | I35: FECHA TERMINACIÓN PROYECTO | J35: VALOR | K35: SMMLV | L35: REQUERIMIENTO PARTICULAR QUE ACREDITA | M35: ARCHIVO | N35: OBSERVACIONES | Q35: 1991 | R35: 51716.1
A36: =A$7 -> Residente de Obra | E36: =IF(D36=0,0,IF(D36<D$7,"CUMPLE EL TIEMPO MÍNIMO REQUERIDO DE HABER TERMINADO Y APROBADO ESTUDIOS","NO CUMPLE EL TIEMPO MÍNIMO REQUERIDO DE HABER TERMINADO Y APROBADO ESTUDIOS")) -> 0 | K36: =IF(J36=0,0,IF(I36<D$36,"EXPERIENCIA ADQUIRIDA ANTES DEL GRADO",J36/VLOOKUP(YEAR(I36),$Q$1:$R$64,2,0))) -> 0 | L36: =IF(K36>=K$7,"cumple",0) -> 0 | Q36: 1992 | R36: 65190
K37: =IF(J37=0,0,IF(I37<D$36,"EXPERIENCIA ADQUIRIDA ANTES DEL GRADO",J37/VLOOKUP(YEAR(I37),$Q$1:$R$64,2,0))) -> 0 | L37: =IF(K37>=K$7,"cumple",0) -> 0 | Q37: 1993 | R37: 81510
K38: =IF(J38=0,0,IF(I38<D$36,"EXPERIENCIA ADQUIRIDA ANTES DEL GRADO",J38/VLOOKUP(YEAR(I38),$Q$1:$R$64,2,0))) -> 0 | L38: =IF(K38>=K$7,"cumple",0) -> 0 | Q38: 1994 | R38: 98700
K39: =IF(J39=0,0,IF(I39<D$36,"EXPERIENCIA ADQUIRIDA ANTES DEL GRADO",J39/VLOOKUP(YEAR(I39),$Q$1:$R$64,2,0))) -> 0 | L39: =IF(K39>=K$7,"cumple",0) -> 0 | Q39: 1995 | R39: 118933.5
K40: =IF(J40=0,0,IF(I40<D$36,"EXPERIENCIA ADQUIRIDA ANTES DEL GRADO",J40/VLOOKUP(YEAR(I40),$Q$1:$R$64,2,0))) -> 0 | L40: =IF(K40>=K$7,"cumple",0) -> 0 | Q40: 1996 | R40: 142125
...

Sheet Exp. profesionales (2)
A1: =+#REF! -> #REF! | P1: 1957 | Q1: 155.4
P2: 1958 | Q2: 155.4
P3: 1959 | Q3: 155.4
A4: REQUISITOS MINIMOS - PERSONAL PRINCIPAL REQUERIDO - CUMPLE/ NO CUMPLE | P4: 1960 | Q4: 198
P5: 1961
A6: CARGO A DESEMPEÑAR | B6: FORMACIÓN ACADÉMICA | C6: TIEMPO MÍNIMO REQUERIDO DE HABER TERMINADO Y APROBADO ESTUDIOS (EN AÑOS) | E6: NUMERO DE PROYECTOS A ACREDITAR | F6: EXPERIENCIA ESPECÍFICA | H6: REQUERIMIENTO PARTICULAR | J6: REQUISITO MINIMO EN SMMLV | K6: REQUISITO MINIMO EN AÑOS | P6: 1962 | Q6: 300
